BEGIN:VCALENDAR
VERSION:2.0
PRODID:-//Invest in Angus - ECPv6.15.17.1//NONSGML v1.0//EN
CALSCALE:GREGORIAN
METHOD:PUBLISH
X-WR-CALNAME:Invest in Angus
X-ORIGINAL-URL:https://investinangus.com
X-WR-CALDESC:Events for Invest in Angus
REFRESH-INTERVAL;VALUE=DURATION:PT1H
X-Robots-Tag:noindex
X-PUBLISHED-TTL:PT1H
BEGIN:VTIMEZONE
TZID:UTC
BEGIN:STANDARD
TZOFFSETFROM:+0000
TZOFFSETTO:+0000
TZNAME:UTC
DTSTART:20240101T000000
END:STANDARD
END:VTIMEZONE
BEGIN:VEVENT
DTSTART;TZID=UTC:20250820T130000
DTEND;TZID=UTC:20250820T150000
DTSTAMP:20260418T230344
CREATED:20250808T121414Z
LAST-MODIFIED:20250808T121414Z
UID:10091733-1755694800-1755702000@investinangus.com
SUMMARY:Scaling lead generation and developing a clear value proposition
DESCRIPTION:How to grow your business by scaling your lead generation with Laura Burton \n\nHow to design a scalable online lead generation system\nThe key assets and tools you need to do the heavy lifting for you (yes\, we’ll talk AI)\nWhat to consider before you scale your leads (There might be another way to grow)\n\nDeveloping a clear value proposition with Leisa Pickles \n\nDiscover the three essential ingredients of a killer value proposition\nLearn how to reflect your customer’s exact needs using their own language to build connection and trust\nExplore how to communicate your value clearly on social media to attract better-fit leads and generate more interest
URL:https://investinangus.com/event/scaling-lead-generation-and-developing-a-clear-value-proposition/
CATEGORIES:Business Planning,Digital Marketing
END:VEVENT
END:VCALENDAR