BEGIN:VCALENDAR
VERSION:2.0
PRODID:-//Invest in Angus - ECPv6.15.17.1//NONSGML v1.0//EN
CALSCALE:GREGORIAN
METHOD:PUBLISH
X-WR-CALNAME:Invest in Angus
X-ORIGINAL-URL:https://investinangus.com
X-WR-CALDESC:Events for Invest in Angus
REFRESH-INTERVAL;VALUE=DURATION:PT1H
X-Robots-Tag:noindex
X-PUBLISHED-TTL:PT1H
BEGIN:VTIMEZONE
TZID:UTC
BEGIN:STANDARD
TZOFFSETFROM:+0000
TZOFFSETTO:+0000
TZNAME:UTC
DTSTART:20210101T000000
END:STANDARD
END:VTIMEZONE
BEGIN:VEVENT
DTSTART;TZID=UTC:20220303T090000
DTEND;TZID=UTC:20220303T170000
DTSTAMP:20260422T163938
CREATED:20220131T111801Z
LAST-MODIFIED:20220131T111801Z
UID:10084034-1646298000-1646326800@investinangus.com
SUMMARY:Meet The Adviser - General Surgery
DESCRIPTION:Whether you are thinking about starting a business or you have already started one\, the Meet the Adviser General Surgery is an opportunity to meet with one of the Business Gateway Tayside team over Zoom to ask any business related questions you may have. \nWe have slots throughout the day and you will be matched up with an adviser that suits whichever stage of running a business you are at.
URL:https://investinangus.com/event/meet-the-adviser-general-surgery-4/
CATEGORIES:Business Planning,Business Start-up
END:VEVENT
BEGIN:VEVENT
DTSTART;TZID=UTC:20220303T180000
DTEND;TZID=UTC:20220303T200000
DTSTAMP:20260422T163938
CREATED:20211220T161834Z
LAST-MODIFIED:20211220T161834Z
UID:10083812-1646330400-1646337600@investinangus.com
SUMMARY:Start-Up: Awareness
DESCRIPTION:This workshop aims to make you aware of the various requirements involved in setting up a business. \nThe workshop will provide you with the opportunity to network with other business owners and will also highlight useful sources of information\, advice and guidance.  \nThis webinar is for businesses based in Dundee\, Angus or Perth.
URL:https://investinangus.com/event/start-up-awareness-3/
CATEGORIES:Business Start-up
END:VEVENT
BEGIN:VEVENT
DTSTART;TZID=UTC:20220303T180000
DTEND;TZID=UTC:20220303T200000
DTSTAMP:20260422T163938
CREATED:20220216T112937Z
LAST-MODIFIED:20220216T112937Z
UID:10084122-1646330400-1646337600@investinangus.com
SUMMARY:An Introduction to Self-Employment and Starting your own Business
DESCRIPTION:This workshop aims to make you aware of the various requirements involved in setting up a business. \nThe workshop will provide you with the opportunity to network with other business owners and will also highlight useful sources of information\, advice and guidance. \nThis webinar is for businesses based in Dundee\, Angus or Perth.
URL:https://investinangus.com/event/an-introduction-to-self-employment-and-starting-your-own-business/
CATEGORIES:Business Start-up
END:VEVENT
BEGIN:VEVENT
DTSTART;TZID=UTC:20220307T180000
DTEND;TZID=UTC:20220307T200000
DTSTAMP:20260422T163938
CREATED:20211220T162016Z
LAST-MODIFIED:20211220T162016Z
UID:10083816-1646676000-1646683200@investinangus.com
SUMMARY:Start-Up: Business Planning
DESCRIPTION:This webinar will help you create a robust business plan. \nThe webinar will look at: \n\ncreating a description for your business\nthe business planning process\nefficient ways of obtaining skills and resources\npresenting your business plan
URL:https://investinangus.com/event/start-up-business-planning-3/
CATEGORIES:Business Planning,Business Start-up
END:VEVENT
BEGIN:VEVENT
DTSTART;TZID=UTC:20220308T180000
DTEND;TZID=UTC:20220308T200000
DTSTAMP:20260422T163938
CREATED:20220221T095142Z
LAST-MODIFIED:20220221T095142Z
UID:10084170-1646762400-1646769600@investinangus.com
SUMMARY:Starting a business: Everything you need to know
DESCRIPTION:Whatever your reasons may be for considering being your own boss\, Business Gateway is here to support you and this webinar will help you decide if this is the right path for you. We will explore your potential customers\, the problems your business can solve for them and how you can do that better than the competition. Once that is clear\, we will look at the key activities and costs involved in starting and running the business and tools for determining the commercial viability before considering the main options for business structures (sole trader\, partnership\, or limited company). \nWe will look at: \n\nPersonal finance planning – how much do you need to earn?\nResearching your market – to develop an understanding of your market\, who your customers are\, understanding your competition and what the trends are within your chosen field.\nBusiness structure – what are the main business structures? How to decide which is right for you and how to register as a business.\nCreating your start-up action plan – an outline.
URL:https://investinangus.com/event/starting-a-business-everything-you-need-to-know-22/
CATEGORIES:Business Start-up
END:VEVENT
BEGIN:VEVENT
DTSTART;TZID=UTC:20220309T090000
DTEND;TZID=UTC:20220309T170000
DTSTAMP:20260422T163938
CREATED:20220131T111839Z
LAST-MODIFIED:20220131T111839Z
UID:10084036-1646816400-1646845200@investinangus.com
SUMMARY:Meet The Adviser - General Surgery
DESCRIPTION:Whether you are thinking about starting a business or you have already started one\, the Meet the Adviser General Surgery is an opportunity to meet with one of the Business Gateway Tayside team over Zoom to ask any business related questions you may have. \nWe have slots throughout the day and you will be matched up with an adviser that suits whichever stage of running a business you are at.
URL:https://investinangus.com/event/meet-the-adviser-general-surgery-5/
CATEGORIES:Business Planning,Business Start-up
END:VEVENT
BEGIN:VEVENT
DTSTART;TZID=UTC:20220310T140000
DTEND;TZID=UTC:20220310T160000
DTSTAMP:20260422T163938
CREATED:20220221T095506Z
LAST-MODIFIED:20220221T095506Z
UID:10084176-1646920800-1646928000@investinangus.com
SUMMARY:Generating ideas for your business
DESCRIPTION:Many people would like to start their own business but don’t have a business idea to focus on. This session will help you: \n1. Clarify your motivation behind starting your own business \n2. Appreciate your skills and experiences \n3. Use a range of techniques for generating new business ideas \n4. Gain an appreciation of how to evaluate these ideas \n5. Prepare to get started!
URL:https://investinangus.com/event/generating-ideas-for-your-business-5/
CATEGORIES:Business Start-up
END:VEVENT
BEGIN:VEVENT
DTSTART;TZID=UTC:20220314T180000
DTEND;TZID=UTC:20220314T200000
DTSTAMP:20260422T163938
CREATED:20211220T162102Z
LAST-MODIFIED:20211220T162102Z
UID:10083818-1647280800-1647288000@investinangus.com
SUMMARY:Business Start-Up: Finance
DESCRIPTION:The workshop will look at: \n\nmanaging a profit and loss account\nproducing a cashflow statement\nworking capital\nthe different sources of finance\nthe different legal structures of a business
URL:https://investinangus.com/event/business-start-up-finance-18/
CATEGORIES:Business Start-up,Finance
END:VEVENT
BEGIN:VEVENT
DTSTART;TZID=UTC:20220324T140000
DTEND;TZID=UTC:20220324T160000
DTSTAMP:20260422T163938
CREATED:20220221T100413Z
LAST-MODIFIED:20220221T100413Z
UID:10084198-1648130400-1648137600@investinangus.com
SUMMARY:Starting a business: Everything you need to know
DESCRIPTION:Whatever your reasons may be for considering being your own boss\, Business Gateway is here to support you and this webinar will help you decide if this is the right path for you. We will explore your potential customers\, the problems your business can solve for them and how you can do that better than the competition. Once that is clear\, we will look at the key activities and costs involved in starting and running the business and tools for determining the commercial viability before considering the main options for business structures (sole trader\, partnership\, or limited company). \nWe will look at: \n\nPersonal finance planning – how much do you need to earn?\nResearching your market – to develop an understanding of your market\, who your customers are\, understanding your competition and what the trends are within your chosen field.\nBusiness structure – what are the main business structures? How to decide which is right for you and how to register as a business.\nCreating your start-up action plan – an outline.
URL:https://investinangus.com/event/starting-a-business-everything-you-need-to-know-23/
CATEGORIES:Business Start-up
END:VEVENT
BEGIN:VEVENT
DTSTART;TZID=UTC:20220324T173000
DTEND;TZID=UTC:20220324T193000
DTSTAMP:20260422T163938
CREATED:20220221T100452Z
LAST-MODIFIED:20220221T100452Z
UID:10084200-1648143000-1648150200@investinangus.com
SUMMARY:Generating ideas for your business
DESCRIPTION:Many people would like to start their own business but don’t have a business idea to focus on. This session will help you: \n1. Clarify your motivation behind starting your own business \n2. Appreciate your skills and experiences \n3. Use a range of techniques for generating new business ideas \n4. Gain an appreciation of how to evaluate these ideas \n5. Prepare to get started!
URL:https://investinangus.com/event/generating-ideas-for-your-business-6/
CATEGORIES:Business Start-up
END:VEVENT
BEGIN:VEVENT
DTSTART;TZID=UTC:20220330T090000
DTEND;TZID=UTC:20220330T170000
DTSTAMP:20260422T163938
CREATED:20220131T112028Z
LAST-MODIFIED:20220131T112028Z
UID:10084042-1648630800-1648659600@investinangus.com
SUMMARY:Meet The Advisor - General Surgery
DESCRIPTION:Whether you are thinking about starting a business or you have already started one\, the Meet the Adviser General Surgery is an opportunity to meet with one of the Business Gateway Tayside team over Zoom to ask any business related questions you may have. \nWe have slots throughout the day and you will be matched up with an adviser that suits whichever stage of running a business you are at.
URL:https://investinangus.com/event/meet-the-advisor-general-surgery/
CATEGORIES:Business Planning,Business Start-up
END:VEVENT
BEGIN:VEVENT
DTSTART;TZID=UTC:20220331T130000
DTEND;TZID=UTC:20220331T143000
DTSTAMP:20260422T163938
CREATED:20211220T162152Z
LAST-MODIFIED:20211220T162152Z
UID:10083820-1648731600-1648737000@investinangus.com
SUMMARY:Young Entrepreneur Starter Pack - Part 1: Ideas Generation & Researching your Idea
DESCRIPTION:Aged 16-25 and ready to start your entrepreneurial journey? This webinar series will show you how to break into business. \nThis specialist two stage webinar series will provide you with the inspiration\, tools\, and knowledge to start your own business. From developing initial ideas to structuring and funding your business\, you will feel confident\, motivated\, and ready to begin your start-up journey! \nDuring this webinar\, we will help you work through the creative process to come up with a concept you love and test out whether you have the foundations of a successful business. After this session\, you will have a clear understanding of how to undertake the creative process of generating\, developing\, and communicating new thoughts and ideas. You will also recognise the importance of conducting market research and how to use the Business Model Canvas which will support you to form the building blocks needed for business success.
URL:https://investinangus.com/event/young-entrepreneur-starter-pack-part-1-ideas-generation-researching-your-idea-10/
CATEGORIES:Business Start-up
END:VEVENT
BEGIN:VEVENT
DTSTART;TZID=UTC:20220331T150000
DTEND;TZID=UTC:20220331T170000
DTSTAMP:20260422T163938
CREATED:20211220T162234Z
LAST-MODIFIED:20211220T162234Z
UID:10083822-1648738800-1648746000@investinangus.com
SUMMARY:Young Entrepreneur Starter Pack - Part 2: Structuring your Business and exploring Financials/Funding
DESCRIPTION:Aged 16-25 and ready to start your entrepreneurial journey? This webinar series will show you how to break into business. \nThis specialist two stage webinar series will provide you with the inspiration\, tools\, and knowledge to start your own business. From developing initial ideas to structuring and funding your business\, you will feel confident\, motivated\, and ready to begin your start-up journey! During this webinar\, we will run through everything you need to know when it comes to setting up your business including legal and tax requirements\, cash flow forecasting and funding options\, and everything else in-between. \nAfter this session\, you will come away with a to-do list and the information needed to help you prepare for kickstarting your ideas. You will have a sound knowledge of start-up costs\, fixed and variable costs\, cash flow forecasts\, a personal survival budget and funding options.
URL:https://investinangus.com/event/young-entrepreneur-starter-pack-part-2-structuring-your-business-and-exploring-financials-funding-10/
CATEGORIES:Business Start-up
END:VEVENT
END:VCALENDAR