BEGIN:VCALENDAR
VERSION:2.0
PRODID:-//Invest in Angus - ECPv6.15.17.1//NONSGML v1.0//EN
CALSCALE:GREGORIAN
METHOD:PUBLISH
X-ORIGINAL-URL:https://investinangus.com
X-WR-CALDESC:Events for Invest in Angus
REFRESH-INTERVAL;VALUE=DURATION:PT1H
X-Robots-Tag:noindex
X-PUBLISHED-TTL:PT1H
BEGIN:VTIMEZONE
TZID:UTC
BEGIN:STANDARD
TZOFFSETFROM:+0000
TZOFFSETTO:+0000
TZNAME:UTC
DTSTART:20210101T000000
END:STANDARD
END:VTIMEZONE
BEGIN:VEVENT
DTSTART;TZID=UTC:20220509T180000
DTEND;TZID=UTC:20220509T203000
DTSTAMP:20260422T131458
CREATED:20220502T130652Z
LAST-MODIFIED:20220502T130652Z
UID:10084506-1652119200-1652128200@investinangus.com
SUMMARY:An Introduction to Self-Employment and Starting your own Business
DESCRIPTION:The workshop will provide you with the opportunity to network with other business owners and will also highlight useful sources of information\, advice and guidance. \nThis webinar is for businesses based in Dundee\, Angus or Perth.
URL:https://investinangus.com/event/an-introduction-to-self-employment-and-starting-your-own-business-2/
CATEGORIES:Business Start-up
END:VEVENT
BEGIN:VEVENT
DTSTART;TZID=UTC:20220511T140000
DTEND;TZID=UTC:20220511T160000
DTSTAMP:20260422T131458
CREATED:20220425T090951Z
LAST-MODIFIED:20220425T090951Z
UID:10084483-1652277600-1652284800@investinangus.com
SUMMARY:Starting a business: Everything you need to know
DESCRIPTION:Whatever your reasons may be for considering being your own boss\, Business Gateway is here to support you and this webinar will help you decide if this is the right path for you. We will explore your potential customers\, the problems your business can solve for them and how you can do that better than the competition. Once that is clear\, we will look at the key activities and costs involved in starting and running the business and tools for determining the commercial viability before considering the main options for business structures (sole trader\, partnership\, or limited company). \nWe will look at: \n\nPersonal finance planning – how much do you need to earn?\nResearching your market – to develop an understanding of your market\, who your customers are\, understanding your competition and what the trends are within your chosen field.\nBusiness structure – what are the main business structures? How to decide which is right for you and how to register as a business.\nCreating your start-up action plan – an outline.
URL:https://investinangus.com/event/starting-a-business-everything-you-need-to-know-26/
CATEGORIES:Business Start-up
END:VEVENT
BEGIN:VEVENT
DTSTART;TZID=UTC:20220512T180000
DTEND;TZID=UTC:20220512T203000
DTSTAMP:20260422T131458
CREATED:20220502T130737Z
LAST-MODIFIED:20220502T130737Z
UID:10084508-1652378400-1652387400@investinangus.com
SUMMARY:How to write a Business Plan and why you need one
DESCRIPTION:This webinar will help you create a robust business plan. \nThe webinar will look at: \n\ncreating a description for your business\nthe business planning process\nefficient ways of obtaining skills and resources\npresenting your business plan
URL:https://investinangus.com/event/how-to-write-a-business-plan-and-why-you-need-one-3/
CATEGORIES:Business Planning,Business Start-up
END:VEVENT
BEGIN:VEVENT
DTSTART;TZID=UTC:20220519T100000
DTEND;TZID=UTC:20220519T120000
DTSTAMP:20260422T131458
CREATED:20220502T131630Z
LAST-MODIFIED:20220502T131630Z
UID:10084514-1652954400-1652961600@investinangus.com
SUMMARY:Writing a business plan – Why it's essential for ALL businesses
DESCRIPTION:Just starting up or looking to update your business plan to get funding or take forward developments? Then this session is for you. \nWe will walk you through what should be included within a business plan\, how a business plan is used to improve your prospects for a loan or a grant and how you can develop a business plan to meet your needs. \nWe will cover: \n\nThe business plan structure\nWhat should be included within each section\nWhen and how to use a business plan\nThe connections (and importance) between the words and the numbers\nHow to identify and manage cashflow within the business planning process
URL:https://investinangus.com/event/writing-a-business-plan-why-its-essential-for-all-businesses-24/
CATEGORIES:Business Planning,Business Start-up
END:VEVENT
BEGIN:VEVENT
DTSTART;TZID=UTC:20220519T180000
DTEND;TZID=UTC:20220519T200000
DTSTAMP:20260422T131458
CREATED:20220502T131710Z
LAST-MODIFIED:20220502T131710Z
UID:10084516-1652983200-1652990400@investinangus.com
SUMMARY:Complete Guide to Finance for Start-ups
DESCRIPTION:The workshop will look at: \n\nmanaging a profit and loss account\nproducing a cashflow statement\nworking capital\n\n\nthe different sources of finance\nthe different legal structures of a business\n\nThere will also be information on additional services from Business Gateway and details of other workshops which may be appropriate for you. \nThis webinar is aimed at businesses based in Dundee\, Angus and Perth.
URL:https://investinangus.com/event/complete-guide-to-finance-for-start-ups-2/
CATEGORIES:Business Start-up,Finance
END:VEVENT
BEGIN:VEVENT
DTSTART;TZID=UTC:20220519T180000
DTEND;TZID=UTC:20220519T200000
DTSTAMP:20260422T131458
CREATED:20220502T131744Z
LAST-MODIFIED:20220502T131744Z
UID:10084518-1652983200-1652990400@investinangus.com
SUMMARY:Generating ideas for your business
DESCRIPTION:Many people would like to start their own business but don’t have a business idea to focus on. This session will help you: \n1. Clarify your motivation behind starting your own business \n2. Appreciate your skills and experiences \n3. Use a range of techniques for generating new business ideas \n4. Gain an appreciation of how to evaluate these ideas \n5. Prepare to get started!
URL:https://investinangus.com/event/generating-ideas-for-your-business-10/
CATEGORIES:Business Start-up
END:VEVENT
BEGIN:VEVENT
DTSTART;TZID=UTC:20220525T180000
DTEND;TZID=UTC:20220525T200000
DTSTAMP:20260422T131458
CREATED:20220502T132246Z
LAST-MODIFIED:20220502T132246Z
UID:10084530-1653501600-1653508800@investinangus.com
SUMMARY:Starting a business: Everything you need to know
DESCRIPTION:Whatever your reasons may be for considering being your own boss\, Business Gateway is here to support you and this webinar will help you decide if this is the right path for you. We will explore your potential customers\, the problems your business can solve for them and how you can do that better than the competition. Once that is clear\, we will look at the key activities and costs involved in starting and running the business and tools for determining the commercial viability before considering the main options for business structures (sole trader\, partnership\, or limited company). \nWe will look at: \n\nPersonal finance planning – how much do you need to earn?\nResearching your market – to develop an understanding of your market\, who your customers are\, understanding your competition and what the trends are within your chosen field.\nBusiness structure – what are the main business structures? How to decide which is right for you and how to register as a business.\nCreating your start-up action plan – an outline.
URL:https://investinangus.com/event/starting-a-business-everything-you-need-to-know-27/
CATEGORIES:Business Planning,Business Start-up
END:VEVENT
END:VCALENDAR