BEGIN:VCALENDAR
VERSION:2.0
PRODID:-//Invest in Angus - ECPv6.15.17.1//NONSGML v1.0//EN
CALSCALE:GREGORIAN
METHOD:PUBLISH
X-WR-CALNAME:Invest in Angus
X-ORIGINAL-URL:https://investinangus.com
X-WR-CALDESC:Events for Invest in Angus
REFRESH-INTERVAL;VALUE=DURATION:PT1H
X-Robots-Tag:noindex
X-PUBLISHED-TTL:PT1H
BEGIN:VTIMEZONE
TZID:UTC
BEGIN:STANDARD
TZOFFSETFROM:+0000
TZOFFSETTO:+0000
TZNAME:UTC
DTSTART:20210101T000000
END:STANDARD
END:VTIMEZONE
BEGIN:VEVENT
DTSTART;TZID=UTC:20220705T180000
DTEND;TZID=UTC:20220705T200000
DTSTAMP:20260422T060122
CREATED:20220613T102430Z
LAST-MODIFIED:20220613T102430Z
UID:10084830-1657044000-1657051200@investinangus.com
SUMMARY:An Introduction to Self-Employment and Starting your own Business
DESCRIPTION:The workshop will provide you with the opportunity to network with other business owners and will also highlight useful sources of information\, advice and guidance. \nThis webinar is for businesses based in Dundee\, Angus or Perth.
URL:https://investinangus.com/event/an-introduction-to-self-employment-and-starting-your-own-business-4/
CATEGORIES:Business Start-up
END:VEVENT
BEGIN:VEVENT
DTSTART;TZID=UTC:20220707T180000
DTEND;TZID=UTC:20220707T200000
DTSTAMP:20260422T060122
CREATED:20220613T102611Z
LAST-MODIFIED:20220613T102611Z
UID:10084832-1657216800-1657224000@investinangus.com
SUMMARY:Complete Guide to Finance for Starting a Business
DESCRIPTION:The workshop will look at: \n\nmanaging a profit and loss account\nproducing a cashflow statement\nworking capital\nthe different sources of finance\nthe different legal structures of a business\n\nThere will also be information on additional services from Business Gateway and details of other workshops which may be appropriate for you. \nThis webinar is aimed at businesses based in Dundee\, Angus and Perth.
URL:https://investinangus.com/event/complete-guide-to-finance-for-starting-a-business/
CATEGORIES:Business Start-up,Finance
END:VEVENT
BEGIN:VEVENT
DTSTART;TZID=UTC:20220712T100000
DTEND;TZID=UTC:20220712T120000
DTSTAMP:20260422T060122
CREATED:20220627T085633Z
LAST-MODIFIED:20220627T085633Z
UID:10084931-1657620000-1657627200@investinangus.com
SUMMARY:The essentials of bookkeeping and what expenses you can claim
DESCRIPTION:This webinar is for those who are entering business for the first time or require an understanding of what is involved in financially managing a business\, including basic bookkeeping\, and creating a profit and loss account. You will also get an understanding of what expenses the business can claim and then how to fund your business. At the end of the session\, you will receive a workbook on excel to help you manage and monitor costs and sales. \nAt the end of this session\, you will be able to: \n\nImplement basic bookkeeping skills across your business\nCreate a profit and loss account\nUnderstand what expenses can and cannot be claimed\nUse financial management to increase revenues and profits\nUnderstand capital and revenue costs and how they are treated
URL:https://investinangus.com/event/the-essentials-of-bookkeeping-and-what-expenses-you-can-claim/
CATEGORIES:Business Start-up,Finance
END:VEVENT
BEGIN:VEVENT
DTSTART;TZID=UTC:20220714T180000
DTEND;TZID=UTC:20220714T200000
DTSTAMP:20260422T060122
CREATED:20220613T103037Z
LAST-MODIFIED:20220613T103037Z
UID:10084840-1657821600-1657828800@investinangus.com
SUMMARY:How to write a Business Plan and why you need one
DESCRIPTION:This webinar will help you create a robust business plan. \nThe webinar will look at: \n\ncreating a description for your business\nthe business planning process\nefficient ways of obtaining skills and resources\npresenting your business plan\n\nThere will also be information on additional services from Business Gateway and details of other webinars which may be appropriate for you.  \nThis webinar is for businesses based in Dundee\, Angus and Perth.
URL:https://investinangus.com/event/how-to-write-a-business-plan-and-why-you-need-one-4/
CATEGORIES:Business Planning,Business Start-up
END:VEVENT
BEGIN:VEVENT
DTSTART;TZID=UTC:20220719T140000
DTEND;TZID=UTC:20220719T160000
DTSTAMP:20260422T060122
CREATED:20220627T090033Z
LAST-MODIFIED:20220627T090033Z
UID:10084939-1658239200-1658246400@investinangus.com
SUMMARY:How to start a business: The basics
DESCRIPTION:Whatever your reasons may be for considering being your own boss\, Business Gateway is here to support you and help you decide if this is right path for you. Helping you consider your plans from exploring your potential customers to looking at the key activities and costs involved. \nWe will cover: \n\nPersonal finance planning – how much do you need to earn?\nResearching your Market – who your customers are\, understanding your competition and what the trends are within your chosen field\nBusiness Structure – what are the core business structures? How to decide which is right for you and how to register as a business\nCreating your start-up action plan – an outline\nHow much do I need to earn?\nMarketing\nPricing\nNaming the business\nBasic Bookkeeping\nForecasting\nFinancing\, banking\, insurance\, and VAT\nTax
URL:https://investinangus.com/event/how-to-start-a-business-the-basics/
CATEGORIES:Business Start-up
END:VEVENT
BEGIN:VEVENT
DTSTART;TZID=UTC:20220721T093000
DTEND;TZID=UTC:20220721T113000
DTSTAMP:20260422T060122
CREATED:20220627T092240Z
LAST-MODIFIED:20220627T092240Z
UID:10084943-1658395800-1658403000@investinangus.com
SUMMARY:How to write and develop your business plan
DESCRIPTION:New and established businesses will require a business plan for getting a loan\, grant or just to consider the direction they wish to go in. This webinar will teach you what you need to include and how. \nWe will walk you through what should be included within a business plan\, how a business plan is used to improve your prospects for a loan or a grant and how you can develop a business plan to meet your needs. \nWe will: \n\nProvide a structure for a Business Plan\nReview each section of what should be included within the Business Plan\nExplain when and how to use a business plan\nExplore the connections (and importance) between the words and the numbers\nLook at how to identify and manage cashflow within the business planning process
URL:https://investinangus.com/event/how-to-write-and-develop-your-business-plan/
CATEGORIES:Business Planning,Business Start-up
END:VEVENT
BEGIN:VEVENT
DTSTART;TZID=UTC:20220725T130000
DTEND;TZID=UTC:20220725T150000
DTSTAMP:20260422T060122
CREATED:20220627T092444Z
LAST-MODIFIED:20220627T092444Z
UID:10084947-1658754000-1658761200@investinangus.com
SUMMARY:The essentials of bookkeeping and what expenses you can claim
DESCRIPTION:This webinar is for those who are entering business for the first time or require an understanding of what is involved in financially managing a business\, including basic bookkeeping\, and creating a profit and loss account. You will also get an understanding of what expenses the business can claim and then how to fund your business. At the end of the session\, you will receive a workbook on excel to help you manage and monitor costs and sales. \nAt the end of this session\, you will be able to: \n\nImplement basic bookkeeping skills across your business\nCreate a profit and loss account\nUnderstand what expenses can and cannot be claimed\nUse financial management to increase revenues and profits\nUnderstand capital and revenue costs and how they are treated
URL:https://investinangus.com/event/the-essentials-of-bookkeeping-and-what-expenses-you-can-claim-2/
CATEGORIES:Business Start-up,Finance
END:VEVENT
BEGIN:VEVENT
DTSTART;TZID=UTC:20220727T180000
DTEND;TZID=UTC:20220727T190000
DTSTAMP:20260422T060122
CREATED:20220627T092540Z
LAST-MODIFIED:20220627T092540Z
UID:10084949-1658944800-1658948400@investinangus.com
SUMMARY:Learning Zone – Successfully starting a business
DESCRIPTION:So many start-up businesses fail due to lack of planning. This webinar will be a short and sharp overview of what you need to think about to ensure your business is sustainable. Avoid the pitfalls when starting up. \n\nWhy start-ups fail (cash\, time\, market research).\nSpend time researching your idea.\nWill you be a sole trader or a limited company?\nWhat are your main revenue streams?\nWhat are your main start up and running costs?\nWhat assets\, resources and people do you need?
URL:https://investinangus.com/event/learning-zone-successfully-starting-a-business/
CATEGORIES:Business Start-up
END:VEVENT
END:VCALENDAR