BEGIN:VCALENDAR
VERSION:2.0
PRODID:-//Invest in Angus - ECPv6.15.17.1//NONSGML v1.0//EN
CALSCALE:GREGORIAN
METHOD:PUBLISH
X-WR-CALNAME:Invest in Angus
X-ORIGINAL-URL:https://investinangus.com
X-WR-CALDESC:Events for Invest in Angus
REFRESH-INTERVAL;VALUE=DURATION:PT1H
X-Robots-Tag:noindex
X-PUBLISHED-TTL:PT1H
BEGIN:VTIMEZONE
TZID:UTC
BEGIN:STANDARD
TZOFFSETFROM:+0000
TZOFFSETTO:+0000
TZNAME:UTC
DTSTART:20210101T000000
END:STANDARD
END:VTIMEZONE
BEGIN:VEVENT
DTSTART;TZID=UTC:20221003T090000
DTEND;TZID=UTC:20221007T170000
DTSTAMP:20260419T071445
CREATED:20220914T111749Z
LAST-MODIFIED:20220914T111749Z
UID:10085465-1664787600-1665162000@investinangus.com
SUMMARY:Scottish Business Week 2022
DESCRIPTION:Registrations are now open for Scottish Business Week 2022 – a virtual week-long event between the 3rd – 7th October\, run in partnership with Scottish Enterprise\, Highlands and Islands Enterprise\, South of Scotland Enterprise and Skills Development Scotland. \nThis free event is open to all businesses in Scotland and anyone thinking about starting up. There will be inspirational speakers\, webinars and masterclasses offering support and guidance to help increase efficiency and build resilience. \nKeynote speakers include: \n\nCouncillor Gail Macgregor\, Environment and Economy Spokesperson\, COSLA\nCarolyn Currie\, Chief Executive\, Women’s Enterprise Scotland\nAndrew Dobbie\, Founder/CEO\, MadeBrave\nDr Martin Valenti\, Director of Net Zero\, SOSE\nIvan McKee\, Minister for Business\, Trade\, Tourism and Enterprise\, Scottish Government\n\nThere will also be panel webinars on business support\, starting up\, women in business\, digital transformation and sustainability; together with webinars and masterclasses on a variety of topics from how to make your business more efficient to writing a business plan. Plus\, you can learn the fundamentals of resource efficiency and become a Green Champion through Business Energy Scotland’s CPD-certified training course. \nSign up to guarantee your place\, and for more information on the programme.
URL:https://investinangus.com/event/scottish-business-week-2022/
CATEGORIES:Business Planning,Business Start-up,Sustainable/Circular Economy,Technology
END:VEVENT
BEGIN:VEVENT
DTSTART;TZID=UTC:20221011T180000
DTEND;TZID=UTC:20221011T200000
DTSTAMP:20260419T071445
CREATED:20220920T145922Z
LAST-MODIFIED:20220920T145922Z
UID:10085481-1665511200-1665518400@investinangus.com
SUMMARY:An Introduction to Self-Employment and Starting your own Business
DESCRIPTION:The workshop will provide you with the opportunity to network with other business owners and will also highlight useful sources of information\, advice and guidance. \nThere will also be information on additional services from Business Gateway and details of other webinars which may be appropriate for you.  \nThis webinar is for businesses based in Dundee\, Angus and Perth.
URL:https://investinangus.com/event/an-introduction-to-self-employment-and-starting-your-own-business-9/
CATEGORIES:Business Start-up
END:VEVENT
BEGIN:VEVENT
DTSTART;TZID=UTC:20221013T180000
DTEND;TZID=UTC:20221013T200000
DTSTAMP:20260419T071445
CREATED:20221003T100828Z
LAST-MODIFIED:20221003T100828Z
UID:10085608-1665684000-1665691200@investinangus.com
SUMMARY:How to start a business: The basics
DESCRIPTION:Whatever your reasons may be for considering being your own boss\, Business Gateway is here to support you and help you decide if this is the right path for you. Helping you consider your plans from exploring your potential customers to looking at the key activities and costs involved. \nWe will cover: \n\nPersonal finance planning – how much do you need to earn?\nResearching your market – who your customers are\, understanding your competition and what the trends are within your chosen field\nBusiness structure – what are the core business structures? How to decide which is right for you and how to register as a business\nCreating your start-up action plan – an outline\nMarketing\nPricing\nNaming the business\nBasic bookkeeping\nForecasting\nFinancing\, banking\, insurance\, and VAT\nTax
URL:https://investinangus.com/event/how-to-start-a-business-the-basics-4/
CATEGORIES:Business Start-up
END:VEVENT
BEGIN:VEVENT
DTSTART;TZID=UTC:20221019T100000
DTEND;TZID=UTC:20221019T110000
DTSTAMP:20260419T071445
CREATED:20221003T101429Z
LAST-MODIFIED:20221003T101429Z
UID:10085618-1666173600-1666177200@investinangus.com
SUMMARY:Learning Zone – Successfully starting a business
DESCRIPTION:So many start-up businesses fail due to lack of planning. This webinar will be a short and sharp overview of what you need to think about to ensure your business is sustainable and avoids the pitfalls when starting up. \nWe will cover: \n\nWhy start-ups fail (cash\, time\, market research)\nSpend time researching your idea\nWill you be a sole trader or a limited company?\nWhat are your main revenue streams?\nWhat are your main start up and running costs?\nWhat assets\, resources and people do you need?
URL:https://investinangus.com/event/learning-zone-successfully-starting-a-business-3/
CATEGORIES:Business Start-up
END:VEVENT
BEGIN:VEVENT
DTSTART;TZID=UTC:20221021T123000
DTEND;TZID=UTC:20221021T143000
DTSTAMP:20260419T071445
CREATED:20221003T101639Z
LAST-MODIFIED:20221003T101639Z
UID:10085622-1666355400-1666362600@investinangus.com
SUMMARY:The essentials of bookkeeping and what expenses you can claim
DESCRIPTION:This webinar is for those who are entering business for the first time or require an understanding of what is involved in financially managing a business\, including basic bookkeeping\, and creating a profit and loss account. You will also get an understanding of what expenses the business can claim and then how to fund your business. At the end of the session\, you will receive a workbook on excel to help you manage and monitor costs and sales. \nAt the end of this session\, you will be able to: \n\nImplement basic bookkeeping skills across your business\nCreate a profit and loss account\nUnderstand what expenses can and cannot be claimed\nUse financial management to increase revenues and profits\nUnderstand capital and revenue costs and how they are treated
URL:https://investinangus.com/event/the-essentials-of-bookkeeping-and-what-expenses-you-can-claim-5/
CATEGORIES:Business Start-up,Finance
END:VEVENT
BEGIN:VEVENT
DTSTART;TZID=UTC:20221027T080000
DTEND;TZID=UTC:20221027T100000
DTSTAMP:20260419T071445
CREATED:20221003T102823Z
LAST-MODIFIED:20221003T102823Z
UID:10085634-1666857600-1666864800@investinangus.com
SUMMARY:How to write and develop your business plan
DESCRIPTION:New and established businesses will require a business plan for getting a loan\, grant or just to consider the direction they wish to go in. This webinar will teach you what you need to include and how. We will walk you through what should be included within a business plan\, how a business plan is used to improve your prospects for a loan or a grant\, and how you can develop a business plan to meet your needs. \nWe will: \n\nProvide a structure for a business plan\nReview each section of what should be included within the business plan\nExplain when and how to use a business plan\nExplore the connections (and importance) between the words and the numbers\nLook at how to identify and manage cashflow within the business planning process
URL:https://investinangus.com/event/how-to-write-and-develop-your-business-plan-5/
CATEGORIES:Business Planning,Business Start-up
END:VEVENT
END:VCALENDAR