BEGIN:VCALENDAR
VERSION:2.0
PRODID:-//Invest in Angus - ECPv6.15.17.1//NONSGML v1.0//EN
CALSCALE:GREGORIAN
METHOD:PUBLISH
X-ORIGINAL-URL:https://investinangus.com
X-WR-CALDESC:Events for Invest in Angus
REFRESH-INTERVAL;VALUE=DURATION:PT1H
X-Robots-Tag:noindex
X-PUBLISHED-TTL:PT1H
BEGIN:VTIMEZONE
TZID:UTC
BEGIN:STANDARD
TZOFFSETFROM:+0000
TZOFFSETTO:+0000
TZNAME:UTC
DTSTART:20210101T000000
END:STANDARD
END:VTIMEZONE
BEGIN:VEVENT
DTSTART;TZID=UTC:20221101T180000
DTEND;TZID=UTC:20221101T200000
DTSTAMP:20260421T225147
CREATED:20220906T134923Z
LAST-MODIFIED:20220906T134923Z
UID:10085419-1667325600-1667332800@investinangus.com
SUMMARY:An Introduction to Self-Employment and Starting your own Business
DESCRIPTION:The workshop will provide you with the opportunity to network with other business owners and will also highlight useful sources of information\, advice and guidance. \nThere will also be information on additional services from Business Gateway and details of other webinars which may be appropriate for you.  \nThis webinar is for businesses based in Dundee\, Angus and Perth.
URL:https://investinangus.com/event/an-introduction-to-self-employment-and-starting-your-own-business-7/
CATEGORIES:Business Start-up
END:VEVENT
BEGIN:VEVENT
DTSTART;TZID=UTC:20221103T180000
DTEND;TZID=UTC:20221103T200000
DTSTAMP:20260421T225147
CREATED:20220906T135017Z
LAST-MODIFIED:20220906T135017Z
UID:10085421-1667498400-1667505600@investinangus.com
SUMMARY:Complete Guide to Finance for Starting a Business
DESCRIPTION:The workshop will look at: \n\nmanaging a profit and loss account\nproducing a cashflow statement\nworking capital\nthe different sources of finance\nthe different legal structures of a business\n\nThere will also be information on additional services from Business Gateway and details of other workshops which may be appropriate for you. \nThis webinar is aimed at businesses based in Dundee\, Angus and Perth. 
URL:https://investinangus.com/event/complete-guide-to-finance-for-starting-a-business-2/
CATEGORIES:Business Start-up,Finance
END:VEVENT
BEGIN:VEVENT
DTSTART;TZID=UTC:20221107T140000
DTEND;TZID=UTC:20221107T153000
DTSTAMP:20260421T225147
CREATED:20221031T093307Z
LAST-MODIFIED:20221031T093307Z
UID:10085801-1667829600-1667835000@investinangus.com
SUMMARY:Funding your start-up
DESCRIPTION:There are many different routes for start-ups looking at finance options. Taking place during the British Business Bank’s Business Finance Week\, our group of expert panellists will explore some of the options available in more detail\, and explain why it’s essential to have a good business plan in place in order to secure finance. \nThis session looks at: \n\nWhat is a lender looking for when a business applies for finance?\nWhat’s the difference between debt finance\, asset finance or equity finance?\nWhy you need a robust business plan to securing finance\nWhat are some of the most common mistakes start-ups make in financing their business?\nUseful tips and hints on interacting with potential funders\n\nPanellists: \n\nHugh Lightbody\, Chief Officer\, Business Gateway National unit\nThomas Brock\, Fund Director\, Umi Debt Finance Scotland\nWilliam Devine\, Head of Scotland\, Simply Asset Finance\nEmma Airley\, Co-owner of Pasteis Lisboa
URL:https://investinangus.com/event/funding-your-start-up/
CATEGORIES:Business Start-up,Finance
END:VEVENT
BEGIN:VEVENT
DTSTART;TZID=UTC:20221116T140000
DTEND;TZID=UTC:20221116T160000
DTSTAMP:20260421T225147
CREATED:20221024T112331Z
LAST-MODIFIED:20221024T112331Z
UID:10085726-1668607200-1668614400@investinangus.com
SUMMARY:How to start a business: The basics
DESCRIPTION:Whatever your reasons may be for considering being your own boss\, Business Gateway is here to support you and help you decide if this is the right path for you. Helping you consider your plans from exploring your potential customers to looking at the key activities and costs involved. \nWe will cover: \n\nPersonal finance planning – how much do you need to earn?\nResearching your market – who your customers are\, understanding your competition and what the trends are within your chosen field\nBusiness structure – what are the core business structures? How to decide which is right for you and how to register as a business\nCreating your start-up action plan – an outline\nMarketing\nPricing\nNaming the business\nBasic bookkeeping\nForecasting\nFinancing\, banking\, insurance\, and VAT\nTax
URL:https://investinangus.com/event/how-to-start-a-business-the-basics-5/
CATEGORIES:Business Start-up
END:VEVENT
BEGIN:VEVENT
DTSTART;TZID=UTC:20221119T090000
DTEND;TZID=UTC:20221119T110000
DTSTAMP:20260421T225147
CREATED:20221024T113005Z
LAST-MODIFIED:20221024T113005Z
UID:10085742-1668848400-1668855600@investinangus.com
SUMMARY:How to write and develop your business plan
DESCRIPTION:New and established businesses will require a business plan for getting a loan\, grant or just to consider the direction they wish to go in. This webinar will teach you what you need to include and how. We will walk you through what should be included within a business plan\, how a business plan is used to improve your prospects for a loan or a grant\, and how you can develop a business plan to meet your needs. \nWe will: \n\nProvide a structure for a business plan\nReview each section of what should be included within the business plan\nExplain when and how to use a business plan\nExplore the connections (and importance) between the words and the numbers\nLook at how to identify and manage cashflow within the business planning process
URL:https://investinangus.com/event/how-to-write-and-develop-your-business-plan-6/
CATEGORIES:Business Planning,Business Start-up
END:VEVENT
BEGIN:VEVENT
DTSTART;TZID=UTC:20221123T190000
DTEND;TZID=UTC:20221123T200000
DTSTAMP:20260421T225147
CREATED:20221024T113602Z
LAST-MODIFIED:20221024T113602Z
UID:10085754-1669230000-1669233600@investinangus.com
SUMMARY:Learning Zone – Successfully starting a business
DESCRIPTION:So many start-up businesses fail due to lack of planning. This webinar will be a short and sharp overview of what you need to think about to ensure your business is sustainable and avoids the pitfalls when starting up. \nWe will cover: \n\nWhy start-ups fail (cash\, time\, market research)\nSpend time researching your idea\nWill you be a sole trader or a limited company?\nWhat are your main revenue streams?\nWhat are your main start up and running costs?\nWhat assets\, resources and people do you need?
URL:https://investinangus.com/event/learning-zone-successfully-starting-a-business-4/
CATEGORIES:Business Start-up
END:VEVENT
END:VCALENDAR