BEGIN:VCALENDAR
VERSION:2.0
PRODID:-//Invest in Angus - ECPv6.15.17.1//NONSGML v1.0//EN
CALSCALE:GREGORIAN
METHOD:PUBLISH
X-ORIGINAL-URL:https://investinangus.com
X-WR-CALDESC:Events for Invest in Angus
REFRESH-INTERVAL;VALUE=DURATION:PT1H
X-Robots-Tag:noindex
X-PUBLISHED-TTL:PT1H
BEGIN:VTIMEZONE
TZID:UTC
BEGIN:STANDARD
TZOFFSETFROM:+0000
TZOFFSETTO:+0000
TZNAME:UTC
DTSTART:20220101T000000
END:STANDARD
END:VTIMEZONE
BEGIN:VEVENT
DTSTART;TZID=UTC:20230404T180000
DTEND;TZID=UTC:20230404T200000
DTSTAMP:20260421T014922
CREATED:20230327T080916Z
LAST-MODIFIED:20230327T080916Z
UID:10086848-1680631200-1680638400@investinangus.com
SUMMARY:An Introduction to Self-Employment and Starting your own Business
DESCRIPTION:This workshop will be held online via zoom. Joining instructions will be shared with you once you have booked your space. \nThe workshop will provide you with the opportunity to network with other business owners and will also highlight useful sources of information\, advice and guidance. \nThere will also be information on additional services from Business Gateway and details of other workshops and webinars which may be appropriate for you. \nIf you would prefer an in person / interactive workshop\, we will be hosting this event in Monifieth on the 12th April.
URL:https://investinangus.com/event/an-introduction-to-self-employment-and-starting-your-own-business-12/
CATEGORIES:Business Start-up
END:VEVENT
BEGIN:VEVENT
DTSTART;TZID=UTC:20230405T140000
DTEND;TZID=UTC:20230405T160000
DTSTAMP:20260421T014922
CREATED:20230306T133810Z
LAST-MODIFIED:20230306T133810Z
UID:10086691-1680703200-1680710400@investinangus.com
SUMMARY:How to start a business: The basics
DESCRIPTION:Whatever your reasons may be for considering being your own boss\, Business Gateway is here to support you and help you decide if this is the right path for you. Helping you consider your plans from exploring your potential customers to looking at the key activities and costs involved. \nWe will cover: \n\nPersonal finance planning – how much do you need to earn?\nResearching your market – who your customers are\, understanding your competition and what the trends are within your chosen field\nBusiness structure – what are the core business structures? How to decide which is right for you and how to register as a business\nCreating your start-up action plan – an outline\nMarketing\nPricing\nNaming the business\nBasic bookkeeping\nForecasting\nFinancing\, banking\, insurance\, and VAT\nTax
URL:https://investinangus.com/event/how-to-start-a-business-the-basics-14/
CATEGORIES:Business Start-up
END:VEVENT
BEGIN:VEVENT
DTSTART;TZID=UTC:20230406T090000
DTEND;TZID=UTC:20230406T110000
DTSTAMP:20260421T014922
CREATED:20230306T133851Z
LAST-MODIFIED:20230306T133851Z
UID:10086693-1680771600-1680778800@investinangus.com
SUMMARY:How to write and develop your business plan
DESCRIPTION:New and established businesses will require a business plan for getting a loan\, grant or just to consider the direction they wish to go in. This webinar will teach you what you need to include and how. We will walk you through what should be included within a business plan\, how a business plan is used to improve your prospects for a loan or a grant\, and how you can develop a business plan to meet your needs. \nWe will: \n\nProvide a structure for a business plan\nReview each section of what should be included within the business plan\nExplain when and how to use a business plan\nExplore the connections (and importance) between the words and the numbers\nLook at how to identify and manage cashflow within the business planning process
URL:https://investinangus.com/event/how-to-write-and-develop-your-business-plan-15/
CATEGORIES:Business Planning,Business Start-up
END:VEVENT
BEGIN:VEVENT
DTSTART;TZID=UTC:20230412T140000
DTEND;TZID=UTC:20230412T160000
DTSTAMP:20260421T014922
CREATED:20230327T081035Z
LAST-MODIFIED:20230327T081035Z
UID:10086850-1681308000-1681315200@investinangus.com
SUMMARY:An Introduction to Self-Employment and Starting your own Business
DESCRIPTION:This workshop will be held in person at Monifieth Library\, 48 High Street\, Monifieth\, Dundee\,DD5 4AE \nThe workshop will provide you with the opportunity to network with other business owners and will also highlight useful sources of information\, advice and guidance. \nThere will also be information on additional services from Business Gateway and details of other workshops and webinars which may be appropriate for you.
URL:https://investinangus.com/event/an-introduction-to-self-employment-and-starting-your-own-business-13/
LOCATION:Monifieth Library\, 48 High Street\, Monifieth\, DD5 4AE
CATEGORIES:Business Start-up
END:VEVENT
BEGIN:VEVENT
DTSTART;TZID=UTC:20230420T180000
DTEND;TZID=UTC:20230420T200000
DTSTAMP:20260421T014922
CREATED:20230306T141614Z
LAST-MODIFIED:20230306T141614Z
UID:10086701-1682013600-1682020800@investinangus.com
SUMMARY:How to start a business: The basics
DESCRIPTION:Whatever your reasons may be for considering being your own boss\, Business Gateway is here to support you and help you decide if this is the right path for you. Helping you consider your plans from exploring your potential customers to looking at the key activities and costs involved. \nWe will cover: \n\nPersonal finance planning – how much do you need to earn?\nResearching your market – who your customers are\, understanding your competition and what the trends are within your chosen field\nBusiness structure – what are the core business structures? How to decide which is right for you and how to register as a business\nCreating your start-up action plan – an outline\nMarketing\nPricing\nNaming the business\nBasic bookkeeping\nForecasting\nFinancing\, banking\, insurance\, and VAT\nTax
URL:https://investinangus.com/event/how-to-start-a-business-the-basics-15/
CATEGORIES:Business Start-up
END:VEVENT
BEGIN:VEVENT
DTSTART;TZID=UTC:20230424T113000
DTEND;TZID=UTC:20230424T133000
DTSTAMP:20260421T014922
CREATED:20230306T141809Z
LAST-MODIFIED:20230306T141809Z
UID:10086705-1682335800-1682343000@investinangus.com
SUMMARY:How to write and develop your business plan
DESCRIPTION:New and established businesses will require a business plan for getting a loan\, grant or just to consider the direction they wish to go in. This webinar will teach you what you need to include and how. We will walk you through what should be included within a business plan\, how a business plan is used to improve your prospects for a loan or a grant\, and how you can develop a business plan to meet your needs. \nWe will: \n\nProvide a structure for a business plan\nReview each section of what should be included within the business plan\nExplain when and how to use a business plan\nExplore the connections (and importance) between the words and the numbers\nLook at how to identify and manage cashflow within the business planning process
URL:https://investinangus.com/event/how-to-write-and-develop-your-business-plan-16/
CATEGORIES:Business Planning,Business Start-up
END:VEVENT
BEGIN:VEVENT
DTSTART;TZID=UTC:20230427T090000
DTEND;TZID=UTC:20230427T110000
DTSTAMP:20260421T014922
CREATED:20230306T141950Z
LAST-MODIFIED:20230306T141950Z
UID:10086709-1682586000-1682593200@investinangus.com
SUMMARY:The essentials of bookkeeping and what expenses you can claim
DESCRIPTION:This webinar is for those who are entering business for the first time or require an understanding of what is involved in financially managing a business\, including basic bookkeeping\, and creating a profit and loss account. You will also get an understanding of what expenses the business can claim and then how to fund your business. At the end of the session\, you will receive a workbook on excel to help you manage and monitor costs and sales. \nAt the end of this session\, you will be able to: \n\nImplement basic bookkeeping skills across your business\nCreate a profit and loss account\nUnderstand what expenses can and cannot be claimed\nUse financial management to increase revenues and profits\nUnderstand capital and revenue costs and how they are treated
URL:https://investinangus.com/event/the-essentials-of-bookkeeping-and-what-expenses-you-can-claim-15/
CATEGORIES:Business Start-up,Finance
END:VEVENT
END:VCALENDAR