BEGIN:VCALENDAR
VERSION:2.0
PRODID:-//Invest in Angus - ECPv6.15.17.1//NONSGML v1.0//EN
CALSCALE:GREGORIAN
METHOD:PUBLISH
X-ORIGINAL-URL:https://investinangus.com
X-WR-CALDESC:Events for Invest in Angus
REFRESH-INTERVAL;VALUE=DURATION:PT1H
X-Robots-Tag:noindex
X-PUBLISHED-TTL:PT1H
BEGIN:VTIMEZONE
TZID:UTC
BEGIN:STANDARD
TZOFFSETFROM:+0000
TZOFFSETTO:+0000
TZNAME:UTC
DTSTART:20220101T000000
END:STANDARD
END:VTIMEZONE
BEGIN:VEVENT
DTSTART;TZID=UTC:20230905T093000
DTEND;TZID=UTC:20230905T113000
DTSTAMP:20260420T115359
CREATED:20230904T123715Z
LAST-MODIFIED:20230904T123715Z
UID:10087877-1693906200-1693913400@investinangus.com
SUMMARY:The Basics of Starting a Business
DESCRIPTION:This webinar will give you the information needed to build a start up action plan. The plan will enable you to consider which actions are relevant to your plan\, start building a set of SMART Goals\, give thought to business skills development and provide a clear path for steps to launch your business. \nYou will also learn about the key considerations when starting a business and what steps you will need to take from legal\, financial and strategic standpoints. \nBy the end of the webinar\, you will have the information required to start building an action plan and be confident about understanding the next steps.
URL:https://investinangus.com/event/the-basics-of-starting-a-business/
CATEGORIES:Business Start-up
END:VEVENT
BEGIN:VEVENT
DTSTART;TZID=UTC:20230907T180000
DTEND;TZID=UTC:20230907T200000
DTSTAMP:20260420T115359
CREATED:20230814T112925Z
LAST-MODIFIED:20230814T112925Z
UID:10087671-1694109600-1694116800@investinangus.com
SUMMARY:How to start a business: The basics
DESCRIPTION:Whatever your reasons may be for considering being your own boss\, Business Gateway is here to support you and help you decide if this is the right path for you. Helping you consider your plans from exploring your potential customers to looking at the key activities and costs involved. \nWe will cover: \n\nPersonal finance planning – how much do you need to earn?\nResearching your market – who your customers are\, understanding your competition and what the trends are within your chosen field\nBusiness structure – what are the core business structures? How to decide which is right for you and how to register as a business\nCreating your start-up action plan – an outline\nMarketing\nPricing\nNaming the business\nBasic bookkeeping\nForecasting\nFinancing\, banking\, insurance\, and VAT\nTax
URL:https://investinangus.com/event/how-to-start-a-business-the-basics-24/
CATEGORIES:Business Start-up
END:VEVENT
BEGIN:VEVENT
DTSTART;TZID=UTC:20230921T160000
DTEND;TZID=UTC:20230921T180000
DTSTAMP:20260420T115359
CREATED:20230904T123809Z
LAST-MODIFIED:20230904T123809Z
UID:10087879-1695312000-1695319200@investinangus.com
SUMMARY:The Basics of Starting a Business
DESCRIPTION:This webinar will give you the information needed to build a start up action plan. The plan will enable you to consider which actions are relevant to your plan\, start building a set of SMART Goals\, give thought to business skills development and provide a clear path for steps to launch your business. \nYou will also learn about the key considerations when starting a business and what steps you will need to take from legal\, financial and strategic standpoints. \nBy the end of the webinar\, you will have the information required to start building an action plan and be confident about understanding the next steps.
URL:https://investinangus.com/event/the-basics-of-starting-a-business-2/
CATEGORIES:Business Start-up
END:VEVENT
BEGIN:VEVENT
DTSTART;TZID=UTC:20230923T100000
DTEND;TZID=UTC:20230923T120000
DTSTAMP:20260420T115359
CREATED:20230814T115645Z
LAST-MODIFIED:20230814T115645Z
UID:10087689-1695463200-1695470400@investinangus.com
SUMMARY:How to start a business: The basics
DESCRIPTION:Whatever your reasons may be for considering being your own boss\, Business Gateway is here to support you and help you decide if this is the right path for you. Helping you consider your plans from exploring your potential customers to looking at the key activities and costs involved. \nWe will cover: \n\nPersonal finance planning – how much do you need to earn?\nResearching your market – who your customers are\, understanding your competition and what the trends are within your chosen field\nBusiness structure – what are the core business structures? How to decide which is right for you and how to register as a business\nCreating your start-up action plan – an outline\nMarketing\nPricing\nNaming the business\nBasic bookkeeping\nForecasting\nFinancing\, banking\, insurance\, and VAT\nTax
URL:https://investinangus.com/event/how-to-start-a-business-the-basics-25/
CATEGORIES:Business Start-up
END:VEVENT
BEGIN:VEVENT
DTSTART;TZID=UTC:20230925T130000
DTEND;TZID=UTC:20230925T150000
DTSTAMP:20260420T115359
CREATED:20230814T115738Z
LAST-MODIFIED:20230814T115738Z
UID:10087691-1695646800-1695654000@investinangus.com
SUMMARY:How to write and develop your business plan
DESCRIPTION:New and established businesses will require a business plan for getting a loan\, grant or just to consider the direction they wish to go in. This webinar will teach you what you need to include and how. We will walk you through what should be included within a business plan\, how a business plan is used to improve your prospects for a loan or a grant\, and how you can develop a business plan to meet your needs. \nWe will: \n\nProvide a structure for a business plan\nReview each section of what should be included within the business plan\nExplain when and how to use a business plan\nExplore the connections (and importance) between the words and the numbers\nLook at how to identify and manage cashflow within the business planning process
URL:https://investinangus.com/event/how-to-write-and-develop-your-business-plan-23/
CATEGORIES:Business Planning,Business Start-up
END:VEVENT
END:VCALENDAR