BEGIN:VCALENDAR
VERSION:2.0
PRODID:-//Invest in Angus - ECPv6.15.17.1//NONSGML v1.0//EN
CALSCALE:GREGORIAN
METHOD:PUBLISH
X-ORIGINAL-URL:https://investinangus.com
X-WR-CALDESC:Events for Invest in Angus
REFRESH-INTERVAL;VALUE=DURATION:PT1H
X-Robots-Tag:noindex
X-PUBLISHED-TTL:PT1H
BEGIN:VTIMEZONE
TZID:UTC
BEGIN:STANDARD
TZOFFSETFROM:+0000
TZOFFSETTO:+0000
TZNAME:UTC
DTSTART:20210101T000000
END:STANDARD
END:VTIMEZONE
BEGIN:VEVENT
DTSTART;TZID=UTC:20220303T090000
DTEND;TZID=UTC:20220303T170000
DTSTAMP:20260422T183757
CREATED:20220131T111801Z
LAST-MODIFIED:20220131T111801Z
UID:10084034-1646298000-1646326800@investinangus.com
SUMMARY:Meet The Adviser - General Surgery
DESCRIPTION:Whether you are thinking about starting a business or you have already started one\, the Meet the Adviser General Surgery is an opportunity to meet with one of the Business Gateway Tayside team over Zoom to ask any business related questions you may have. \nWe have slots throughout the day and you will be matched up with an adviser that suits whichever stage of running a business you are at.
URL:https://investinangus.com/event/meet-the-adviser-general-surgery-4/
CATEGORIES:Business Planning,Business Start-up
END:VEVENT
BEGIN:VEVENT
DTSTART;TZID=UTC:20220303T180000
DTEND;TZID=UTC:20220303T200000
DTSTAMP:20260422T183757
CREATED:20211220T161834Z
LAST-MODIFIED:20211220T161834Z
UID:10083812-1646330400-1646337600@investinangus.com
SUMMARY:Start-Up: Awareness
DESCRIPTION:This workshop aims to make you aware of the various requirements involved in setting up a business. \nThe workshop will provide you with the opportunity to network with other business owners and will also highlight useful sources of information\, advice and guidance.  \nThis webinar is for businesses based in Dundee\, Angus or Perth.
URL:https://investinangus.com/event/start-up-awareness-3/
CATEGORIES:Business Start-up
END:VEVENT
BEGIN:VEVENT
DTSTART;TZID=UTC:20220303T180000
DTEND;TZID=UTC:20220303T200000
DTSTAMP:20260422T183757
CREATED:20220216T112937Z
LAST-MODIFIED:20220216T112937Z
UID:10084122-1646330400-1646337600@investinangus.com
SUMMARY:An Introduction to Self-Employment and Starting your own Business
DESCRIPTION:This workshop aims to make you aware of the various requirements involved in setting up a business. \nThe workshop will provide you with the opportunity to network with other business owners and will also highlight useful sources of information\, advice and guidance. \nThis webinar is for businesses based in Dundee\, Angus or Perth.
URL:https://investinangus.com/event/an-introduction-to-self-employment-and-starting-your-own-business/
CATEGORIES:Business Start-up
END:VEVENT
END:VCALENDAR