BEGIN:VCALENDAR
VERSION:2.0
PRODID:-//Invest in Angus - ECPv6.15.17.1//NONSGML v1.0//EN
CALSCALE:GREGORIAN
METHOD:PUBLISH
X-WR-CALNAME:Invest in Angus
X-ORIGINAL-URL:https://investinangus.com
X-WR-CALDESC:Events for Invest in Angus
REFRESH-INTERVAL;VALUE=DURATION:PT1H
X-Robots-Tag:noindex
X-PUBLISHED-TTL:PT1H
BEGIN:VTIMEZONE
TZID:UTC
BEGIN:STANDARD
TZOFFSETFROM:+0000
TZOFFSETTO:+0000
TZNAME:UTC
DTSTART:20210101T000000
END:STANDARD
END:VTIMEZONE
BEGIN:VEVENT
DTSTART;TZID=UTC:20220907T140000
DTEND;TZID=UTC:20220907T150000
DTSTAMP:20260419T225404
CREATED:20220822T101636Z
LAST-MODIFIED:20220822T101636Z
UID:10085256-1662559200-1662562800@investinangus.com
SUMMARY:Learning Zone –Successfully starting a business
DESCRIPTION:So many start-up businesses fail due to lack of planning. This webinar will be a short and sharp overview of what you need to think about to ensure your business is sustainable and avoid the pitfalls when starting up. \nWe will cover: \n\nWhy start-ups fail (cash\, time\, market research)\nSpend time researching your idea\nWill you be a sole trader or a limited company?\nWhat are your main revenue streams?\nWhat are your main start up and running costs?\nWhat assets\, resources and people do you need?
URL:https://investinangus.com/event/learning-zone-successfully-starting-a-business-2/
CATEGORIES:Business Start-up
END:VEVENT
END:VCALENDAR