BEGIN:VCALENDAR
VERSION:2.0
PRODID:-//Invest in Angus - ECPv6.15.17.1//NONSGML v1.0//EN
CALSCALE:GREGORIAN
METHOD:PUBLISH
X-ORIGINAL-URL:https://investinangus.com
X-WR-CALDESC:Events for Invest in Angus
REFRESH-INTERVAL;VALUE=DURATION:PT1H
X-Robots-Tag:noindex
X-PUBLISHED-TTL:PT1H
BEGIN:VTIMEZONE
TZID:UTC
BEGIN:STANDARD
TZOFFSETFROM:+0000
TZOFFSETTO:+0000
TZNAME:UTC
DTSTART:20220101T000000
END:STANDARD
END:VTIMEZONE
BEGIN:VEVENT
DTSTART;TZID=UTC:20230504T093000
DTEND;TZID=UTC:20230504T113000
DTSTAMP:20260421T014301
CREATED:20230327T081236Z
LAST-MODIFIED:20230327T081236Z
UID:10086855-1683192600-1683199800@investinangus.com
SUMMARY:Developing your Start-Up Action Plan
DESCRIPTION:This workshop will be held online via zoom. Joining instructions will be shared with you once you have booked your space. \nThis online workshop will give you the information needed to build a start up action plan. The plan will enable you to consider which actions are relevant to your plan\, start building a set of SMART Goals\, give thought to business skills development and provide a clear path for steps to launch your business. \nYou will also learn about the key considerations when starting a business and what steps you will need to take from legal\, financial and strategic standpoints. \nBy the end of the workshop\, you will have the information required to start building an action plan and be confident about understanding the next steps.
URL:https://investinangus.com/event/developing-your-start-up-action-plan/
CATEGORIES:Business Planning,Business Start-up
END:VEVENT
END:VCALENDAR