BEGIN:VCALENDAR
VERSION:2.0
PRODID:-//Invest in Angus - ECPv6.15.17.1//NONSGML v1.0//EN
CALSCALE:GREGORIAN
METHOD:PUBLISH
X-WR-CALNAME:Invest in Angus
X-ORIGINAL-URL:https://investinangus.com
X-WR-CALDESC:Events for Invest in Angus
REFRESH-INTERVAL;VALUE=DURATION:PT1H
X-Robots-Tag:noindex
X-PUBLISHED-TTL:PT1H
BEGIN:VTIMEZONE
TZID:UTC
BEGIN:STANDARD
TZOFFSETFROM:+0000
TZOFFSETTO:+0000
TZNAME:UTC
DTSTART:20220101T000000
END:STANDARD
END:VTIMEZONE
BEGIN:VEVENT
DTSTART;TZID=UTC:20230622T093000
DTEND;TZID=UTC:20230622T113000
DTSTAMP:20260420T234958
CREATED:20230605T091642Z
LAST-MODIFIED:20230605T091642Z
UID:10087334-1687426200-1687433400@investinangus.com
SUMMARY:How to write and develop your business plan
DESCRIPTION:New and established businesses will require a business plan for getting a loan\, grant or just to consider the direction they wish to go in. This webinar will teach you what you need to include and how. We will walk you through what should be included within a business plan\, how a business plan is used to improve your prospects for a loan or a grant\, and how you can develop a business plan to meet your needs. \nWe will: \n\nProvide a structure for a business plan\nReview each section of what should be included within the business plan\nExplain when and how to use a business plan\nExplore the connections (and importance) between the words and the numbers\nLook at how to identify and manage cashflow within the business planning process
URL:https://investinangus.com/event/how-to-write-and-develop-your-business-plan-19/
CATEGORIES:Business Planning,Business Start-up
END:VEVENT
BEGIN:VEVENT
DTSTART;TZID=UTC:20230622T180000
DTEND;TZID=UTC:20230622T210000
DTSTAMP:20260420T234958
CREATED:20230502T102909Z
LAST-MODIFIED:20230502T102909Z
UID:10087192-1687456800-1687467600@investinangus.com
SUMMARY:Developing Your Start Up Action Plan
DESCRIPTION:This workshop will give you the information needed to build a start up action plan. The plan will enable you to consider which actions are relevant to your plan\, start building a set of SMART Goals\, give thought to business skills development and provide a clear path for steps to launch your business. \nYou will also learn about the key considerations when starting a business and what steps you will need to take from legal\, financial and strategic standpoints. \nBy the end of the workshop\, you will have the information required to start building an action plan and be confident about understanding the next steps.
URL:https://investinangus.com/event/developing-your-start-up-action-plan-3/
LOCATION:Arbroath Football Club\, Gayfield Park\, Arbroath\, DD11 1QJ
CATEGORIES:Business Start-up
END:VEVENT
END:VCALENDAR