BEGIN:VCALENDAR
VERSION:2.0
PRODID:-//Invest in Angus - ECPv6.15.17.1//NONSGML v1.0//EN
CALSCALE:GREGORIAN
METHOD:PUBLISH
X-WR-CALNAME:Invest in Angus
X-ORIGINAL-URL:https://investinangus.com
X-WR-CALDESC:Events for Invest in Angus
REFRESH-INTERVAL;VALUE=DURATION:PT1H
X-Robots-Tag:noindex
X-PUBLISHED-TTL:PT1H
BEGIN:VTIMEZONE
TZID:UTC
BEGIN:STANDARD
TZOFFSETFROM:+0000
TZOFFSETTO:+0000
TZNAME:UTC
DTSTART:20230101T000000
END:STANDARD
END:VTIMEZONE
BEGIN:VEVENT
DTSTART;TZID=UTC:20240222T080000
DTEND;TZID=UTC:20240222T163000
DTSTAMP:20260420T065754
CREATED:20240212T113009Z
LAST-MODIFIED:20240212T113009Z
UID:10088685-1708588800-1708619400@investinangus.com
SUMMARY:Tayside Transform Business Festival
DESCRIPTION:The Transform Business Festival is an event which connects entrepreneurs\, start-ups and businesses of all shapes and sizes over the course of a day. \nAfter the success of its launch in 2023 at the Science Centre Dundee\, this year’s event continues its tour of Tayside at Perth Concert Hall on 22 February 2024\, focused on informing and inspiring businesses and individuals to transform their futures. \nAttendees will benefit from: \n\nengaging\, motivating guest speaker sessions\nbitesize sessions and fireside chats to stimulate and educate\nbuilding connections through fun networking sessions\nan ecosystem village featuring key support partners in the Tayside region\na client showcase market\, one-to-one advisory sessions and much more
URL:https://investinangus.com/event/tayside-transform-business-festival/
LOCATION:Perth Concert Hall\, Mill Street\, Perth\, PH1 5HZ
CATEGORIES:Business Planning,Business Start-up,Networking
END:VEVENT
END:VCALENDAR