BEGIN:VCALENDAR
VERSION:2.0
PRODID:-//Invest in Angus - ECPv6.15.17.1//NONSGML v1.0//EN
CALSCALE:GREGORIAN
METHOD:PUBLISH
X-ORIGINAL-URL:https://investinangus.com
X-WR-CALDESC:Events for Invest in Angus
REFRESH-INTERVAL;VALUE=DURATION:PT1H
X-Robots-Tag:noindex
X-PUBLISHED-TTL:PT1H
BEGIN:VTIMEZONE
TZID:UTC
BEGIN:STANDARD
TZOFFSETFROM:+0000
TZOFFSETTO:+0000
TZNAME:UTC
DTSTART:20210101T000000
END:STANDARD
END:VTIMEZONE
BEGIN:VEVENT
DTSTART;TZID=UTC:20220217T180000
DTEND;TZID=UTC:20220217T200000
DTSTAMP:20260419T233552
CREATED:20220110T111825Z
LAST-MODIFIED:20220110T111825Z
UID:10083884-1645120800-1645128000@investinangus.com
SUMMARY:Complete Guide to Finance for Start-Ups
DESCRIPTION:The workshop will look at: \n\nmanaging a profit and loss account\nproducing a cashflow statement\nworking capital\nthe different sources of finance\nthe different legal structures of a business
URL:https://investinangus.com/event/complete-guide-to-finance-for-start-ups/
CATEGORIES:Business Start-up,Finance
END:VEVENT
BEGIN:VEVENT
DTSTART;TZID=UTC:20220217T090000
DTEND;TZID=UTC:20220217T170000
DTSTAMP:20260419T233552
CREATED:20220131T111554Z
LAST-MODIFIED:20220131T111554Z
UID:10084028-1645088400-1645117200@investinangus.com
SUMMARY:Meet the Adviser - General Surgery
DESCRIPTION:Whether you are thinking about starting a business or you have already started one\, the Meet the Adviser General Surgery is an opportunity to meet with one of the Business Gateway Tayside team over Zoom to ask any business related questions you may have. \nWe have slots throughout the day and you will be matched up with an adviser that suits whichever stage of running a business you are at. \nThese surgeries are for businesses based in Dundee\, Angus and Perth.
URL:https://investinangus.com/event/meet-the-adviser-general-surgery-3/
CATEGORIES:Business Planning,Business Start-up
END:VEVENT
BEGIN:VEVENT
DTSTART;TZID=UTC:20220210T090000
DTEND;TZID=UTC:20220210T170000
DTSTAMP:20260419T233552
CREATED:20220131T111340Z
LAST-MODIFIED:20220131T111340Z
UID:10084022-1644483600-1644512400@investinangus.com
SUMMARY:Meet the Adviser - General Surgery
DESCRIPTION:Whether you are thinking about starting a business or you have already started one\, the Meet the Adviser General Surgery is an opportunity to meet with one of the Business Gateway Tayside team over Zoom to ask any business related questions you may have. \nWe have slots throughout the day and you will be matched up with an adviser that suits whichever stage of running a business you are at. \nThese surgeries are for businesses based in Dundee\, Angus and Perth.
URL:https://investinangus.com/event/meet-the-adviser-general-surgery-2/
CATEGORIES:Business Planning,Business Start-up
END:VEVENT
BEGIN:VEVENT
DTSTART;TZID=UTC:20220209T140000
DTEND;TZID=UTC:20220209T160000
DTSTAMP:20260419T233552
CREATED:20220117T164045Z
LAST-MODIFIED:20220117T164045Z
UID:10083929-1644415200-1644422400@investinangus.com
SUMMARY:Starting a business: Everything you need to know
DESCRIPTION:Whatever your reasons may be for considering being your own boss\, Business Gateway is here to support you and this webinar will help you decide if this is the right path for you. We will explore your potential customers\, the problems your business can solve for them and how you can do that better than the competition. Once that is clear\, we will look at the key activities and costs involved in starting and running the business and tools for determining the commercial viability before considering the main options for business structures (sole trader\, partnership\, or limited company). \nWe will look at: \n\nPersonal finance planning – how much do you need to earn?\nResearching your market – to develop an understanding of your market\, who your customers are\, understanding your competition and what the trends are within your chosen field.\nBusiness structure – what are the main business structures? How to decide which is right for you and how to register as a business.\nCreating your start-up action plan – an outline.
URL:https://investinangus.com/event/starting-a-business-everything-you-need-to-know-20/
CATEGORIES:Business Start-up
END:VEVENT
BEGIN:VEVENT
DTSTART;TZID=UTC:20220207T180000
DTEND;TZID=UTC:20220207T200000
DTSTAMP:20260419T233552
CREATED:20211213T103951Z
LAST-MODIFIED:20211213T103951Z
UID:10083724-1644256800-1644264000@investinangus.com
SUMMARY:Start-Up: Awareness
DESCRIPTION:The workshop will provide you with the opportunity to network with other business owners and will also highlight useful sources of information\, advice and guidance.  \nThis webinar is for businesses based in Dundee\, Angus or Perth.
URL:https://investinangus.com/event/start-up-awareness-2/
CATEGORIES:Business Start-up
END:VEVENT
BEGIN:VEVENT
DTSTART;TZID=UTC:20220203T090000
DTEND;TZID=UTC:20220203T170000
DTSTAMP:20260419T233552
CREATED:20220131T111300Z
LAST-MODIFIED:20220131T111300Z
UID:10084020-1643878800-1643907600@investinangus.com
SUMMARY:Meet the Adviser - General Surgery
DESCRIPTION:Whether you are thinking about starting a business or you have already started one\, the Meet the Adviser General Surgery is an opportunity to meet with one of the Business Gateway Tayside team over Zoom to ask any business related questions you may have. \nWe have slots throughout the day and you will be matched up with an adviser that suits whichever stage of running a business you are at. \nThese surgeries are for businesses based in Dundee\, Angus and Perth.
URL:https://investinangus.com/event/meet-the-adviser-general-surgery/
CATEGORIES:Business Planning,Business Start-up
END:VEVENT
BEGIN:VEVENT
DTSTART;TZID=UTC:20220201T100000
DTEND;TZID=UTC:20220201T120000
DTSTAMP:20260419T233552
CREATED:20220117T163441Z
LAST-MODIFIED:20220117T163441Z
UID:10083917-1643709600-1643716800@investinangus.com
SUMMARY:Generating ideas for your business
DESCRIPTION:Many people would like to start their own business but don’t have a business idea to focus on. This session will help you: \n1. Clarify your motivation behind starting your own business \n2. Appreciate your skills and experiences \n3. Use a range of techniques for generating new business ideas \n4. Gain an appreciation of how to evaluate these ideas \n5. Prepare to get started!
URL:https://investinangus.com/event/generating-ideas-for-your-business-4/
CATEGORIES:Business Start-up
END:VEVENT
BEGIN:VEVENT
DTSTART;TZID=UTC:20220125T180000
DTEND;TZID=UTC:20220125T200000
DTSTAMP:20260419T233552
CREATED:20211220T161318Z
LAST-MODIFIED:20211220T161318Z
UID:10083802-1643133600-1643140800@investinangus.com
SUMMARY:Starting a business: Everything you need to know
DESCRIPTION:Whatever your reasons may be for considering being your own boss\, Business Gateway is here to support you and this webinar will help you decide if this is the right path for you. We will explore your potential customers\, the problems your business can solve for them and how you can do that better than the competition. Once that is clear\, we will look at the key activities and costs involved in starting and running the business and tools for determining the commercial viability before considering the main options for business structures (sole trader\, partnership\, or limited company). \nWe will look at: \n\nPersonal finance planning – how much do you need to earn?\nResearching your market – to develop an understanding of your market\, who your customers are\, understanding your competition and what the trends are within your chosen field.\nBusiness structure – what are the main business structures? How to decide which is right for you and how to register as a business.\nCreating your start-up action plan – an outline.
URL:https://investinangus.com/event/starting-a-business-everything-you-need-to-know-18/
CATEGORIES:Business Start-up
END:VEVENT
BEGIN:VEVENT
DTSTART;TZID=UTC:20220125T150000
DTEND;TZID=UTC:20220125T170000
DTSTAMP:20260419T233552
CREATED:20211122T133054Z
LAST-MODIFIED:20211122T133054Z
UID:10083603-1643122800-1643130000@investinangus.com
SUMMARY:Young Entrepreneur Starter Pack - Part 2: Structuring your Business and exploring Financials/Funding
DESCRIPTION:Aged 16-25 and ready to start your entrepreneurial journey? This webinar series will show you how to break into business. \nThis specialist two stage webinar series will provide you with the inspiration\, tools\, and knowledge to start your own business. From developing initial ideas to structuring and funding your business\, you will feel confident\, motivated\, and ready to begin your start-up journey! During this webinar\, we will run through everything you need to know when it comes to setting up your business including legal and tax requirements\, cash flow forecasting and funding options\, and everything else in-between. \nAfter this session\, you will come away with a to-do list and the information needed to help you prepare for kickstarting your ideas. You will have a sound knowledge of start-up costs\, fixed and variable costs\, cash flow forecasts\, a personal survival budget and funding options. \nThis webinar is for businesses based in Dundee\, Angus or Perth.
URL:https://investinangus.com/event/young-entrepreneur-starter-pack-part-2-structuring-your-business-and-exploring-financials-funding-9/
CATEGORIES:Business Start-up
END:VEVENT
BEGIN:VEVENT
DTSTART;TZID=UTC:20220125T130000
DTEND;TZID=UTC:20220125T143000
DTSTAMP:20260419T233552
CREATED:20211122T133006Z
LAST-MODIFIED:20211122T133006Z
UID:10083601-1643115600-1643121000@investinangus.com
SUMMARY:Young Entrepreneur Starter Pack - Part 1: Ideas Generation & Researching your Idea
DESCRIPTION:Aged 16-25 and ready to start your entrepreneurial journey? This webinar series will show you how to break into business. \nThis specialist two stage webinar series will provide you with the inspiration\, tools\, and knowledge to start your own business. From developing initial ideas to structuring and funding your business\, you will feel confident\, motivated\, and ready to begin your start-up journey! \nDuring this webinar\, we will help you work through the creative process to come up with a concept you love and test out whether you have the foundations of a successful business. After this session\, you will have a clear understanding of how to undertake the creative process of generating\, developing\, and communicating new thoughts and ideas. You will also recognise the importance of conducting market research and how to use the Business Model Canvas which will support you to form the building blocks needed for business success. \nThis webinar is for businesses based in Dundee\, Angus or Perth.
URL:https://investinangus.com/event/young-entrepreneur-starter-pack-part-1-ideas-generation-researching-your-idea-9/
CATEGORIES:Business Start-up
END:VEVENT
BEGIN:VEVENT
DTSTART;TZID=UTC:20220121T113000
DTEND;TZID=UTC:20220121T133000
DTSTAMP:20260419T233552
CREATED:20220117T163112Z
LAST-MODIFIED:20220117T163112Z
UID:10083913-1642764600-1642771800@investinangus.com
SUMMARY:Launch Pad – Start Your Own Business - Part 2 – Structuring your Business and exploring Financials/Funding
DESCRIPTION:This webinar will equip you with all the right tools to set up your business including how you can finance your business when starting out and running it. After this session\, you will have a clear understanding of legal requirements\, tax requirements and a to do list for starting your business. \nYou will also learn about start-up costs\, fixed and variable costs\, cash flow forecasts\, a personal survival budget and funding options.
URL:https://investinangus.com/event/launch-pad-start-your-own-business-part-2-structuring-your-business-and-exploring-financials-funding-10/
CATEGORIES:Business Start-up
END:VEVENT
BEGIN:VEVENT
DTSTART;TZID=UTC:20220121T093000
DTEND;TZID=UTC:20220121T110000
DTSTAMP:20260419T233552
CREATED:20220117T163027Z
LAST-MODIFIED:20220117T163027Z
UID:10083911-1642757400-1642762800@investinangus.com
SUMMARY:Launch Pad – Start Your Own Business - Part 1 - Ideas Generation & Researching your Idea
DESCRIPTION:This webinar is all about the act of forming ideas and testing out whether these can be transformed into a viable\, successful business. After this session\, you will have a clear understanding of how to undertake the creative process of generating\, developing\, and communicating new thoughts and ideas. \nYou will also understand the importance of conducting thorough market research and how to apply the Business Model Canvas – a strategic management template for documenting your business model.
URL:https://investinangus.com/event/launch-pad-start-your-own-business-part-1-ideas-generation-researching-your-idea-10/
CATEGORIES:Business Start-up
END:VEVENT
BEGIN:VEVENT
DTSTART;TZID=UTC:20220120T180000
DTEND;TZID=UTC:20220120T200000
DTSTAMP:20260419T233552
CREATED:20211122T132832Z
LAST-MODIFIED:20211122T132832Z
UID:10083597-1642701600-1642708800@investinangus.com
SUMMARY:Business Start-Up: Finance
DESCRIPTION:This webinar aims to give an introduction to the role of finance in business. \nThe workshop will look at: \n\nmanaging a profit and loss account\nproducing a cashflow statement\nworking capital\n\n\nthe different sources of finance\nthe different legal structures of a business\n\nThere will also be information on additional services from Business Gateway and details of other workshops which may be appropriate for you. \nThis webinar is aimed at businesses based in Dundee\, Angus and Perth.
URL:https://investinangus.com/event/business-start-up-finance-16/
CATEGORIES:Business Start-up,Finance
END:VEVENT
BEGIN:VEVENT
DTSTART;TZID=UTC:20220117T093000
DTEND;TZID=UTC:20220117T113000
DTSTAMP:20260419T233552
CREATED:20211122T132748Z
LAST-MODIFIED:20211122T132748Z
UID:10083595-1642411800-1642419000@investinangus.com
SUMMARY:Business Start-Up: Marketing
DESCRIPTION:This webinar aims to help you identify your customers\, understand your competitors and plan an effective marketing strategy. \nThe workshop will look at: \n\nthe role of marketing in your business\nidentifying your target customers\nidentifying the strengths and weaknesses of your competitors\n\n\nmarket research\n\nThere will also be information on additional services from Business Gateway and details of other workshops which may be appropriate for you. \nThis webinar is aimed at businesses based in Dundee\, Angus and Perth. 
URL:https://investinangus.com/event/business-start-up-marketing-16/
CATEGORIES:Business Start-up,Digital Marketing,Marketing
END:VEVENT
BEGIN:VEVENT
DTSTART;TZID=UTC:20220113T180000
DTEND;TZID=UTC:20220113T200000
DTSTAMP:20260419T233552
CREATED:20211122T132652Z
LAST-MODIFIED:20211122T132652Z
UID:10083593-1642096800-1642104000@investinangus.com
SUMMARY:Start-Up: Business Planning
DESCRIPTION:Taking time to plan your business and seek advice before you start trading is time well spent. \nThis webinar will help you create a robust business plan. \nThe webinar will look at: \n\ncreating a description for your business\nthe business planning process\nefficient ways of obtaining skills and resources\n\n\npresenting your business plan\n\nThere will also be information on additional services from Business Gateway and details of other webinars which may be appropriate for you. This webinar is aimed at businesses based in Dundee\, Angus and Perth.
URL:https://investinangus.com/event/start-up-business-planning/
CATEGORIES:Business Planning,Business Start-up
END:VEVENT
BEGIN:VEVENT
DTSTART;TZID=UTC:20220112T100000
DTEND;TZID=UTC:20220112T120000
DTSTAMP:20260419T233552
CREATED:20220105T154445Z
LAST-MODIFIED:20220105T154445Z
UID:10083828-1641981600-1641988800@investinangus.com
SUMMARY:Starting a business: Everything you need to know
DESCRIPTION:Whatever your reasons may be for considering being your own boss\, Business Gateway is here to support you and this webinar will help you decide if this is the right path for you. We will explore your potential customers\, the problems your business can solve for them and how you can do that better than the competition. Once that is clear\, we will look at the key activities and costs involved in starting and running the business and tools for determining the commercial viability before considering the main options for business structures (sole trader\, partnership\, or limited company). \nWe will look at: \n\nPersonal finance planning – how much do you need to earn?\nResearching your market – to develop an understanding of your market\, who your customers are\, understanding your competition and what the trends are within your chosen field.\nBusiness structure – what are the main business structures? How to decide which is right for you and how to register as a business.\nCreating your start-up action plan – an outline.
URL:https://investinangus.com/event/starting-a-business-everything-you-need-to-know-19/
CATEGORIES:Business Start-up
END:VEVENT
BEGIN:VEVENT
DTSTART;TZID=UTC:20220110T180000
DTEND;TZID=UTC:20220110T200000
DTSTAMP:20260419T233552
CREATED:20220110T110431Z
LAST-MODIFIED:20220110T110431Z
UID:10083871-1641837600-1641844800@investinangus.com
SUMMARY:The Complete Guide to Starting a Business
DESCRIPTION:The webinar will provide you with the opportunity to network with other business owners and will also highlight useful sources of information\, advice and guidance.  \nThis webinar is for businesses based in Dundee\, Angus or Perth.
URL:https://investinangus.com/event/the-complete-guide-to-starting-a-business/
CATEGORIES:Business Start-up
END:VEVENT
BEGIN:VEVENT
DTSTART;TZID=UTC:20220110T093000
DTEND;TZID=UTC:20220110T113000
DTSTAMP:20260419T233552
CREATED:20211122T132602Z
LAST-MODIFIED:20211122T132602Z
UID:10083591-1641807000-1641814200@investinangus.com
SUMMARY:Start-Up: Awareness
DESCRIPTION:This webinar aims to make you aware of the various requirements involved in setting up a business. \nThe webinar will provide you with the opportunity to network with other business owners and will also highlight useful sources of information\, advice and guidance. This webinar is for businesses based in Dundee\, Angus or Perth.
URL:https://investinangus.com/event/start-up-awareness/
CATEGORIES:Business Start-up
END:VEVENT
END:VCALENDAR