BEGIN:VCALENDAR
VERSION:2.0
PRODID:-//Invest in Angus - ECPv6.15.17.1//NONSGML v1.0//EN
CALSCALE:GREGORIAN
METHOD:PUBLISH
X-ORIGINAL-URL:https://investinangus.com
X-WR-CALDESC:Events for Invest in Angus
REFRESH-INTERVAL;VALUE=DURATION:PT1H
X-Robots-Tag:noindex
X-PUBLISHED-TTL:PT1H
BEGIN:VTIMEZONE
TZID:UTC
BEGIN:STANDARD
TZOFFSETFROM:+0000
TZOFFSETTO:+0000
TZNAME:UTC
DTSTART:20220101T000000
END:STANDARD
END:VTIMEZONE
BEGIN:VEVENT
DTSTART;TZID=UTC:20231215T090000
DTEND;TZID=UTC:20231215T100000
DTSTAMP:20260424T131704
CREATED:20231113T132427Z
LAST-MODIFIED:20231113T132427Z
UID:10088201-1702630800-1702634400@investinangus.com
SUMMARY:State of Polish Offshore Wind Market
DESCRIPTION:This webinar will cover developments in the polish offshore wind market to date. \nYou will learn about the existing project pipeline\, market opportunities and challenges\, as well as future growth potential.
URL:https://investinangus.com/event/state-of-polish-offshore-wind-market/
CATEGORIES:Energy,Offshore Wind
END:VEVENT
END:VCALENDAR