BEGIN:VCALENDAR
VERSION:2.0
PRODID:-//Invest in Angus - ECPv6.15.17.1//NONSGML v1.0//EN
CALSCALE:GREGORIAN
METHOD:PUBLISH
X-WR-CALNAME:Invest in Angus
X-ORIGINAL-URL:https://investinangus.com
X-WR-CALDESC:Events for Invest in Angus
REFRESH-INTERVAL;VALUE=DURATION:PT1H
X-Robots-Tag:noindex
X-PUBLISHED-TTL:PT1H
BEGIN:VTIMEZONE
TZID:UTC
BEGIN:STANDARD
TZOFFSETFROM:+0000
TZOFFSETTO:+0000
TZNAME:UTC
DTSTART:20230101T000000
END:STANDARD
END:VTIMEZONE
BEGIN:VEVENT
DTSTART;TZID=UTC:20240522T090000
DTEND;TZID=UTC:20240522T100000
DTSTAMP:20260423T214849
CREATED:20240429T101033Z
LAST-MODIFIED:20240429T101033Z
UID:10089184-1716368400-1716372000@investinangus.com
SUMMARY:Introduction to Energy Transition in APAC
DESCRIPTION:Meet the APAC Energy Transition  team and hear our priorities and opportunities for the year ahead. \nThis webinar is for Scotland based companies in energy transition.
URL:https://investinangus.com/event/introduction-to-energy-transition-in-apac/
CATEGORIES:Energy
END:VEVENT
BEGIN:VEVENT
DTSTART;TZID=UTC:20240528T110000
DTEND;TZID=UTC:20240528T120000
DTSTAMP:20260423T214849
CREATED:20240507T101443Z
LAST-MODIFIED:20240507T101443Z
UID:10089213-1716894000-1716897600@investinangus.com
SUMMARY:Unlocking Efficiency in Green Energy Supply Chains through Emerging Technologies
DESCRIPTION:Join this webinar to learn about how new and emerging technologies can unlock efficiencies in the green energy supply chain and how secure data sharing can reduce costs and optimise processes in the Energy sector.
URL:https://investinangus.com/event/unlocking-efficiency-in-green-energy-supply-chains-through-emerging-technologies/
CATEGORIES:Energy,Green Economy,Technology
END:VEVENT
BEGIN:VEVENT
DTSTART;TZID=UTC:20240529T140000
DTEND;TZID=UTC:20240529T150000
DTSTAMP:20260423T214849
CREATED:20240520T120313Z
LAST-MODIFIED:20240520T120313Z
UID:10089255-1716991200-1716994800@investinangus.com
SUMMARY:USA Offshore Wind Market Update - May 2024
DESCRIPTION:Join us to hear an update on the current state of play in the US offshore wind market. \nLearn more about upcoming projects\, proposed longer term developments and SDI’s future event calendar.
URL:https://investinangus.com/event/usa-offshore-wind-market-update-may-2024/
CATEGORIES:Energy
END:VEVENT
END:VCALENDAR