BEGIN:VCALENDAR
VERSION:2.0
PRODID:-//Invest in Angus - ECPv6.15.17.1//NONSGML v1.0//EN
CALSCALE:GREGORIAN
METHOD:PUBLISH
X-WR-CALNAME:Invest in Angus
X-ORIGINAL-URL:https://investinangus.com
X-WR-CALDESC:Events for Invest in Angus
REFRESH-INTERVAL;VALUE=DURATION:PT1H
X-Robots-Tag:noindex
X-PUBLISHED-TTL:PT1H
BEGIN:VTIMEZONE
TZID:UTC
BEGIN:STANDARD
TZOFFSETFROM:+0000
TZOFFSETTO:+0000
TZNAME:UTC
DTSTART:20230101T000000
END:STANDARD
END:VTIMEZONE
BEGIN:VEVENT
DTSTART;TZID=UTC:20240326T093000
DTEND;TZID=UTC:20240326T140000
DTSTAMP:20260424T082901
CREATED:20240219T092415Z
LAST-MODIFIED:20240219T092415Z
UID:10088749-1711445400-1711461600@investinangus.com
SUMMARY:Hydrogen Expert Support - Networking Conference
DESCRIPTION:Scottish Enterprise invite the participants of the Hydrogen Expert Support programme to the Energy Transition Zone hub in Aberdeen for a day of networking and collaboration. \nWe’re encouraging the included companies to learn from one other and find collaborative opportunities within their operations. \nTogether we can boost the capabilities of Scottish companies within this sector both domestically and internationally.
URL:https://investinangus.com/event/hydrogen-expert-support-networking-conference/
LOCATION:Energy Transition Zone\, Hareness Road\, Aberdeen\, AB12 3LE
CATEGORIES:Energy
END:VEVENT
END:VCALENDAR