BEGIN:VCALENDAR
VERSION:2.0
PRODID:-//Invest in Angus - ECPv6.15.17.1//NONSGML v1.0//EN
CALSCALE:GREGORIAN
METHOD:PUBLISH
X-WR-CALNAME:Invest in Angus
X-ORIGINAL-URL:https://investinangus.com
X-WR-CALDESC:Events for Invest in Angus
REFRESH-INTERVAL;VALUE=DURATION:PT1H
X-Robots-Tag:noindex
X-PUBLISHED-TTL:PT1H
BEGIN:VTIMEZONE
TZID:UTC
BEGIN:STANDARD
TZOFFSETFROM:+0000
TZOFFSETTO:+0000
TZNAME:UTC
DTSTART:20230101T000000
END:STANDARD
END:VTIMEZONE
BEGIN:VEVENT
DTSTART;TZID=UTC:20240418T110000
DTEND;TZID=UTC:20240418T120000
DTSTAMP:20260424T040409
CREATED:20240319T163537Z
LAST-MODIFIED:20240319T163537Z
UID:10088929-1713438000-1713441600@investinangus.com
SUMMARY:Webinar: Working with Inch Cape - Supply Chain Lessons and Learnings
DESCRIPTION:This webinar is being organised by NOF\, on behalf of Inch Cape Offshore Wind Farm\, and is being supported by Forth & Tay Offshore (FTO). This webinar will be free to attend\, with tickets allocated on a first-come-first-served basis. \nThis webinar will provide an update on the project before offering some experience-based advice for potential suppliers\, including those transitioning from other industries such as oil & gas\, small businesses seeking to grow or other companies aiming to diversify into the sector. It will also be an opportunity for suppliers to feedback on how developers could better support them. \nThis webinar will aim to: \n\nGive attendees an update on Inch Cape as the project heads into full construction.\nGive an insight into the procurement process and the opportunity to feedback on how developers can support following a tender round.\nProvide existing offshore wind suppliers and those with ambitions to enter the sector with ideas on how to improve their offerings.
URL:https://investinangus.com/event/webinar-working-with-inch-cape-supply-chain-lessons-and-learnings/
CATEGORIES:Energy,Offshore Wind,Procurement
END:VEVENT
END:VCALENDAR