BEGIN:VCALENDAR
VERSION:2.0
PRODID:-//Invest in Angus - ECPv6.15.17.1//NONSGML v1.0//EN
CALSCALE:GREGORIAN
METHOD:PUBLISH
X-ORIGINAL-URL:https://investinangus.com
X-WR-CALDESC:Events for Invest in Angus
REFRESH-INTERVAL;VALUE=DURATION:PT1H
X-Robots-Tag:noindex
X-PUBLISHED-TTL:PT1H
BEGIN:VTIMEZONE
TZID:UTC
BEGIN:STANDARD
TZOFFSETFROM:+0000
TZOFFSETTO:+0000
TZNAME:UTC
DTSTART:20240101T000000
END:STANDARD
END:VTIMEZONE
BEGIN:VEVENT
DTSTART;TZID=UTC:20250623T140000
DTEND;TZID=UTC:20250623T150000
DTSTAMP:20260425T132641
CREATED:20250616T153303Z
LAST-MODIFIED:20250616T153303Z
UID:10091383-1750687200-1750690800@investinangus.com
SUMMARY:Making Angus buildings more energy efficient - Business Energy Scotland
DESCRIPTION:Looking for good ideas that will help your business save energy and tackle energy bills? \nWondering if you could take advantage of renewables like solar power or wind? Looking to play your part in reaching net zero? Free support is available from Business Energy Scotland. Business Energy Scotland is funded by the Scottish Government to provide free\, impartial support and access to funding to help businesses save energy\, carbon and money. \nSmall or medium-sized enterprises (SMEs) looking to improve premises in Scotland can access Business Energy Scotland’s free support. This includes charities and registered start-ups. \nWhether you are just starting out on your energy-saving journey and need some pointers or are looking for expertise and funding to support your current plans\, Business Energy Scotland’s team of experienced business advisors and energy-saving consultants provide impartial advice and project support. \nThrough Business Energy Scotland\, SMEs that have been trading for 12 months can also access unsecured\, interest-free loans from the Scottish Government. The Scottish Government’s SME Loan Scheme offers interest free loans from £1\,000 to £100\,000 to help eligible SMEs pay for energy and carbon-saving upgrades in their business. Recipients can also receive a cashback grant of up to £30\,000 when installing eligible equipment.
URL:https://investinangus.com/event/making-angus-buildings-more-energy-efficient-business-energy-scotland/
CATEGORIES:Energy
END:VEVENT
BEGIN:VEVENT
DTSTART;TZID=UTC:20250624T180000
DTEND;TZID=UTC:20250624T190000
DTSTAMP:20260425T132641
CREATED:20250616T153411Z
LAST-MODIFIED:20250616T153411Z
UID:10091385-1750788000-1750791600@investinangus.com
SUMMARY:Making Angus buildings more energy efficient - Local Energy Scotland
DESCRIPTION:Local Energy Scotland will be hosting this webinar to showcase the funding on offer for community buildings. \nThe webinar will focus on the guidance for the Scottish Government’s Community and Renewable Scheme (CARES) Community Buildings Fund and will also provide more information on the Community Energy Generation Growth Fund. \nThere will be a Q&A session\, as well as case studies from previously-supported projects in the Angus area. The local development officer will be on hand to answer any questions about potential projects.
URL:https://investinangus.com/event/making-angus-buildings-more-energy-efficient-local-energy-scotland/
CATEGORIES:Energy
END:VEVENT
BEGIN:VEVENT
DTSTART;TZID=UTC:20250625T123000
DTEND;TZID=UTC:20250625T133000
DTSTAMP:20260425T132641
CREATED:20250616T153508Z
LAST-MODIFIED:20250616T153508Z
UID:10091387-1750854600-1750858200@investinangus.com
SUMMARY:Home Energy Scotland home renewables - decarbonising your home and making it more energy efficient
DESCRIPTION:Home Energy Scotland is here to offer free advice and support to help you make your home warmer\, reduce your energy bills\, and contribute to a greener\, more sustainable future. \nOur service is funded by the Scottish Government and managed by Energy Saving Trust. We are committed to positively impacting the lives of people throughout Scotland. This webinar will focus on the work what we do and how we can support. It will also have a focus on our renewable service\, the tailored reports which can be created as well as links to funding which may be available. \nKeeping your home warm and lowering your carbon footprint can go hand in hand. Learn how renewable energy like solar power\, wind\, and water can heat your home for less.
URL:https://investinangus.com/event/home-energy-scotland-home-renewables-decarbonising-your-home-and-making-it-more-energy-efficient/
CATEGORIES:Energy
END:VEVENT
BEGIN:VEVENT
DTSTART;TZID=UTC:20250625T180000
DTEND;TZID=UTC:20250625T190000
DTSTAMP:20260425T132641
CREATED:20250616T153548Z
LAST-MODIFIED:20250616T153548Z
UID:10091389-1750874400-1750878000@investinangus.com
SUMMARY:Home Energy Scotland home renewables - decarbonising your home and making it more energy efficient
DESCRIPTION:Home Energy Scotland is here to offer free advice and support to help you make your home warmer\, reduce your energy bills\, and contribute to a greener\, more sustainable future. \nOur service is funded by the Scottish Government and managed by Energy Saving Trust. We are committed to positively impacting the lives of people throughout Scotland. This webinar will focus on the work what we do and how we can support. It will also have a focus on our renewable service\, the tailored reports which can be created as well as links to funding which may be available. \nKeeping your home warm and lowering your carbon footprint can go hand in hand. Learn how renewable energy like solar power\, wind\, and water can heat your home for less.
URL:https://investinangus.com/event/home-energy-scotland-home-renewables-decarbonising-your-home-and-making-it-more-energy-efficient-2/
CATEGORIES:Energy
END:VEVENT
BEGIN:VEVENT
DTSTART;TZID=UTC:20250626T123000
DTEND;TZID=UTC:20250626T133000
DTSTAMP:20260425T132641
CREATED:20250616T153648Z
LAST-MODIFIED:20250616T153648Z
UID:10091391-1750941000-1750944600@investinangus.com
SUMMARY:Home Energy Scotland for landlords - decarbonising your rental home and making it more energy efficient
DESCRIPTION:This webinar will focus on the work the help available to registered private landlords looking to improve the energy efficiency of their rental properties. \nWhether you’re looking to discuss your Energy Performance Certificate (EPC) or various funding options or have your property assessed in depth\, we can help. \nIf you need to make improvements to your property\, now’s the time to start. Our private landlord specialists can talk you through the new standards and help you determine what improvements to prioritise.
URL:https://investinangus.com/event/home-energy-scotland-for-landlords-decarbonising-your-rental-home-and-making-it-more-energy-efficient/
CATEGORIES:Energy
END:VEVENT
BEGIN:VEVENT
DTSTART;TZID=UTC:20250626T180000
DTEND;TZID=UTC:20250626T190000
DTSTAMP:20260425T132641
CREATED:20250616T153751Z
LAST-MODIFIED:20250616T153751Z
UID:10091393-1750960800-1750964400@investinangus.com
SUMMARY:Home Energy Scotland for landlords - decarbonising your rental home and making it more energy efficient
DESCRIPTION:This webinar will focus on the work the help available to registered private landlords looking to improve the energy efficiency of their rental properties. \nWhether you’re looking to discuss your Energy Performance Certificate (EPC) or various funding options or have your property assessed in depth\, we can help. \nIf you need to make improvements to your property\, now’s the time to start. Our private landlord specialists can talk you through the new standards and help you determine what improvements to prioritise.
URL:https://investinangus.com/event/home-energy-scotland-for-landlords-decarbonising-your-rental-home-and-making-it-more-energy-efficient-2/
CATEGORIES:Energy
END:VEVENT
BEGIN:VEVENT
DTSTART;TZID=UTC:20250925T100000
DTEND;TZID=UTC:20250925T110000
DTSTAMP:20260425T132641
CREATED:20250829T134948Z
LAST-MODIFIED:20250829T134948Z
UID:10091891-1758794400-1758798000@investinangus.com
SUMMARY:Could voltage optimisation quickly cut your energy bills
DESCRIPTION:Unless your business is operating completely off grid by generating its own electricity\, you’ll be powering your lights\, fans\, compressors\, fridges\, freezers and so on using electricity that’s supplied by the UK’s National Grid. \nThe National Grid supplies your electricity at a voltage of around 230 Volts\, but did you know that not all equipment needs the 230 Volts you’re paying for? And that that many types of equipment simply waste what they don’t use. \nIntroducing voltage optimisation – a voltage optimisation device stops waste. By regulating the flow of electricity around your business it ensures that the energy your business pays for is utilised more effectively. \nIf you are interested in reducing your energy bills and carbon footprint\, join this webinar to find out if voltage optimisation could help you.
URL:https://investinangus.com/event/could-voltage-optimisation-quickly-cut-your-energy-bills/
CATEGORIES:Energy
END:VEVENT
BEGIN:VEVENT
DTSTART;TZID=UTC:20251103T120000
DTEND;TZID=UTC:20251103T123000
DTSTAMP:20260425T132641
CREATED:20251008T161832Z
LAST-MODIFIED:20251008T161832Z
UID:10092237-1762171200-1762173000@investinangus.com
SUMMARY:Lunch and Learn: How to save cash and carbon
DESCRIPTION:Join us for a practical session with small business energy expert Jon Perks on how to save your business cash and carbon from the outset. \nThe energy market today is fast-moving and finding the right tariff isn’t just about cutting costs – it’s about gaining a real competitive advantage. \nIn this Lunch and Learn\, Jon will explain how to choose the most suitable energy tariff for your small business. \nYou’ll learn how to interpret your energy consumption (with the help of your smart meter) to make small\, simple changes that add up to big savings on both cash and carbon. \nYou’ll leave with actionable tips on saving time\, reducing your bills and shrinking your carbon footprint – all while keeping your business ahead of the curve through the power of data. \nDon’t miss out on this opportunity to learn how smarter energy choices can help your business save cash and carbon\, and grow. \nTopics covered in this session: \n\nHow to pick the right tariff for your business: Why having the right tariff and shifting consumption can save the earth – in more ways than one\nYour energy insights: How to use data from your smart meter to quickly identify where you can cut costs and reduce your carbon footprint\, without taking up valuable time\nActionable tips to save cash and carbon: Walk away with practical\, easy-to-implement tips that will help your business save money and time\, and stay competitive in today’s market
URL:https://investinangus.com/event/lunch-and-learn-how-to-save-cash-and-carbon/
CATEGORIES:Business Planning,Energy,Finance,Green Economy
END:VEVENT
BEGIN:VEVENT
DTSTART;TZID=UTC:20260210T090000
DTEND;TZID=UTC:20260212T153000
DTSTAMP:20260425T132641
CREATED:20251216T102828Z
LAST-MODIFIED:20251216T102828Z
UID:10092789-1770714000-1770910200@investinangus.com
SUMMARY:International Energy Week 2026
DESCRIPTION:International Energy Week 2026 is the first major global energy event following COP30\, where the world’s energy leaders gather to turn climate commitments into action. \nBacked by the Energy Institute and its 20\,000-strong membership\, International Energy Week offers a unique platform to tackle the most urgent challenges in energy: from grid resilience and supply chain risk\, to financing the transition and scaling innovation. \nWith its trusted heritage as the UK’s flagship energy event\, International Energy Week is more than just a conference – it’s a convening force\, a networking hub and a strategic tool in the Energy Institute’s mission to create a better energy future. \nOver three days of high-profile keynotes\, panel discussions\, and networking\, and culminating in the prestigious International Energy Week dinner and awards ceremony\, the week attracts more than 1\,000 delegates from around the globe. \nInternational Energy Week is designed for energy professionals across the spectrum – executives\, policymakers\, investors\, engineers\, academics\, and early-career talent. Whether you’re driving strategy\, scaling innovation or shaping policy\, this is your platform to connect\, collaborate and lead. \nIt is the essential annual fixture for those leading on corporate strategy\, business development\, and technological innovation\, those wanting to retain a competitive edge\, and anyone seeking insight into the great energy challenges facing humanity and once-in-a-generation energy transition opportunities.
URL:https://investinangus.com/event/international-energy-week-2026/
LOCATION:QEII Centre\, Westminster\, London\, SW1P 3EE
CATEGORIES:Energy
END:VEVENT
BEGIN:VEVENT
DTSTART;TZID=UTC:20260225T120000
DTEND;TZID=UTC:20260225T160000
DTSTAMP:20260425T132641
CREATED:20251216T103235Z
LAST-MODIFIED:20251216T103235Z
UID:10092792-1772020800-1772035200@investinangus.com
SUMMARY:Heat Seminar 2026
DESCRIPTION:A quiet revolution is reshaping Scotland’s energy future: the shift from a market-led energy system to one that is strategically planned. Post-2030\, the electrification of heat and transport will be pivotal in transforming the electricity system. But despite ongoing developments with strategic planning and transmission networks\, decarbonising heat remains the missing piece of the puzzle. \nThere is an urgent need to address the lack of strategic planning for low-carbon heat\, resolve the growing disparity between gas and electricity prices and determine what’s needed from government to enable the large-scale adoption of low-carbon heat – all critical steps in building a secure\, affordable\, clean energy system. \nThis event will bring together leading experts\, policymakers and key decision-makers to examine the role of heat in an electrified system\, tackle the difficult questions and discuss the urgent policy interventions needed to significantly increase the deployment of low-carbon heat. \nSecure your place today and be part of the conversation that will shape the next decade of heat decarbonisation.
URL:https://investinangus.com/event/heat-seminar-2026/
LOCATION:Scottish Renewables’ Office\, 24 St Vincent Place\, Glasgow\, G1 2EU
CATEGORIES:Energy
END:VEVENT
BEGIN:VEVENT
DTSTART;TZID=UTC:20260327T100000
DTEND;TZID=UTC:20260327T110000
DTSTAMP:20260425T132641
CREATED:20260312T145013Z
LAST-MODIFIED:20260312T145013Z
UID:10093607-1774605600-1774609200@investinangus.com
SUMMARY:Systems and Solutions for Passive & Low Energy Design
DESCRIPTION:In this webinar\, Keira Proctor\, Managing Director of the Proctor Group\, gives an introduction to the principles behind passive and low energy building design. We’ll also review some of the systems and solutions that contribute to thermally efficient building envelopes across all types of building. \n\nPassive and low energy design principles\nEfficient construction technologies\nManaging Moisture and indoor air quality\nFabric first energy performance
URL:https://investinangus.com/event/systems-and-solutions-for-passive-low-energy-design/
CATEGORIES:Energy
END:VEVENT
BEGIN:VEVENT
DTSTART;TZID=UTC:20260513T090000
DTEND;TZID=UTC:20260514T153000
DTSTAMP:20260425T132641
CREATED:20251216T104915Z
LAST-MODIFIED:20251216T104915Z
UID:10092800-1778662800-1778772600@investinangus.com
SUMMARY:All-Energy Exhibition & Conference 2026
DESCRIPTION:All-Energy is paving the way to more environmentally friendly events. With several sustainable initiatives and a clear objective to reduce our carbon footprint\, we’re leading by example​. \nJoin us for two days of networking\, connections\, and uninterrupted business with the renewable energy community. Explore the star-studded conference programme featuring topical discussions on every form of renewable energy\, decarbonising transport\, heat\, cities/places\, industry\, the supply chain\, and much more.​ \n2025 saw another record-breaking year for All-Energy at Glasgow’s SEC with an impressive 13\,033 attendees – surpassing 2024’s figures. The two-day event featured over 270 exhibitors and more than 600 speakers across 57 conference sessions\, including the addition of a new Grid and Networks theatre. Buzzing aisles\, packed theatres\, and lively networking events such as the Giant Networking Evening at Glasgow Science Centre highlighted the sector’s momentum. The inaugural Innovation Zone Competition for SMEs brought fresh talent to the fore\, further energising the show floor.
URL:https://investinangus.com/event/all-energy-exhibition-conference-2026/
LOCATION:SEC Glasgow\, Exhibition Way\, Glasgow\, G3 8YW
CATEGORIES:Energy
END:VEVENT
END:VCALENDAR