BEGIN:VCALENDAR
VERSION:2.0
PRODID:-//Invest in Angus - ECPv6.15.17.1//NONSGML v1.0//EN
CALSCALE:GREGORIAN
METHOD:PUBLISH
X-WR-CALNAME:Invest in Angus
X-ORIGINAL-URL:https://investinangus.com
X-WR-CALDESC:Events for Invest in Angus
REFRESH-INTERVAL;VALUE=DURATION:PT1H
X-Robots-Tag:noindex
X-PUBLISHED-TTL:PT1H
BEGIN:VTIMEZONE
TZID:UTC
BEGIN:STANDARD
TZOFFSETFROM:+0000
TZOFFSETTO:+0000
TZNAME:UTC
DTSTART:20210101T000000
END:STANDARD
END:VTIMEZONE
BEGIN:VEVENT
DTSTART;TZID=UTC:20220217T140000
DTEND;TZID=UTC:20220217T160000
DTSTAMP:20260419T204140
CREATED:20220117T171322Z
LAST-MODIFIED:20220117T171322Z
UID:10083947-1645106400-1645113600@investinangus.com
SUMMARY:Bookkeeping and finance: The essentials for business
DESCRIPTION:This webinar is for those who are entering business for the first time or require an understanding of what is involved in financially managing a business\, including developing basic bookkeeping\, and creating a profit and loss account. You will also get an understanding of what expenses the business can claim and then how to fund both start up and growth. At the end of the session\, you will receive a workbook on excel to help you manage and monitor costs and sales. \nAfter this webinar\, you will be able to: \n\nImplement basic bookkeeping skills across your business\nCreate a profit and loss account\nUnderstand what expenses can and cannot be claimed\nUse financial management to increase revenues and profits\nUnderstand how you can fund your business
URL:https://investinangus.com/event/bookkeeping-and-finance-the-essentials-for-business-18/
CATEGORIES:Finance
END:VEVENT
BEGIN:VEVENT
DTSTART;TZID=UTC:20220217T180000
DTEND;TZID=UTC:20220217T200000
DTSTAMP:20260419T204140
CREATED:20220110T111825Z
LAST-MODIFIED:20220110T111825Z
UID:10083884-1645120800-1645128000@investinangus.com
SUMMARY:Complete Guide to Finance for Start-Ups
DESCRIPTION:The workshop will look at: \n\nmanaging a profit and loss account\nproducing a cashflow statement\nworking capital\nthe different sources of finance\nthe different legal structures of a business
URL:https://investinangus.com/event/complete-guide-to-finance-for-start-ups/
CATEGORIES:Business Start-up,Finance
END:VEVENT
BEGIN:VEVENT
DTSTART;TZID=UTC:20220221T110000
DTEND;TZID=UTC:20220221T120000
DTSTAMP:20260419T204140
CREATED:20220209T155337Z
LAST-MODIFIED:20220209T155337Z
UID:10084098-1645441200-1645444800@investinangus.com
SUMMARY:Making Tax Digital – what small businesses need to know
DESCRIPTION:Interactive session to explore the support available from HMRC\, Rhino and FSB to businesses and the self-employed with the upcoming Making Tax Digital rules so customers can submit their VAT returns directly to HMRC and become MTD compliant. \n\nEvent details\nEverything a business owner needs to know about Making Tax Digital and what business owners need to do to get MTD compliant. \nGet ready for Making Tax Digital with FSB  \nMaking Tax Digital (MTD) is an HMRC initiative designed to help businesses and individuals correctly calculate their tax through a system that is more efficient\, effective and simpler to use. \nAll VAT-registered businesses will need to report digital VAT records to HMRC through compatible software from 1 April 2022\, regardless of turnover. If you are registered for VAT and your annual taxable turnover is above £85\,000\, you should already be using MTD compatible software. \nIn April 2024\, MTD for Income Tax and Self Assessments will come into force\, affecting all self-employed individuals with a turnover of over £10\,000. There’s no need to wait – you can start preparing for the new rules today and streamline your processes. \nGet ahead of the curve and find out what you need to do to comply with Making Tax Digital for VAT with the FSB Making Tax Digital App\, an HMRC recognised solution for small businesses and the self-employed provided in partnership with Rhino Software Ltd. \nJoin HMRC\, Rhino and FSB to find out all about Making Tax Digital\, what it means for business owners and how you can become MTD compliant using the FSB Making Tax Digital app. \nWe’ve worked with Rhino Software to build an app designed to help small businesses and the self-employed become MTD compliant without the confusion and pressure. Setting up your account is quick and easy. Record your expenses\, create invoices and submit your VAT return directly to HMRC at the click of a button. \nGet to know the system with a play account\, where you can enter details and try out functions without affecting your live accounts. When you are ready you can upgrade to a free edition. Exclusive discounts and online chat available to FSB members only.
URL:https://investinangus.com/event/making-tax-digital-what-small-businesses-need-to-know/
CATEGORIES:Business Planning,Finance
END:VEVENT
BEGIN:VEVENT
DTSTART;TZID=UTC:20220228T140000
DTEND;TZID=UTC:20220228T160000
DTSTAMP:20260419T204140
CREATED:20220117T171818Z
LAST-MODIFIED:20220117T171818Z
UID:10083962-1646056800-1646064000@investinangus.com
SUMMARY:Bookkeeping and finance: The essentials for business
DESCRIPTION:This webinar is for those who are entering business for the first time or require an understanding of what is involved in financially managing a business\, including developing basic bookkeeping\, and creating a profit and loss account. You will also get an understanding of what expenses the business can claim and then how to fund both start up and growth. At the end of the session\, you will receive a workbook on excel to help you manage and monitor costs and sales. \nAfter this webinar\, you will be able to: \n\nImplement basic bookkeeping skills across your business\nCreate a profit and loss account\nUnderstand what expenses can and cannot be claimed\nUse financial management to increase revenues and profits\nUnderstand how you can fund your business
URL:https://investinangus.com/event/bookkeeping-and-finance-the-essentials-for-business-19/
CATEGORIES:Finance
END:VEVENT
END:VCALENDAR