BEGIN:VCALENDAR
VERSION:2.0
PRODID:-//Invest in Angus - ECPv6.15.17.1//NONSGML v1.0//EN
CALSCALE:GREGORIAN
METHOD:PUBLISH
X-ORIGINAL-URL:https://investinangus.com
X-WR-CALDESC:Events for Invest in Angus
REFRESH-INTERVAL;VALUE=DURATION:PT1H
X-Robots-Tag:noindex
X-PUBLISHED-TTL:PT1H
BEGIN:VTIMEZONE
TZID:UTC
BEGIN:STANDARD
TZOFFSETFROM:+0000
TZOFFSETTO:+0000
TZNAME:UTC
DTSTART:20240101T000000
END:STANDARD
END:VTIMEZONE
BEGIN:VEVENT
DTSTART;TZID=UTC:20250106T100000
DTEND;TZID=UTC:20250106T120000
DTSTAMP:20260419T170820
CREATED:20241118T093225Z
LAST-MODIFIED:20241118T093225Z
UID:10090312-1736157600-1736164800@investinangus.com
SUMMARY:Bookkeeping essentials
DESCRIPTION:This webinar is for those who are entering business for the first time or require an understanding of what is involved in financially managing a business\, including basic bookkeeping\, and creating a profit and loss account. You will also get an understanding of what expenses the business can claim and then how to fund your business. At the end of the session\, you will receive a workbook on excel to help you manage and monitor costs and sales. \nAt the end of this session\, you will be able to: \n\nImplement basic bookkeeping skills across your business\nCreate a profit and loss account\nUnderstand what expenses can and cannot be claimed\nUse financial management to increase revenues and profits\nUnderstand capital and revenue costs and how they are treated
URL:https://investinangus.com/event/bookkeeping-essentials-16/
CATEGORIES:Finance
END:VEVENT
BEGIN:VEVENT
DTSTART;TZID=UTC:20250107T100000
DTEND;TZID=UTC:20250107T120000
DTSTAMP:20260419T170820
CREATED:20241118T093307Z
LAST-MODIFIED:20241118T093307Z
UID:10090314-1736244000-1736251200@investinangus.com
SUMMARY:How to write funding applications
DESCRIPTION:When submitting applications for funding\, you need to ensure that the applications are written in such a way that improves your chances of being successful. \nThere are numerous funders out there and each will have their unique way they wish you to apply\, however\, in this webinar we’ll explore some key steps you can take to improve your chances of a successful application\, including: \n\nClarifying your need\n\n\nDemonstrating your needs\n\n\nUnderstanding your funder\n\n\nHow to speak their language\n\n\nGetting the basics right\n\n\nOvercoming the common mistakes\n\n\nAnswering the questions asked
URL:https://investinangus.com/event/how-to-write-funding-applications-2/
CATEGORIES:Finance
END:VEVENT
BEGIN:VEVENT
DTSTART;TZID=UTC:20250109T150000
DTEND;TZID=UTC:20250109T170000
DTSTAMP:20260419T170820
CREATED:20250106T113753Z
LAST-MODIFIED:20250106T113753Z
UID:10090476-1736434800-1736442000@investinangus.com
SUMMARY:Business Planning: Secure Your Funding
DESCRIPTION:An in-depth walkthrough of our standard Business Plan template\, designed to help clients\, especially those applying for the Angus Council Grant\, create their best possible business plan. \nAttendees will be provided with and guided through a comprehensive business plan template\, perfect for your application to the Angus Council Start and Grow grant. \nOur expert Business Gateway advisors will guide you through the template in a step-by-step presentation. Afterward\, all three advisors will be available for one-on-one sessions to discuss your individual plans in more detail.
URL:https://investinangus.com/event/business-planning-secure-your-funding/
LOCATION:Business Gateway Arbroath\, Unit 9 Harbour Visitor Centre\, Arbroath\, DD11 1PS
CATEGORIES:Business Planning,Finance
END:VEVENT
BEGIN:VEVENT
DTSTART;TZID=UTC:20250114T100000
DTEND;TZID=UTC:20250114T120000
DTSTAMP:20260419T170820
CREATED:20250106T113918Z
LAST-MODIFIED:20250106T113918Z
UID:10090479-1736848800-1736856000@investinangus.com
SUMMARY:Business Planning: Secure Your Funding
DESCRIPTION:An in-depth walkthrough of our standard Business Plan template\, designed to help clients\, especially those applying for the Angus Council Grant\, create their best possible business plan. \nAttendees will be provided with and guided through a comprehensive business plan template\, perfect for your application to the Angus Council Start and Grow grant. \nOur expert Business Gateway advisors will guide you through the template in a step-by-step presentation. Afterward\, all three advisors will be available for one-on-one sessions to discuss your individual plans in more detail.
URL:https://investinangus.com/event/business-planning-secure-your-funding-2/
LOCATION:Montrose Port Authority\, Harbour Office\, South Quay\, Montrose\, DD10 9SL
CATEGORIES:Business Planning,Finance
END:VEVENT
BEGIN:VEVENT
DTSTART;TZID=UTC:20250116T100000
DTEND;TZID=UTC:20250116T120000
DTSTAMP:20260419T170820
CREATED:20241125T091343Z
LAST-MODIFIED:20241125T091343Z
UID:10090354-1737021600-1737028800@investinangus.com
SUMMARY:Unlocking the power of crowdfunding
DESCRIPTION:This webinar will equip businesses with the knowledge and strategies to effectively leverage crowdfunding for growth and success. \nWe’ll cover: \n\nUnderstanding your funding audience\nCrowdfunding success stories\nThe impact of a successful campaign\nThe opportunity presented by patronage models\nEssential elements of a winning crowdfunding campaign\nBuilding a crowdfunding culture\nCrowdfunding myths and realities\nStrategies for success\n\nBy the end of this webinar\, you will have a comprehensive understanding of crowdfunding and patronage/membership models\, actionable strategies to launch a successful campaign and the confidence to take your organisation to new heights through crowdfunding.
URL:https://investinangus.com/event/unlocking-the-power-of-crowdfunding-3/
CATEGORIES:Finance
END:VEVENT
BEGIN:VEVENT
DTSTART;TZID=UTC:20250120T100000
DTEND;TZID=UTC:20250120T120000
DTSTAMP:20260419T170820
CREATED:20241118T093858Z
LAST-MODIFIED:20241118T093858Z
UID:10090328-1737367200-1737374400@investinangus.com
SUMMARY:Bookkeeping essentials
DESCRIPTION:This webinar is for those who are entering business for the first time or require an understanding of what is involved in financially managing a business\, including basic bookkeeping\, and creating a profit and loss account. You will also get an understanding of what expenses the business can claim and then how to fund your business. At the end of the session\, you will receive a workbook on excel to help you manage and monitor costs and sales. \nAt the end of this session\, you will be able to: \n\nImplement basic bookkeeping skills across your business\nCreate a profit and loss account\nUnderstand what expenses can and cannot be claimed\nUse financial management to increase revenues and profits\nUnderstand capital and revenue costs and how they are treated
URL:https://investinangus.com/event/bookkeeping-essentials-17/
CATEGORIES:Finance
END:VEVENT
BEGIN:VEVENT
DTSTART;TZID=UTC:20250122T100000
DTEND;TZID=UTC:20250122T120000
DTSTAMP:20260419T170820
CREATED:20241118T094142Z
LAST-MODIFIED:20241118T094142Z
UID:10090334-1737540000-1737547200@investinangus.com
SUMMARY:Delivering profit to drive growth
DESCRIPTION:The course covers financial analysis\, strategic decision-making\, resource allocation\, and the role of innovation and scalability in leveraging profit for long-term success. \nWe will cover: \n\nGetting to know your financials\nControlling growth\nImproving decision making\nOpportunities\nCash is king\nControlling change\nPricing strategies for maximum profit\nMeasuring profit
URL:https://investinangus.com/event/delivering-profit-to-drive-growth-11/
CATEGORIES:Business Planning,Finance
END:VEVENT
BEGIN:VEVENT
DTSTART;TZID=UTC:20250127T180000
DTEND;TZID=UTC:20250127T200000
DTSTAMP:20260419T170820
CREATED:20250120T173912Z
LAST-MODIFIED:20250120T173912Z
UID:10090544-1738000800-1738008000@investinangus.com
SUMMARY:A Guide to Completing your Self-Assessment Tax Return with EQ Chartered Accountants
DESCRIPTION:If you are newly self-employed and are required to submit a self-assessment return for the first time or want to better understand the basics of completing your Self-Assessment Tax Return then this workshop is for you. \nThe session will cover the key dates\, the basics about allowable expenses and record keeping\, as well as how income tax and National Insurance Contributions are calculated.
URL:https://investinangus.com/event/a-guide-to-completing-your-self-assessment-tax-return-with-eq-chartered-accountants-3/
CATEGORIES:Finance
END:VEVENT
BEGIN:VEVENT
DTSTART;TZID=UTC:20250128T160000
DTEND;TZID=UTC:20250128T180000
DTSTAMP:20260419T170820
CREATED:20241209T090036Z
LAST-MODIFIED:20241209T090036Z
UID:10090444-1738080000-1738087200@investinangus.com
SUMMARY:Business Finance Viability
DESCRIPTION:Led by experienced advisers\, this webinar takes the fear out of finances\, providing practical tools and guidance to help you confidently manage your business’s budgeting and forecasting. You’ll learn how to identify the hidden costs of running your business\, including the cost of hiring staff\, maintaining stock levels\, and other crucial expenses. \nThrough a series of engaging exercises\, you’ll gain a deeper understanding of your business’s financial viability\, helping you make informed decisions about its future growth and success. Whether you’re a new entrepreneur or have been in business for a couple of years\, this webinar is tailored to your needs\, providing you with the knowledge and skills to take your business to the next level. \nDon’t let financial worries hold you back from realizing your business’s full potential. Sign up for the Business Finance Viability webinar today and discover how to confidently manage your business’s financial health!
URL:https://investinangus.com/event/business-finance-viability-20/
CATEGORIES:Finance
END:VEVENT
END:VCALENDAR