BEGIN:VCALENDAR
VERSION:2.0
PRODID:-//Invest in Angus - ECPv6.15.17.1//NONSGML v1.0//EN
CALSCALE:GREGORIAN
METHOD:PUBLISH
X-ORIGINAL-URL:https://investinangus.com
X-WR-CALDESC:Events for Invest in Angus
REFRESH-INTERVAL;VALUE=DURATION:PT1H
X-Robots-Tag:noindex
X-PUBLISHED-TTL:PT1H
BEGIN:VTIMEZONE
TZID:UTC
BEGIN:STANDARD
TZOFFSETFROM:+0000
TZOFFSETTO:+0000
TZNAME:UTC
DTSTART:20240101T000000
END:STANDARD
END:VTIMEZONE
BEGIN:VEVENT
DTSTART;TZID=UTC:20250210T100000
DTEND;TZID=UTC:20250210T120000
DTSTAMP:20260419T204322
CREATED:20250120T173954Z
LAST-MODIFIED:20250120T173954Z
UID:10090546-1739181600-1739188800@investinangus.com
SUMMARY:Bookkeeping essentials
DESCRIPTION:This webinar is for those who are entering business for the first time or require an understanding of what is involved in financially managing a business\, including basic bookkeeping\, and creating a profit and loss account. You will also get an understanding of what expenses the business can claim and then how to fund your business. At the end of the session\, you will receive a workbook on excel to help you manage and monitor costs and sales. \nAt the end of this session\, you will be able to: \n\nImplement basic bookkeeping skills across your business\nCreate a profit and loss account\nUnderstand what expenses can and cannot be claimed\nUse financial management to increase revenues and profits\nUnderstand capital and revenue costs and how they are treated
URL:https://investinangus.com/event/bookkeeping-essentials-18/
CATEGORIES:Finance
END:VEVENT
BEGIN:VEVENT
DTSTART;TZID=UTC:20250220T100000
DTEND;TZID=UTC:20250220T120000
DTSTAMP:20260419T204322
CREATED:20250120T174342Z
LAST-MODIFIED:20250120T174342Z
UID:10090556-1740045600-1740052800@investinangus.com
SUMMARY:Delivering profit to drive growth
DESCRIPTION:The course covers financial analysis\, strategic decision-making\, resource allocation\, and the role of innovation and scalability in leveraging profit for long-term success. \nWe will cover: \n\nGetting to know your financials\nControlling growth\nImproving decision making\nOpportunities\nCash is king\nControlling change\nPricing strategies for maximum profit\nMeasuring profit
URL:https://investinangus.com/event/delivering-profit-to-drive-growth-12/
CATEGORIES:Finance
END:VEVENT
BEGIN:VEVENT
DTSTART;TZID=UTC:20250224T100000
DTEND;TZID=UTC:20250224T120000
DTSTAMP:20260419T204322
CREATED:20250120T174755Z
LAST-MODIFIED:20250120T174755Z
UID:10090562-1740391200-1740398400@investinangus.com
SUMMARY:Bookkeeping essentials
DESCRIPTION:This webinar is for those who are entering business for the first time or require an understanding of what is involved in financially managing a business\, including basic bookkeeping\, and creating a profit and loss account. You will also get an understanding of what expenses the business can claim and then how to fund your business. At the end of the session\, you will receive a workbook on excel to help you manage and monitor costs and sales. \nAt the end of this session\, you will be able to: \n\nImplement basic bookkeeping skills across your business\nCreate a profit and loss account\nUnderstand what expenses can and cannot be claimed\nUse financial management to increase revenues and profits\nUnderstand capital and revenue costs and how they are treated
URL:https://investinangus.com/event/bookkeeping-essentials-19/
CATEGORIES:Finance
END:VEVENT
END:VCALENDAR