BEGIN:VCALENDAR
VERSION:2.0
PRODID:-//Invest in Angus - ECPv6.15.17.1//NONSGML v1.0//EN
CALSCALE:GREGORIAN
METHOD:PUBLISH
X-WR-CALNAME:Invest in Angus
X-ORIGINAL-URL:https://investinangus.com
X-WR-CALDESC:Events for Invest in Angus
REFRESH-INTERVAL;VALUE=DURATION:PT1H
X-Robots-Tag:noindex
X-PUBLISHED-TTL:PT1H
BEGIN:VTIMEZONE
TZID:UTC
BEGIN:STANDARD
TZOFFSETFROM:+0000
TZOFFSETTO:+0000
TZNAME:UTC
DTSTART:20240101T000000
END:STANDARD
END:VTIMEZONE
BEGIN:VEVENT
DTSTART;TZID=UTC:20250808T120000
DTEND;TZID=UTC:20250808T123000
DTSTAMP:20260420T045954
CREATED:20250728T144931Z
LAST-MODIFIED:20250728T144931Z
UID:10091623-1754654400-1754656200@investinangus.com
SUMMARY:Lunch and Learn: How to pay yourself from your business
DESCRIPTION:Running a business is hard work – but how do you make sure you\, the business owner\, are getting paid too? \nThis webinar\, led by Nathan Pretty gives practical tips to help business owners understand how to pay themselves legally and efficiently\, as well as highlighting things to avoid. \nPerfect for new business owners who need to start paying themselves and longer standing business owners who may feel scared to take money out of the business for themselves. \nKey takeaways from this session: \n\nDifferent methods of paying yourself\nUnderstanding tax implications of paying yourself for different business structures (sole trader\, partnership\, limited company)\nCommon mistakes to avoid when paying yourself from your business\n\nNathan is a chartered certified accountant with over 10 years of experience in the field. He specialises in helping new businesses get their financial footing. \nFrom bookkeeping to tax planning\, Nathan has you covered. His goal is to make the financial side of your business as smooth and stress-free as possible\, so you can focus on what you do best.
URL:https://investinangus.com/event/lunch-and-learn-how-to-pay-yourself-from-your-business/
CATEGORIES:Finance
END:VEVENT
BEGIN:VEVENT
DTSTART;TZID=UTC:20250812T120000
DTEND;TZID=UTC:20250812T123000
DTSTAMP:20260420T045954
CREATED:20250728T145150Z
LAST-MODIFIED:20250728T145150Z
UID:10091625-1755000000-1755001800@investinangus.com
SUMMARY:Lunch and Learn: How to manage your business finances
DESCRIPTION:Join Rebecca Barker from Artful Accountancy Ltd for a relaxed\, jargon-free session designed specifically for busy entrepreneurs and small business owners. \nYou’ll get practical\, stress-free advice on how to manage your business finances\, make sense of essential accounting terms\, avoid common mistakes and use time-saving tools. Leave with tips you can implement right away\, as well as a helpful checklist and a renewed sense of control over your money. \nKey takeaways from this session: \n\nDemystify accounting: Get simple explanations of essential bookkeeping terms\, so you can feel confident and empowered when it comes to your finances\nAvoid costly mistakes: Learn about the main financial mistakes that new businesses often make and how to steer clear of them\nTime-saving technology and tools: Discover accounting tools like Xero\, QuickBooks and FreeAgent and how to use them to stay organised and save time\n\nRebecca is the director of Artful Accountancy Ltd\, where she helps creative business owners and entrepreneurs navigate their finances in a practical and stress-free way. \nWith a focus on simplifying complex accounting terms and using technology to save time\, Rebecca empowers clients to manage their financials without feeling overwhelmed.
URL:https://investinangus.com/event/lunch-and-learn-how-to-manage-your-business-finances/
CATEGORIES:Finance
END:VEVENT
BEGIN:VEVENT
DTSTART;TZID=UTC:20250813T100000
DTEND;TZID=UTC:20250813T120000
DTSTAMP:20260420T045954
CREATED:20250623T090837Z
LAST-MODIFIED:20250623T090837Z
UID:10091423-1755079200-1755086400@investinangus.com
SUMMARY:Bookkeeping essentials
DESCRIPTION:This webinar is for those who are entering business for the first time or require an understanding of what is involved in financially managing a business\, including basic bookkeeping\, and creating a profit and loss account. You will also get an understanding of what expenses the business can claim and then how to fund your business. At the end of the session\, you will receive a workbook on excel to help you manage and monitor costs and sales. \nAt the end of this session\, you will be able to: \n\nImplement basic bookkeeping skills across your business\nCreate a profit and loss account\nUnderstand what expenses can and cannot be claimed\nUse financial management to increase revenues and profits\nUnderstand capital and revenue costs and how they are treated
URL:https://investinangus.com/event/bookkeeping-essentials-30/
CATEGORIES:Finance
END:VEVENT
BEGIN:VEVENT
DTSTART;TZID=UTC:20250814T120000
DTEND;TZID=UTC:20250814T140000
DTSTAMP:20260420T045954
CREATED:20250623T090920Z
LAST-MODIFIED:20250623T090920Z
UID:10091425-1755172800-1755180000@investinangus.com
SUMMARY:How to write funding applications
DESCRIPTION:When submitting applications for funding\, you need to ensure that the applications are written in such a way that improves your chances of being successful. \nThere are numerous funders out there and each will have their unique way they wish you to apply\, however\, in this webinar we’ll explore some key steps you can take to improve your chances of a successful application\, including: \n\nClarifying your need\n\n\nDemonstrating your needs\n\n\nUnderstanding your funder\n\n\nHow to speak their language\n\n\nGetting the basics right\n\n\nOvercoming the common mistakes\n\n\nAnswering the questions asked
URL:https://investinangus.com/event/how-to-write-funding-applications-7/
CATEGORIES:Finance
END:VEVENT
BEGIN:VEVENT
DTSTART;TZID=UTC:20250820T100000
DTEND;TZID=UTC:20250820T120000
DTSTAMP:20260420T045954
CREATED:20250623T091319Z
LAST-MODIFIED:20250623T091319Z
UID:10091431-1755684000-1755691200@investinangus.com
SUMMARY:Bookkeeping essentials
DESCRIPTION:This webinar is for those who are entering business for the first time or require an understanding of what is involved in financially managing a business\, including basic bookkeeping\, and creating a profit and loss account. You will also get an understanding of what expenses the business can claim and then how to fund your business. At the end of the session\, you will receive a workbook on excel to help you manage and monitor costs and sales. \nAt the end of this session\, you will be able to: \n\nImplement basic bookkeeping skills across your business\nCreate a profit and loss account\nUnderstand what expenses can and cannot be claimed\nUse financial management to increase revenues and profits\nUnderstand capital and revenue costs and how they are treated
URL:https://investinangus.com/event/bookkeeping-essentials-31/
CATEGORIES:Finance
END:VEVENT
BEGIN:VEVENT
DTSTART;TZID=UTC:20250826T160000
DTEND;TZID=UTC:20250826T173000
DTSTAMP:20260420T045954
CREATED:20250618T083022Z
LAST-MODIFIED:20250618T083022Z
UID:10091398-1756224000-1756229400@investinangus.com
SUMMARY:Making Tax Digital Explained: Businesses With Over £50k Turnover
DESCRIPTION:Whether you’re a sole trader\, landlord\, or small business owner\, this friendly\, no-nonsense session will get you up to speed. \nIf your combined income from self-employment and property is £50\,000 or more\, you’ll be required to follow the new rules from April 2026. We’ll cut through the confusion\, explain what’s changing\, and show you how to stay compliant without the stress. \nThis session will be presented by GrowBiz Finance Manager\, Kirsteen Hardie. \nBy the end of the session\, you’ll be able to: \n\nUnderstand who MTD for Income Tax Self Assessment applies to and when it starts\nKnow exactly what you’ll need to submit to HMRC – and how often\nSee how cloud accounting can save time and make things easier\nGet tips on choosing the right digital tools for your business\nFeel confident about taking your next steps toward compliance\n\nThis session is a must to small businesses that meet this level of turnover – so please do come along to find out more. \nGrowBiz provides enterprise support to businesses\, social and micro-enterprises and the self-employed across rural and island Scotland. Please only book a space if you are based in rural Scotland.
URL:https://investinangus.com/event/making-tax-digital-explained-businesses-with-over-50k-turnover/
CATEGORIES:Finance
END:VEVENT
END:VCALENDAR