BEGIN:VCALENDAR
VERSION:2.0
PRODID:-//Invest in Angus - ECPv6.15.17.1//NONSGML v1.0//EN
CALSCALE:GREGORIAN
METHOD:PUBLISH
X-WR-CALNAME:Invest in Angus
X-ORIGINAL-URL:https://investinangus.com
X-WR-CALDESC:Events for Invest in Angus
REFRESH-INTERVAL;VALUE=DURATION:PT1H
X-Robots-Tag:noindex
X-PUBLISHED-TTL:PT1H
BEGIN:VTIMEZONE
TZID:UTC
BEGIN:STANDARD
TZOFFSETFROM:+0000
TZOFFSETTO:+0000
TZNAME:UTC
DTSTART:20240101T000000
END:STANDARD
END:VTIMEZONE
BEGIN:VEVENT
DTSTART;TZID=UTC:20251008T100000
DTEND;TZID=UTC:20251008T120000
DTSTAMP:20260419T180548
CREATED:20250908T161230Z
LAST-MODIFIED:20250908T161230Z
UID:10091935-1759917600-1759924800@investinangus.com
SUMMARY:Bookkeeping essentials
DESCRIPTION:At the end of this session\, you will be able to: \n\nImplement basic bookkeeping skills across your business\nCreate a profit and loss account\nUnderstand what expenses can and cannot be claimed\nUse financial management to increase revenues and profits\nUnderstand capital and revenue costs and how they are treated\n\nYou will also receive a workbook on excel to help you manage and monitor costs and sales.
URL:https://investinangus.com/event/bookkeeping-essentials-34/
CATEGORIES:Finance
END:VEVENT
BEGIN:VEVENT
DTSTART;TZID=UTC:20251008T120000
DTEND;TZID=UTC:20251008T123000
DTSTAMP:20260419T180548
CREATED:20250923T091540Z
LAST-MODIFIED:20250923T091540Z
UID:10092091-1759924800-1759926600@investinangus.com
SUMMARY:Lunch and Learn: Money-saving questions to ask your accountant
DESCRIPTION:Most small business owners only speak to their accountant once a year – when the tax bill lands. By then\, it’s too late to make changes. \nBut if you know the right questions to ask during the year\, you can save money\, improve decision-making and put your business in the best possible position for growth. \nIn this practical 30-minute Lunch and Learn\, award-winning finance trainer Tara Askham will share simple tips to help you stay on top of your cash flow\, understand the key numbers that matter and build the confidence to have better conversations with your accountant. \nTopics covered in this session: \n\nThe key questions to ask your accountant to save money and improve decisions\nThe three essential numbers every business owner should know (and why they matter for loans\, mortgages\, and growth)\nHow to keep on top of your cash flow so there are no surprises
URL:https://investinangus.com/event/lunch-and-learn-money-saving-questions-to-ask-your-accountant/
CATEGORIES:Finance
END:VEVENT
BEGIN:VEVENT
DTSTART;TZID=UTC:20251015T100000
DTEND;TZID=UTC:20251015T120000
DTSTAMP:20260419T180548
CREATED:20250908T161840Z
LAST-MODIFIED:20250908T161840Z
UID:10091939-1760522400-1760529600@investinangus.com
SUMMARY:Business expenses – What can I claim
DESCRIPTION:This webinar focuses on the main areas of spend that many businesses might incur\, and provides a detailed and HMRC backed overview of what can and should be claimed. \nThis webinar will cover: \n\nWhat constitutes a business expense\nThe HMRC rules around business expenses\nWhat you can claim and more importantly what you cannot when submitting an accurate tax return\nThe main expenses that are claimable\, what can be claimed and how they should be calculated
URL:https://investinangus.com/event/business-expenses-what-can-i-claim/
CATEGORIES:Finance
END:VEVENT
BEGIN:VEVENT
DTSTART;TZID=UTC:20251015T120000
DTEND;TZID=UTC:20251015T123000
DTSTAMP:20260419T180548
CREATED:20251008T160423Z
LAST-MODIFIED:20251008T160423Z
UID:10092217-1760529600-1760531400@investinangus.com
SUMMARY:Building a finance stack that grows with your business
DESCRIPTION:Expanding globally starts with the right systems in place. \nMany founders choose low-cost finance tools early on. It works for a while. But as the business grows\, those tools often fall short – leading to messy migrations and delays. \nIn this session\, we’ll hear from Tannah Matus\, CFO at Secret Food Tours. He’ll share how he’s built finance systems that scale\, support global operations and connect smoothly with tools like Xero\, NetSuite and Shopify. \nTannah will also answer questions based on real challenges small businesses face when expanding into new markets – drawing from his own experience and from the wider community. \nIf you’re thinking about growing internationally\, this conversation will help you plan ahead and avoid common roadblocks. \nTopics covered in this session: \n\nThe essential tools for early-stage vs scaling-stage businesses\nHow to avoid painful migrations later on\nReal examples from founders and leaders\nHow Airwallex integrates with accounting and e-commerce software
URL:https://investinangus.com/event/building-a-finance-stack-that-grows-with-your-business/
CATEGORIES:Finance
END:VEVENT
BEGIN:VEVENT
DTSTART;TZID=UTC:20251020T120000
DTEND;TZID=UTC:20251020T140000
DTSTAMP:20260419T180548
CREATED:20250908T162210Z
LAST-MODIFIED:20250908T162210Z
UID:10091943-1760961600-1760968800@investinangus.com
SUMMARY:How to write funding applications
DESCRIPTION:Securing funding can be a game-changer — but writing a strong application takes more than just filling out forms. \nThis webinar will offer tools and insights to help improve your chances of a successful application\, including: \n\nClarifying and communicating your funding need\nBuilding a persuasive business case with clear objectives and costings\nUnderstanding your funder’s priorities and tailoring your language\nPresenting evidence that demonstrates impact and credibility\nAvoiding common mistakes that lead to rejection\nStructuring your application for clarity and relevance
URL:https://investinangus.com/event/how-to-write-funding-applications-9/
CATEGORIES:Finance
END:VEVENT
BEGIN:VEVENT
DTSTART;TZID=UTC:20251022T100000
DTEND;TZID=UTC:20251022T120000
DTSTAMP:20260419T180548
CREATED:20250908T162312Z
LAST-MODIFIED:20250908T162340Z
UID:10091945-1761127200-1761134400@investinangus.com
SUMMARY:Accounting for Limited Companies
DESCRIPTION:This webinar is designed to outline the key accounting and statutory reporting requirements for a limited company and explain the main differences between operating as a sole trader versus a limited company. \nWe’ll cover: \n\nAdvantages and disadvantages of setting up as a limited company\nCompany set-up\nAccounting requirements\nRecord keeping and employing staff\nPaying directors and shareholders\nCorporation Tax\nVAT\nSoftware\nManagement accounts\nIncorporation\n\nBy the end of the webinar you should have a solid basis of deciding if a limited company is the correct structure for your business\, and have an understanding of what is involved in accounting for a limited company.
URL:https://investinangus.com/event/accounting-for-limited-companies/
CATEGORIES:Finance
END:VEVENT
BEGIN:VEVENT
DTSTART;TZID=UTC:20251023T120000
DTEND;TZID=UTC:20251023T123000
DTSTAMP:20260419T180548
CREATED:20251008T160836Z
LAST-MODIFIED:20251008T160836Z
UID:10092224-1761220800-1761222600@investinangus.com
SUMMARY:Lunch and Learn: Understanding your pension ahead of Budget day
DESCRIPTION:Understand your pension now – be ready for Budget day. \nThe Autumn Budget often reshapes pensions\, tax and investments. Knowing exactly what you have today means you can prepare calmly\, without reacting irrationally to headlines or fear. \nTopics covered in this session: \n\nHow pensions really work\nHow much you will need for a comfortable retirement\nThe smartest ways to save using a limited company\nThe role of cash flow modelling in long-term planning
URL:https://investinangus.com/event/lunch-and-learn-understanding-your-pension-ahead-of-budget-day/
CATEGORIES:Finance
END:VEVENT
END:VCALENDAR