BEGIN:VCALENDAR
VERSION:2.0
PRODID:-//Invest in Angus - ECPv6.15.17.1//NONSGML v1.0//EN
CALSCALE:GREGORIAN
METHOD:PUBLISH
X-WR-CALNAME:Invest in Angus
X-ORIGINAL-URL:https://investinangus.com
X-WR-CALDESC:Events for Invest in Angus
REFRESH-INTERVAL;VALUE=DURATION:PT1H
X-Robots-Tag:noindex
X-PUBLISHED-TTL:PT1H
BEGIN:VTIMEZONE
TZID:UTC
BEGIN:STANDARD
TZOFFSETFROM:+0000
TZOFFSETTO:+0000
TZNAME:UTC
DTSTART:20240101T000000
END:STANDARD
END:VTIMEZONE
BEGIN:VEVENT
DTSTART;TZID=UTC:20251103T120000
DTEND;TZID=UTC:20251103T123000
DTSTAMP:20260419T144522
CREATED:20251008T161832Z
LAST-MODIFIED:20251008T161832Z
UID:10092237-1762171200-1762173000@investinangus.com
SUMMARY:Lunch and Learn: How to save cash and carbon
DESCRIPTION:Join us for a practical session with small business energy expert Jon Perks on how to save your business cash and carbon from the outset. \nThe energy market today is fast-moving and finding the right tariff isn’t just about cutting costs – it’s about gaining a real competitive advantage. \nIn this Lunch and Learn\, Jon will explain how to choose the most suitable energy tariff for your small business. \nYou’ll learn how to interpret your energy consumption (with the help of your smart meter) to make small\, simple changes that add up to big savings on both cash and carbon. \nYou’ll leave with actionable tips on saving time\, reducing your bills and shrinking your carbon footprint – all while keeping your business ahead of the curve through the power of data. \nDon’t miss out on this opportunity to learn how smarter energy choices can help your business save cash and carbon\, and grow. \nTopics covered in this session: \n\nHow to pick the right tariff for your business: Why having the right tariff and shifting consumption can save the earth – in more ways than one\nYour energy insights: How to use data from your smart meter to quickly identify where you can cut costs and reduce your carbon footprint\, without taking up valuable time\nActionable tips to save cash and carbon: Walk away with practical\, easy-to-implement tips that will help your business save money and time\, and stay competitive in today’s market
URL:https://investinangus.com/event/lunch-and-learn-how-to-save-cash-and-carbon/
CATEGORIES:Business Planning,Energy,Finance,Green Economy
END:VEVENT
BEGIN:VEVENT
DTSTART;TZID=UTC:20251104T100000
DTEND;TZID=UTC:20251104T120000
DTSTAMP:20260419T144522
CREATED:20251008T100858Z
LAST-MODIFIED:20251008T100858Z
UID:10092154-1762250400-1762257600@investinangus.com
SUMMARY:How to write funding applications
DESCRIPTION:Securing funding can be a game-changer — but writing a strong application takes more than just filling out forms. \nThis webinar will offer tools and insights to help improve your chances of a successful application\, including: \n\nClarifying and communicating your funding need\nBuilding a persuasive business case with clear objectives and costings\nUnderstanding your funder’s priorities and tailoring your language\nPresenting evidence that demonstrates impact and credibility\nAvoiding common mistakes that lead to rejection\nStructuring your application for clarity and relevance
URL:https://investinangus.com/event/how-to-write-funding-applications-10/
CATEGORIES:Finance
END:VEVENT
BEGIN:VEVENT
DTSTART;TZID=UTC:20251105T100000
DTEND;TZID=UTC:20251105T120000
DTSTAMP:20260419T144522
CREATED:20251008T101713Z
LAST-MODIFIED:20251008T101713Z
UID:10092156-1762336800-1762344000@investinangus.com
SUMMARY:Bookkeeping essentials
DESCRIPTION:At the end of this session\, you will be able to: \n\nImplement basic bookkeeping skills across your business\nCreate a profit and loss account\nUnderstand what expenses can and cannot be claimed\nUse financial management to increase revenues and profits\nUnderstand capital and revenue costs and how they are treated\n\nYou will also receive a workbook on excel to help you manage and monitor costs and sales.
URL:https://investinangus.com/event/bookkeeping-essentials-35/
CATEGORIES:Finance
END:VEVENT
BEGIN:VEVENT
DTSTART;TZID=UTC:20251112T100000
DTEND;TZID=UTC:20251112T120000
DTSTAMP:20260419T144522
CREATED:20251008T124506Z
LAST-MODIFIED:20251008T124506Z
UID:10092184-1762941600-1762948800@investinangus.com
SUMMARY:Business expenses – What can I claim?
DESCRIPTION:This webinar focuses on the main areas of spend that many businesses might incur\, and provides a detailed and HMRC backed overview of what can and should be claimed. \nThis webinar will cover: \n\nWhat constitutes a business expense\nThe HMRC rules around business expenses\nWhat you can claim and more importantly what you cannot when submitting an accurate tax return\nThe main expenses that are claimable\, what can be claimed and how they should be calculated
URL:https://investinangus.com/event/business-expenses-what-can-i-claim-2/
CATEGORIES:Finance
END:VEVENT
BEGIN:VEVENT
DTSTART;TZID=UTC:20251113T120000
DTEND;TZID=UTC:20251113T123000
DTSTAMP:20260419T144522
CREATED:20251022T103625Z
LAST-MODIFIED:20251022T103625Z
UID:10092344-1763035200-1763037000@investinangus.com
SUMMARY:Budgeting and forecasting – why it's important for SMEs
DESCRIPTION:Effective budgeting and forecasting can help your small business plan ahead\, stay in control of its finances and make smarter decisions that ultimately lead to growth. \nJoin Alex Sutherland for this insightful webinar exploring the power of effective forecasting and budgeting. \nDiscover how these financial tools not only drive profitability but also bring greater clarity to your business planning. Learn how accurate forecasting can act as an early warning system\, helping you identify when things are off track – so you can respond quickly and confidently. \nKey takeaways from this session: \n\nHow good forecasting and budgeting benefit profitability\nThe clarity it brings to your planning\nHow it helps you spot the early warning signs when things aren’t going to plan
URL:https://investinangus.com/event/budgeting-and-forecasting-why-its-important-for-smes/
CATEGORIES:Finance
END:VEVENT
BEGIN:VEVENT
DTSTART;TZID=UTC:20251119T120000
DTEND;TZID=UTC:20251119T123000
DTSTAMP:20260419T144522
CREATED:20251008T162015Z
LAST-MODIFIED:20251008T162015Z
UID:10092240-1763553600-1763555400@investinangus.com
SUMMARY:Boosting your revenue across borders
DESCRIPTION:International expansion isn’t just about logistics – it’s about unlocking new revenue. \nIn this session\, led by our expert speaker Nick Binza\, we’ll explore how founders and operators can tap into cross-border sales opportunities by optimising their e-commerce strategy\, pricing\, localisation and customer experience (CX). \nWhether you’re running a SaaS platform\, an e-commerce brand or a service-based business\, this webinar will help you understand how to convert international interest into sustainable growth. We’ll also show how Airwallex integrates with platforms like Shopify to streamline global payments and reduce friction at checkout. \nTopics covered in this session: \n\nHow to tap into cross-border sales opportunities\nLocalisation tips for payments\, pricing and checkout\nHow to reduce cart abandonment in global markets\nHow Airwallex integrates with Shopify and other platforms to support international growth
URL:https://investinangus.com/event/boosting-your-revenue-across-borders/
CATEGORIES:Exporting,Finance,International Trade
END:VEVENT
BEGIN:VEVENT
DTSTART;TZID=UTC:20251125T130000
DTEND;TZID=UTC:20251125T140000
DTSTAMP:20260419T144522
CREATED:20251117T173545Z
LAST-MODIFIED:20251117T173545Z
UID:10092570-1764075600-1764079200@investinangus.com
SUMMARY:Investment-ready: How to build a business investor's trust
DESCRIPTION:Join Adam Kudryl and Mark Freer as they share practical guidance on creating a business that earns investors’ trust and attracts buyers. \nCombining their 45 years of experience in legal and investment\, they’ll cover the business and legal fundamentals: strong governance\, clear ownership\, shareholder protections and an exit-ready mindset. \nYou’ll learn: \n\nWhat being truly “investor-ready” means\nHow to boost buyer and investor confidence\nThe core qualities investors seek\nHow to prepare your business for investment and exit\nCommon red flags and how to steer clear\nAn investors view on what builds (or erodes) confidence
URL:https://investinangus.com/event/investment-ready-how-to-build-a-business-investors-trust/
CATEGORIES:Business Planning,Finance
END:VEVENT
BEGIN:VEVENT
DTSTART;TZID=UTC:20251126T100000
DTEND;TZID=UTC:20251126T120000
DTSTAMP:20260419T144522
CREATED:20251008T121816Z
LAST-MODIFIED:20251008T121816Z
UID:10092177-1764151200-1764158400@investinangus.com
SUMMARY:Bookkeeping essentials
DESCRIPTION:At the end of this session\, you will be able to: \n\nImplement basic bookkeeping skills across your business\nCreate a profit and loss account\nUnderstand what expenses can and cannot be claimed\nUse financial management to increase revenues and profits\nUnderstand capital and revenue costs and how they are treated\n\nYou will also receive a workbook on excel to help you manage and monitor costs and sales.
URL:https://investinangus.com/event/bookkeeping-essentials-36/
CATEGORIES:Finance
END:VEVENT
BEGIN:VEVENT
DTSTART;TZID=UTC:20251127T120000
DTEND;TZID=UTC:20251127T123000
DTSTAMP:20260419T144522
CREATED:20251117T173851Z
LAST-MODIFIED:20251117T173851Z
UID:10092574-1764244800-1764246600@investinangus.com
SUMMARY:What does the Budget mean for you? | Lunch and Learn
DESCRIPTION:On 26 November\, the Chancellor will deliver her Autumn Budget – but what will it actually mean for you and your business? \nJoin us for an engaging lunchtime session where\, once the dust has settled\, regulated financial adviser Rupert Adams will cut through the jargon and explain the key Budget announcements in plain English. \nRupert will outline what’s changed\, what it means in practice and how it could affect your income\, taxes and business decisions in the year ahead. \nTopics covered in this session: \n\nHow the Budget affects small business owners and self-employed people – from tax thresholds to new incentives and allowances\nWhat the changes could mean for your take-home pay\, cash flow and financial planning
URL:https://investinangus.com/event/what-does-the-budget-mean-for-you-lunch-and-learn/
CATEGORIES:Finance
END:VEVENT
BEGIN:VEVENT
DTSTART;TZID=UTC:20251127T130000
DTEND;TZID=UTC:20251127T140000
DTSTAMP:20260419T144522
CREATED:20251022T103810Z
LAST-MODIFIED:20251022T103810Z
UID:10092347-1764248400-1764252000@investinangus.com
SUMMARY:Supply Connect: How to write and win bids
DESCRIPTION:It’s not just what you say\, it’s how you say it! \nWriting winning bids is an art and a science but one that everyone can master. \nIf you’re good at what you do and there’s demand for your products or services\, this webinar led by Tony Round will help you write bids that make a compelling case for your company to win the business on offer! \nTopics covered in this session: \n\nWhere to start once your bid has landed\nHow to elevate your bids from good to great\nCommon mistakes and pitfalls to avoid when bidding for contracts
URL:https://investinangus.com/event/supply-connect-how-to-write-and-win-bids/
CATEGORIES:Finance
END:VEVENT
END:VCALENDAR