BEGIN:VCALENDAR
VERSION:2.0
PRODID:-//Invest in Angus - ECPv6.15.17.1//NONSGML v1.0//EN
CALSCALE:GREGORIAN
METHOD:PUBLISH
X-ORIGINAL-URL:https://investinangus.com
X-WR-CALDESC:Events for Invest in Angus
REFRESH-INTERVAL;VALUE=DURATION:PT1H
X-Robots-Tag:noindex
X-PUBLISHED-TTL:PT1H
BEGIN:VTIMEZONE
TZID:UTC
BEGIN:STANDARD
TZOFFSETFROM:+0000
TZOFFSETTO:+0000
TZNAME:UTC
DTSTART:20210101T000000
END:STANDARD
END:VTIMEZONE
BEGIN:VEVENT
DTSTART;TZID=UTC:20220126T090000
DTEND;TZID=UTC:20220126T170000
DTSTAMP:20260420T055951
CREATED:20211206T163916Z
LAST-MODIFIED:20211206T163916Z
UID:10083685-1643187600-1643216400@investinangus.com
SUMMARY:Ask an Expert: Tax Surgery
DESCRIPTION:Whatever your tax query our expert is here to help! Lauren will be holding 1-2-1 sessions on Wednesday 26th January. Register for your pre-booked zoom appointment. \nWith over 20 years experience working in accountancy\, Lauren was previously employed as a Senior Tax Manager at Scotland’s largest firm of independent chartered accountants\, Johnston Carmichael. \nSo whether you’d like to know what business expenses you can claim\, if you should register as a limited company\, or how to calculate your tax\, no query is too big or too small! Please note these appointments are for Dundee\, Angus and Perth based businesses.
URL:https://investinangus.com/event/ask-an-expert-tax-surgery-2/
CATEGORIES:Finance
END:VEVENT
END:VCALENDAR