BEGIN:VCALENDAR
VERSION:2.0
PRODID:-//Invest in Angus - ECPv6.15.17.1//NONSGML v1.0//EN
CALSCALE:GREGORIAN
METHOD:PUBLISH
X-WR-CALNAME:Invest in Angus
X-ORIGINAL-URL:https://investinangus.com
X-WR-CALDESC:Events for Invest in Angus
REFRESH-INTERVAL;VALUE=DURATION:PT1H
X-Robots-Tag:noindex
X-PUBLISHED-TTL:PT1H
BEGIN:VTIMEZONE
TZID:UTC
BEGIN:STANDARD
TZOFFSETFROM:+0000
TZOFFSETTO:+0000
TZNAME:UTC
DTSTART:20210101T000000
END:STANDARD
END:VTIMEZONE
BEGIN:VEVENT
DTSTART;TZID=UTC:20220127T180000
DTEND;TZID=UTC:20220127T200000
DTSTAMP:20260420T002812
CREATED:20220110T110839Z
LAST-MODIFIED:20220110T110839Z
UID:10083878-1643306400-1643313600@investinangus.com
SUMMARY:Routes to Funding
DESCRIPTION:There’s a choice of funding options out there for businesses and the self-employed\, but how do you know which is right for you? GrowBiz and Business Gateway are bringing together a panel of expert speakers to discuss the different funding formats available to you and your business. We’ll discuss the pros and cons\, the application processes\, and introduce you to some helpful contacts. Following the presentations\, there will be breakout rooms which will give attendees a chance to network and ask questions. \nThe funding options we’ll discuss are: \n\nCrowdfunding – and additional funding available from Perth and Kinross Council\nLoans – from DSL\nGrants – we’ll hear from Perth and Kinross Council’s Economic Development Team\nAngel Investment – specifically Perth and Kinross Council’s Angel’s Share scheme\n\nJoin us to find out more and to meet some like minded businesses for informal networking. This is an ideal opportunity to get into the swing of 2022 and start the year with some great ideas from friendly faces.
URL:https://investinangus.com/event/routes-to-funding/
CATEGORIES:Finance
END:VEVENT
END:VCALENDAR