BEGIN:VCALENDAR
VERSION:2.0
PRODID:-//Invest in Angus - ECPv6.15.17.1//NONSGML v1.0//EN
CALSCALE:GREGORIAN
METHOD:PUBLISH
X-WR-CALNAME:Invest in Angus
X-ORIGINAL-URL:https://investinangus.com
X-WR-CALDESC:Events for Invest in Angus
REFRESH-INTERVAL;VALUE=DURATION:PT1H
X-Robots-Tag:noindex
X-PUBLISHED-TTL:PT1H
BEGIN:VTIMEZONE
TZID:UTC
BEGIN:STANDARD
TZOFFSETFROM:+0000
TZOFFSETTO:+0000
TZNAME:UTC
DTSTART:20210101T000000
END:STANDARD
END:VTIMEZONE
BEGIN:VEVENT
DTSTART;TZID=UTC:20220314T180000
DTEND;TZID=UTC:20220314T200000
DTSTAMP:20260419T204322
CREATED:20211220T162102Z
LAST-MODIFIED:20211220T162102Z
UID:10083818-1647280800-1647288000@investinangus.com
SUMMARY:Business Start-Up: Finance
DESCRIPTION:The workshop will look at: \n\nmanaging a profit and loss account\nproducing a cashflow statement\nworking capital\nthe different sources of finance\nthe different legal structures of a business
URL:https://investinangus.com/event/business-start-up-finance-18/
CATEGORIES:Business Start-up,Finance
END:VEVENT
END:VCALENDAR