BEGIN:VCALENDAR
VERSION:2.0
PRODID:-//Invest in Angus - ECPv6.15.17.1//NONSGML v1.0//EN
CALSCALE:GREGORIAN
METHOD:PUBLISH
X-WR-CALNAME:Invest in Angus
X-ORIGINAL-URL:https://investinangus.com
X-WR-CALDESC:Events for Invest in Angus
REFRESH-INTERVAL;VALUE=DURATION:PT1H
X-Robots-Tag:noindex
X-PUBLISHED-TTL:PT1H
BEGIN:VTIMEZONE
TZID:UTC
BEGIN:STANDARD
TZOFFSETFROM:+0000
TZOFFSETTO:+0000
TZNAME:UTC
DTSTART:20240101T000000
END:STANDARD
END:VTIMEZONE
BEGIN:VEVENT
DTSTART;TZID=UTC:20250116T100000
DTEND;TZID=UTC:20250116T120000
DTSTAMP:20260419T204239
CREATED:20241125T091343Z
LAST-MODIFIED:20241125T091343Z
UID:10090354-1737021600-1737028800@investinangus.com
SUMMARY:Unlocking the power of crowdfunding
DESCRIPTION:This webinar will equip businesses with the knowledge and strategies to effectively leverage crowdfunding for growth and success. \nWe’ll cover: \n\nUnderstanding your funding audience\nCrowdfunding success stories\nThe impact of a successful campaign\nThe opportunity presented by patronage models\nEssential elements of a winning crowdfunding campaign\nBuilding a crowdfunding culture\nCrowdfunding myths and realities\nStrategies for success\n\nBy the end of this webinar\, you will have a comprehensive understanding of crowdfunding and patronage/membership models\, actionable strategies to launch a successful campaign and the confidence to take your organisation to new heights through crowdfunding.
URL:https://investinangus.com/event/unlocking-the-power-of-crowdfunding-3/
CATEGORIES:Finance
END:VEVENT
END:VCALENDAR