BEGIN:VCALENDAR
VERSION:2.0
PRODID:-//Invest in Angus - ECPv6.15.17.1//NONSGML v1.0//EN
CALSCALE:GREGORIAN
METHOD:PUBLISH
X-WR-CALNAME:Invest in Angus
X-ORIGINAL-URL:https://investinangus.com
X-WR-CALDESC:Events for Invest in Angus
REFRESH-INTERVAL;VALUE=DURATION:PT1H
X-Robots-Tag:noindex
X-PUBLISHED-TTL:PT1H
BEGIN:VTIMEZONE
TZID:UTC
BEGIN:STANDARD
TZOFFSETFROM:+0000
TZOFFSETTO:+0000
TZNAME:UTC
DTSTART:20240101T000000
END:STANDARD
END:VTIMEZONE
BEGIN:VEVENT
DTSTART;TZID=UTC:20250303T100000
DTEND;TZID=UTC:20250303T120000
DTSTAMP:20260420T003431
CREATED:20250120T175056Z
LAST-MODIFIED:20250120T175056Z
UID:10090570-1740996000-1741003200@investinangus.com
SUMMARY:How to write funding applications
DESCRIPTION:When submitting applications for funding\, you need to ensure that the applications are written in such a way that improves your chances of being successful. \nThere are numerous funders out there and each will have their unique way they wish you to apply\, however\, in this webinar we’ll explore some key steps you can take to improve your chances of a successful application\, including: \n\nClarifying your need\n\n\nDemonstrating your needs\n\n\nUnderstanding your funder\n\n\nHow to speak their language\n\n\nGetting the basics right\n\n\nOvercoming the common mistakes\n\n\nAnswering the questions asked
URL:https://investinangus.com/event/how-to-write-funding-applications-3/
CATEGORIES:Finance
END:VEVENT
END:VCALENDAR