BEGIN:VCALENDAR
VERSION:2.0
PRODID:-//Invest in Angus - ECPv6.15.17.1//NONSGML v1.0//EN
CALSCALE:GREGORIAN
METHOD:PUBLISH
X-ORIGINAL-URL:https://investinangus.com
X-WR-CALDESC:Events for Invest in Angus
REFRESH-INTERVAL;VALUE=DURATION:PT1H
X-Robots-Tag:noindex
X-PUBLISHED-TTL:PT1H
BEGIN:VTIMEZONE
TZID:UTC
BEGIN:STANDARD
TZOFFSETFROM:+0000
TZOFFSETTO:+0000
TZNAME:UTC
DTSTART:20240101T000000
END:STANDARD
END:VTIMEZONE
BEGIN:VEVENT
DTSTART;TZID=UTC:20250311T093000
DTEND;TZID=UTC:20250311T110000
DTSTAMP:20260420T003748
CREATED:20250217T112313Z
LAST-MODIFIED:20250217T112313Z
UID:10090744-1741685400-1741690800@investinangus.com
SUMMARY:Cashflow Management
DESCRIPTION:During this session we’ll help you to figure out the ins and outs of working with a cashflow and how it can help you manage your projected income and expenditure over a given period of time. \nThis is a critical area for most small businesses. Knowing your numbers can really help you to plan how your business runs and grows. \nWe’ll look at a variety of things that can help you such as: \n\n\nTracking income and expenditure \n\n\nUnderstanding your spending \n\n\nUnderstanding the effect of payment terms \n\n\nPlanning ahead and contingency \n\n\nThis session will be led by GrowBiz Enterprise Facilitators Karen Martin and Ang Laurie. Karen runs her own hospitality business and is also Chair of the Grantown Business Association. Ang has experience within a local Community Action Planning framework and works on our SEED project which offers tailored support for young entrepreneurs and self-employed people in Perth and Kinross.
URL:https://investinangus.com/event/cashflow-management/
CATEGORIES:Finance
END:VEVENT
END:VCALENDAR