BEGIN:VCALENDAR
VERSION:2.0
PRODID:-//Invest in Angus - ECPv6.15.17.1//NONSGML v1.0//EN
CALSCALE:GREGORIAN
METHOD:PUBLISH
X-WR-CALNAME:Invest in Angus
X-ORIGINAL-URL:https://investinangus.com
X-WR-CALDESC:Events for Invest in Angus
REFRESH-INTERVAL;VALUE=DURATION:PT1H
X-Robots-Tag:noindex
X-PUBLISHED-TTL:PT1H
BEGIN:VTIMEZONE
TZID:UTC
BEGIN:STANDARD
TZOFFSETFROM:+0000
TZOFFSETTO:+0000
TZNAME:UTC
DTSTART:20240101T000000
END:STANDARD
END:VTIMEZONE
BEGIN:VEVENT
DTSTART;TZID=UTC:20251015T100000
DTEND;TZID=UTC:20251015T120000
DTSTAMP:20260419T232725
CREATED:20250908T161840Z
LAST-MODIFIED:20250908T161840Z
UID:10091939-1760522400-1760529600@investinangus.com
SUMMARY:Business expenses – What can I claim
DESCRIPTION:This webinar focuses on the main areas of spend that many businesses might incur\, and provides a detailed and HMRC backed overview of what can and should be claimed. \nThis webinar will cover: \n\nWhat constitutes a business expense\nThe HMRC rules around business expenses\nWhat you can claim and more importantly what you cannot when submitting an accurate tax return\nThe main expenses that are claimable\, what can be claimed and how they should be calculated
URL:https://investinangus.com/event/business-expenses-what-can-i-claim/
CATEGORIES:Finance
END:VEVENT
BEGIN:VEVENT
DTSTART;TZID=UTC:20251015T120000
DTEND;TZID=UTC:20251015T123000
DTSTAMP:20260419T232725
CREATED:20251008T160423Z
LAST-MODIFIED:20251008T160423Z
UID:10092217-1760529600-1760531400@investinangus.com
SUMMARY:Building a finance stack that grows with your business
DESCRIPTION:Expanding globally starts with the right systems in place. \nMany founders choose low-cost finance tools early on. It works for a while. But as the business grows\, those tools often fall short – leading to messy migrations and delays. \nIn this session\, we’ll hear from Tannah Matus\, CFO at Secret Food Tours. He’ll share how he’s built finance systems that scale\, support global operations and connect smoothly with tools like Xero\, NetSuite and Shopify. \nTannah will also answer questions based on real challenges small businesses face when expanding into new markets – drawing from his own experience and from the wider community. \nIf you’re thinking about growing internationally\, this conversation will help you plan ahead and avoid common roadblocks. \nTopics covered in this session: \n\nThe essential tools for early-stage vs scaling-stage businesses\nHow to avoid painful migrations later on\nReal examples from founders and leaders\nHow Airwallex integrates with accounting and e-commerce software
URL:https://investinangus.com/event/building-a-finance-stack-that-grows-with-your-business/
CATEGORIES:Finance
END:VEVENT
END:VCALENDAR