BEGIN:VCALENDAR
VERSION:2.0
PRODID:-//Invest in Angus - ECPv6.15.17.1//NONSGML v1.0//EN
CALSCALE:GREGORIAN
METHOD:PUBLISH
X-WR-CALNAME:Invest in Angus
X-ORIGINAL-URL:https://investinangus.com
X-WR-CALDESC:Events for Invest in Angus
REFRESH-INTERVAL;VALUE=DURATION:PT1H
X-Robots-Tag:noindex
X-PUBLISHED-TTL:PT1H
BEGIN:VTIMEZONE
TZID:UTC
BEGIN:STANDARD
TZOFFSETFROM:+0000
TZOFFSETTO:+0000
TZNAME:UTC
DTSTART:20240101T000000
END:STANDARD
END:VTIMEZONE
BEGIN:VEVENT
DTSTART;TZID=UTC:20251104T100000
DTEND;TZID=UTC:20251104T120000
DTSTAMP:20260419T181420
CREATED:20251008T100858Z
LAST-MODIFIED:20251008T100858Z
UID:10092154-1762250400-1762257600@investinangus.com
SUMMARY:How to write funding applications
DESCRIPTION:Securing funding can be a game-changer — but writing a strong application takes more than just filling out forms. \nThis webinar will offer tools and insights to help improve your chances of a successful application\, including: \n\nClarifying and communicating your funding need\nBuilding a persuasive business case with clear objectives and costings\nUnderstanding your funder’s priorities and tailoring your language\nPresenting evidence that demonstrates impact and credibility\nAvoiding common mistakes that lead to rejection\nStructuring your application for clarity and relevance
URL:https://investinangus.com/event/how-to-write-funding-applications-10/
CATEGORIES:Finance
END:VEVENT
END:VCALENDAR