BEGIN:VCALENDAR
VERSION:2.0
PRODID:-//Invest in Angus - ECPv6.15.17.1//NONSGML v1.0//EN
CALSCALE:GREGORIAN
METHOD:PUBLISH
X-WR-CALNAME:Invest in Angus
X-ORIGINAL-URL:https://investinangus.com
X-WR-CALDESC:Events for Invest in Angus
REFRESH-INTERVAL;VALUE=DURATION:PT1H
X-Robots-Tag:noindex
X-PUBLISHED-TTL:PT1H
BEGIN:VTIMEZONE
TZID:UTC
BEGIN:STANDARD
TZOFFSETFROM:+0000
TZOFFSETTO:+0000
TZNAME:UTC
DTSTART:20240101T000000
END:STANDARD
END:VTIMEZONE
BEGIN:VEVENT
DTSTART;TZID=UTC:20251125T130000
DTEND;TZID=UTC:20251125T140000
DTSTAMP:20260419T181521
CREATED:20251117T173545Z
LAST-MODIFIED:20251117T173545Z
UID:10092570-1764075600-1764079200@investinangus.com
SUMMARY:Investment-ready: How to build a business investor's trust
DESCRIPTION:Join Adam Kudryl and Mark Freer as they share practical guidance on creating a business that earns investors’ trust and attracts buyers. \nCombining their 45 years of experience in legal and investment\, they’ll cover the business and legal fundamentals: strong governance\, clear ownership\, shareholder protections and an exit-ready mindset. \nYou’ll learn: \n\nWhat being truly “investor-ready” means\nHow to boost buyer and investor confidence\nThe core qualities investors seek\nHow to prepare your business for investment and exit\nCommon red flags and how to steer clear\nAn investors view on what builds (or erodes) confidence
URL:https://investinangus.com/event/investment-ready-how-to-build-a-business-investors-trust/
CATEGORIES:Business Planning,Finance
END:VEVENT
END:VCALENDAR