BEGIN:VCALENDAR
VERSION:2.0
PRODID:-//Invest in Angus - ECPv6.15.17.1//NONSGML v1.0//EN
CALSCALE:GREGORIAN
METHOD:PUBLISH
X-ORIGINAL-URL:https://investinangus.com
X-WR-CALDESC:Events for Invest in Angus
REFRESH-INTERVAL;VALUE=DURATION:PT1H
X-Robots-Tag:noindex
X-PUBLISHED-TTL:PT1H
BEGIN:VTIMEZONE
TZID:UTC
BEGIN:STANDARD
TZOFFSETFROM:+0000
TZOFFSETTO:+0000
TZNAME:UTC
DTSTART:20240101T000000
END:STANDARD
END:VTIMEZONE
BEGIN:VEVENT
DTSTART;TZID=UTC:20251201T120000
DTEND;TZID=UTC:20251201T123000
DTSTAMP:20260419T145031
CREATED:20251117T174017Z
LAST-MODIFIED:20251117T174017Z
UID:10092576-1764590400-1764592200@investinangus.com
SUMMARY:Accounting and tax advice for small businesses | Lunch and Learn
DESCRIPTION:Starting or running a business can feel overwhelming\, especially when it comes to understanding your finances\, taxes and compliance responsibilities. \nIn this practical webinar led by Reda Vaisvidiene\, you’ll learn how to build a strong financial foundation for your business and avoid some of the most common mistakes new entrepreneurs make. \nTopics covered in this session: \n\nWhy record-keeping is so important\nTypes of taxes – income\, corporation\, VAT\, PAYE\nProfit ≠ cash
URL:https://investinangus.com/event/accounting-and-tax-advice-for-small-businesses-lunch-and-learn/
CATEGORIES:Business Start-up,Finance
END:VEVENT
BEGIN:VEVENT
DTSTART;TZID=UTC:20251201T120000
DTEND;TZID=UTC:20251201T140000
DTSTAMP:20260419T145031
CREATED:20251022T091638Z
LAST-MODIFIED:20251022T091638Z
UID:10092263-1764590400-1764597600@investinangus.com
SUMMARY:How To Write Funding Applications
DESCRIPTION:Securing funding can be a game-changer — but writing a strong application takes more than just filling out forms. \nThis webinar will offer tools and insights to help improve your chances of a successful application\, including: \n\nClarifying and communicating your funding need\nBuilding a persuasive business case with clear objectives and costings\nUnderstanding your funder’s priorities and tailoring your language\nPresenting evidence that demonstrates impact and credibility\nAvoiding common mistakes that lead to rejection\nStructuring your application for clarity and relevance
URL:https://investinangus.com/event/how-to-write-funding-applications-11/
CATEGORIES:Finance
END:VEVENT
END:VCALENDAR