BEGIN:VCALENDAR
VERSION:2.0
PRODID:-//Invest in Angus - ECPv6.15.17.1//NONSGML v1.0//EN
CALSCALE:GREGORIAN
METHOD:PUBLISH
X-WR-CALNAME:Invest in Angus
X-ORIGINAL-URL:https://investinangus.com
X-WR-CALDESC:Events for Invest in Angus
REFRESH-INTERVAL;VALUE=DURATION:PT1H
X-Robots-Tag:noindex
X-PUBLISHED-TTL:PT1H
BEGIN:VTIMEZONE
TZID:UTC
BEGIN:STANDARD
TZOFFSETFROM:+0000
TZOFFSETTO:+0000
TZNAME:UTC
DTSTART:20250101T000000
END:STANDARD
END:VTIMEZONE
BEGIN:VEVENT
DTSTART;TZID=UTC:20260129T103000
DTEND;TZID=UTC:20260129T113000
DTSTAMP:20260419T224429
CREATED:20260105T133345Z
LAST-MODIFIED:20260105T133345Z
UID:10092902-1769682600-1769686200@investinangus.com
SUMMARY:Communicating recycling best practice for behaviour change
DESCRIPTION:Join Zero Waste Scotland for a webinar exploring best practice in recycling communications\, drawing on two major research reports: \n\nHousehold Recycling Charter Code of Practice Communications Review – insights from local authority workshops and case studies on what works (and what doesn’t) when communicating service changes\, disruptions\, and contamination.\nPromoting Household Recycling: Local Authority Communications Best Practice – strategic recommendations on behaviour change models\, media mixes\, and using the national Recycle for Scotland brand.
URL:https://investinangus.com/event/communicating-recycling-best-practice-for-behaviour-change/
CATEGORIES:Communication,Green Economy
END:VEVENT
END:VCALENDAR