BEGIN:VCALENDAR
VERSION:2.0
PRODID:-//Invest in Angus - ECPv6.15.17.1//NONSGML v1.0//EN
CALSCALE:GREGORIAN
METHOD:PUBLISH
X-ORIGINAL-URL:https://investinangus.com
X-WR-CALDESC:Events for Invest in Angus
REFRESH-INTERVAL;VALUE=DURATION:PT1H
X-Robots-Tag:noindex
X-PUBLISHED-TTL:PT1H
BEGIN:VTIMEZONE
TZID:UTC
BEGIN:STANDARD
TZOFFSETFROM:+0000
TZOFFSETTO:+0000
TZNAME:UTC
DTSTART:20240101T000000
END:STANDARD
END:VTIMEZONE
BEGIN:VEVENT
DTSTART;TZID=UTC:20250326T090000
DTEND;TZID=UTC:20250326T190000
DTSTAMP:20260420T232833
CREATED:20250203T100741Z
LAST-MODIFIED:20250203T100741Z
UID:10090700-1742979600-1743015600@investinangus.com
SUMMARY:Clean Heat 2025
DESCRIPTION:The Clean Heat event is dedicated to the delivery of clean\, renewable heat to buildings in Scotland. It brings together public\, private\, and third-sector organisations to share their knowledge and expertise of the sector. \nIts purpose is to generate interest in the clean heat supply chain by showcasing the opportunities that exist within it. \nThe event will also address the barriers to Scotland’s heat decarbonisation targets and look at how we can overcome them. \nWe’re looking for a broad range of attendees\, including: \n\nSmall and medium-sized enterprises that are already in\, or looking to enter\, the clean heat supply chain and are based in Scotland\nLocal authorities\nNew-build developers\nKey industry organisations\nInvestors\nAcademics\, innovation centres\, and Catapults\nUtility providers\nFirst mover organisations – registered social landlords\, public sector bodies\, private landlords\, and social housing organisations
URL:https://investinangus.com/event/clean-heat-2025/
LOCATION:DoubleTree by Hilton Hotel Glasgow Central\, 36 Cambridge Street\, Glasgow\, G2 3HN
CATEGORIES:Energy,Green Economy,Sustainable/Circular Economy
END:VEVENT
END:VCALENDAR