BEGIN:VCALENDAR
VERSION:2.0
PRODID:-//Invest in Angus - ECPv6.15.17.1//NONSGML v1.0//EN
CALSCALE:GREGORIAN
METHOD:PUBLISH
X-ORIGINAL-URL:https://investinangus.com
X-WR-CALDESC:Events for Invest in Angus
REFRESH-INTERVAL;VALUE=DURATION:PT1H
X-Robots-Tag:noindex
X-PUBLISHED-TTL:PT1H
BEGIN:VTIMEZONE
TZID:UTC
BEGIN:STANDARD
TZOFFSETFROM:+0000
TZOFFSETTO:+0000
TZNAME:UTC
DTSTART:20240101T000000
END:STANDARD
END:VTIMEZONE
BEGIN:VEVENT
DTSTART;TZID=UTC:20250826T100000
DTEND;TZID=UTC:20250826T110000
DTSTAMP:20260418T203826
CREATED:20250623T094458Z
LAST-MODIFIED:20250623T094458Z
UID:10091459-1756202400-1756206000@investinangus.com
SUMMARY:How Leaders Learn Leadership
DESCRIPTION:Join this webinar to learn how leaders learn leadership. \nYou’ll leave with practical\, research-based insights that: \n\nShow how your own experiences can help you understand your leadership strengths\nIntroduce strategies leaders use to enhance their learning\nBuild your understanding of the skills leaders see as essential to developing their practice\n\nLed by Professor Carole Elliott from the University of St Andrews Business School\, the session draws on the latest research and real-world examples. It explores how leaders use their unique environments to grow their leadership practice. \nYou’ll come away with clear\, actionable strategies to help you reflect on your own approach to leadership.
URL:https://investinangus.com/event/how-leaders-learn-leadership/
CATEGORIES:Business Planning,HR
END:VEVENT
BEGIN:VEVENT
DTSTART;TZID=UTC:20250826T100000
DTEND;TZID=UTC:20250826T120000
DTSTAMP:20260418T203826
CREATED:20250623T091539Z
LAST-MODIFIED:20250623T091539Z
UID:10091437-1756202400-1756209600@investinangus.com
SUMMARY:Finding\, keeping and looking after your staff
DESCRIPTION:One of the most daunting challenges a business can face is the process of hiring employees\, interviewing\, payroll\, pensions\, contracts\, remote working and more\, it is a minefield for the business owner. \nThis webinar will allow you to have the key information in your possession to take on staff and look after your team. \nWe’ll cover: \n\nFinding\, keeping and looking after your staff\nAttracting and recruiting the best people for your business\nYour obligations as employers\nHow to retain staff members\nMoving on\nDismissal\nRestructure/Redundancy\n\nWe will also look at: \n\nHow in the current climate you can manage staff and teams in a remote environment\, considering their productivity\, efficiency\, and the issues of home working\nHow you can best manage staff to ensure productivity is kept and mental health is supported\nThe impact of companies who may be considering restructuring and therefore redundancy for the first time and how that can be managed
URL:https://investinangus.com/event/finding-keeping-and-looking-after-your-staff-13/
CATEGORIES:HR,Recruitment
END:VEVENT
END:VCALENDAR