BEGIN:VCALENDAR
VERSION:2.0
PRODID:-//Invest in Angus - ECPv6.15.17.1//NONSGML v1.0//EN
CALSCALE:GREGORIAN
METHOD:PUBLISH
X-ORIGINAL-URL:https://investinangus.com
X-WR-CALDESC:Events for Invest in Angus
REFRESH-INTERVAL;VALUE=DURATION:PT1H
X-Robots-Tag:noindex
X-PUBLISHED-TTL:PT1H
BEGIN:VTIMEZONE
TZID:UTC
BEGIN:STANDARD
TZOFFSETFROM:+0000
TZOFFSETTO:+0000
TZNAME:UTC
DTSTART:20240101T000000
END:STANDARD
END:VTIMEZONE
BEGIN:VEVENT
DTSTART;TZID=UTC:20250917T130000
DTEND;TZID=UTC:20250917T140000
DTSTAMP:20260418T193555
CREATED:20250829T134633Z
LAST-MODIFIED:20250829T134633Z
UID:10091887-1758114000-1758117600@investinangus.com
SUMMARY:Navigating the New Skilled Worker Salary Rules
DESCRIPTION:Hosted by Scotland’s Migration Service\, this free webinar will help employers in Scotland understand the changes made to the Skilled Worker visa route in July 2025. \nYou will hear from legal experts on how these changes affect recruitment and how your organisation can continue to access skilled international talent. \nThis session will offer practical\, legally informed guidance on: \n\nSponsoring international workers under the new Skilled Worker visa rules\nUnderstanding the revised list of eligible occupations\nMeeting new salary thresholds\nAdapting your workforce strategy in response to UK-wide policy changes
URL:https://investinangus.com/event/navigating-the-new-skilled-worker-salary-rules/
CATEGORIES:HR,Recruitment
END:VEVENT
END:VCALENDAR