BEGIN:VCALENDAR
VERSION:2.0
PRODID:-//Invest in Angus - ECPv6.15.17.1//NONSGML v1.0//EN
CALSCALE:GREGORIAN
METHOD:PUBLISH
X-ORIGINAL-URL:https://investinangus.com
X-WR-CALDESC:Events for Invest in Angus
REFRESH-INTERVAL;VALUE=DURATION:PT1H
X-Robots-Tag:noindex
X-PUBLISHED-TTL:PT1H
BEGIN:VTIMEZONE
TZID:UTC
BEGIN:STANDARD
TZOFFSETFROM:+0000
TZOFFSETTO:+0000
TZNAME:UTC
DTSTART:20240101T000000
END:STANDARD
END:VTIMEZONE
BEGIN:VEVENT
DTSTART;TZID=UTC:20250925T120000
DTEND;TZID=UTC:20250925T130000
DTSTAMP:20260420T134055
CREATED:20250825T145216Z
LAST-MODIFIED:20250825T145216Z
UID:10091826-1758801600-1758805200@investinangus.com
SUMMARY:Managing people\, growing agritourism: Performance and Discipline
DESCRIPTION:Employment Law and Human Resource Management Expert\, Sophie Henderson of Greenburn will take us through an overview of how to use performance management effectively with your staff to ensure best outcomes. Sophie will also provide information on what to do when things go wrong with insights into the disciplinary process. \nIf you have specific questions or case studies\, it would be great to hear from you in advance and Sophie can answer your questions on the day.
URL:https://investinangus.com/event/managing-people-growing-agritourism-performance-and-discipline/
CATEGORIES:HR,Tourism
END:VEVENT
END:VCALENDAR