BEGIN:VCALENDAR
VERSION:2.0
PRODID:-//Invest in Angus - ECPv6.15.17.1//NONSGML v1.0//EN
CALSCALE:GREGORIAN
METHOD:PUBLISH
X-WR-CALNAME:Invest in Angus
X-ORIGINAL-URL:https://investinangus.com
X-WR-CALDESC:Events for Invest in Angus
REFRESH-INTERVAL;VALUE=DURATION:PT1H
X-Robots-Tag:noindex
X-PUBLISHED-TTL:PT1H
BEGIN:VTIMEZONE
TZID:UTC
BEGIN:STANDARD
TZOFFSETFROM:+0000
TZOFFSETTO:+0000
TZNAME:UTC
DTSTART:20240101T000000
END:STANDARD
END:VTIMEZONE
BEGIN:VEVENT
DTSTART;TZID=UTC:20251114T120000
DTEND;TZID=UTC:20251114T123000
DTSTAMP:20260420T115150
CREATED:20251105T150918Z
LAST-MODIFIED:20251105T150918Z
UID:10092424-1763121600-1763123400@investinangus.com
SUMMARY:Building a balanced team | Lunch and Learn
DESCRIPTION:Teams don’t always work well and a ‘balanced’ team can be more productive. \nIn this session\, Stephen Tunnicliffe-Wilson will discuss how different team roles and personalities add value\, and how diverse teams can work well together. \nTopics covered in this session: \n\nHow each person brings different strengths to a team\nWhy we need to understand how our team members (and ourselves!) work best\nWays in which a ‘balanced’ team can be more productive
URL:https://investinangus.com/event/building-a-balanced-team-lunch-and-learn/
CATEGORIES:HR
END:VEVENT
END:VCALENDAR