BEGIN:VCALENDAR
VERSION:2.0
PRODID:-//Invest in Angus - ECPv6.15.17.1//NONSGML v1.0//EN
CALSCALE:GREGORIAN
METHOD:PUBLISH
X-WR-CALNAME:Invest in Angus
X-ORIGINAL-URL:https://investinangus.com
X-WR-CALDESC:Events for Invest in Angus
REFRESH-INTERVAL;VALUE=DURATION:PT1H
X-Robots-Tag:noindex
X-PUBLISHED-TTL:PT1H
BEGIN:VTIMEZONE
TZID:UTC
BEGIN:STANDARD
TZOFFSETFROM:+0000
TZOFFSETTO:+0000
TZNAME:UTC
DTSTART:20240101T000000
END:STANDARD
END:VTIMEZONE
BEGIN:VEVENT
DTSTART;TZID=UTC:20251125T110000
DTEND;TZID=UTC:20251125T120000
DTSTAMP:20260420T115151
CREATED:20251022T094653Z
LAST-MODIFIED:20251022T094653Z
UID:10092307-1764068400-1764072000@investinangus.com
SUMMARY:The skills squeeze: Staying ahead in Scotland’s changing talent landscape
DESCRIPTION:Businesses in Scotland are facing a talent challenge. There’s a demand for new skills but a shrinking talent pool. \nHow can you overcome this? By attracting\, developing\, and retaining your most important resource: your people. \nIn this webinar\, we’ll show you some of the ways you can do just that\, and how Scottish Enterprise can support you. \nWe’ll explore how to tackle both the labour shortage and the skills gap\, as these are two distinct challenges that require different strategies. \nYou’ll hear how inclusive recruitment can unlock hidden talent\, from returners and career changers to those with caring responsibilities or long-term unemployment. \nWe’ll also look at how to future-proof your workforce. As sectors evolve and technology advances\, upskilling becomes essential. Learn how to build pathways for learning across all career stages\, and how AI can be used to enhance – not replace – human expertise.
URL:https://investinangus.com/event/the-skills-squeeze-staying-ahead-in-scotlands-changing-talent-landscape/
CATEGORIES:HR,Recruitment
END:VEVENT
END:VCALENDAR