BEGIN:VCALENDAR
VERSION:2.0
PRODID:-//Invest in Angus - ECPv6.15.17.1//NONSGML v1.0//EN
CALSCALE:GREGORIAN
METHOD:PUBLISH
X-WR-CALNAME:Invest in Angus
X-ORIGINAL-URL:https://investinangus.com
X-WR-CALDESC:Events for Invest in Angus
REFRESH-INTERVAL;VALUE=DURATION:PT1H
X-Robots-Tag:noindex
X-PUBLISHED-TTL:PT1H
BEGIN:VTIMEZONE
TZID:UTC
BEGIN:STANDARD
TZOFFSETFROM:+0000
TZOFFSETTO:+0000
TZNAME:UTC
DTSTART:20240101T000000
END:STANDARD
END:VTIMEZONE
BEGIN:VEVENT
DTSTART;TZID=UTC:20251126T120000
DTEND;TZID=UTC:20251126T123000
DTSTAMP:20260420T115149
CREATED:20251117T173712Z
LAST-MODIFIED:20251117T173712Z
UID:10092572-1764158400-1764160200@investinangus.com
SUMMARY:HR support for small businesses – beyond the basics | Lunch and Learn
DESCRIPTION:There’s lots of support available to start a new business and get the basics in place for employing your first team member(s). But what happens when you need support beyond the basics? \nIn this webinar\, join Rona Loweth to discover how to strengthen your HR practices\, navigate 2025’s evolving workplace trends\, understand key updates from the Employment Rights Bill and discuss the people challenges that matter most to SME employers. \nTopics covered in this session: \n\nGrowing your team – progressing your HR policies\, systems and processes beyond the basics (for example\, policies\, HRIS\, absence and performance management\, defining culture and expectations)\nThe changing world of work – key issues you should pay attention to as a small business employer in 2025 (EDI focus\, flexible working\, employee wellbeing and mental health)\nEmployment Rights Bill – brief highlights and thoughts on how it is evolving\nOpen question session – what people issues keep you awake at night
URL:https://investinangus.com/event/hr-support-for-small-businesses-beyond-the-basics-lunch-and-learn/
CATEGORIES:HR
END:VEVENT
END:VCALENDAR