BEGIN:VCALENDAR
VERSION:2.0
PRODID:-//Invest in Angus - ECPv6.15.17.1//NONSGML v1.0//EN
CALSCALE:GREGORIAN
METHOD:PUBLISH
X-ORIGINAL-URL:https://investinangus.com
X-WR-CALDESC:Events for Invest in Angus
REFRESH-INTERVAL;VALUE=DURATION:PT1H
X-Robots-Tag:noindex
X-PUBLISHED-TTL:PT1H
BEGIN:VTIMEZONE
TZID:UTC
BEGIN:STANDARD
TZOFFSETFROM:+0000
TZOFFSETTO:+0000
TZNAME:UTC
DTSTART:20250101T000000
END:STANDARD
END:VTIMEZONE
BEGIN:VEVENT
DTSTART;TZID=UTC:20260218T110000
DTEND;TZID=UTC:20260218T120000
DTSTAMP:20260420T065717
CREATED:20260119T144503Z
LAST-MODIFIED:20260119T144503Z
UID:10093069-1771412400-1771416000@investinangus.com
SUMMARY:2026 employment law changes: What your business needs to know
DESCRIPTION:Major employment law changes are coming in 2026\, affecting employee rights\, leave\, flexible working and statutory pay. Employers need to understand what’s changing to remain compliant and avoid risk. \nJoin LegalVision’s webinar\, 2026 Employment Law Changes: What Your Business Needs to Know\, with Saeidul Haque (senior associate). \nKey takeaways from this session: \n\nNew unfair dismissal and day-one employment rights\nChanges to leave\, sick pay and flexible working\nStatutory payment increases and compliance risks
URL:https://investinangus.com/event/2026-employment-law-changes-what-your-business-needs-to-know/
CATEGORIES:HR
END:VEVENT
END:VCALENDAR