BEGIN:VCALENDAR
VERSION:2.0
PRODID:-//Invest in Angus - ECPv6.15.17.1//NONSGML v1.0//EN
CALSCALE:GREGORIAN
METHOD:PUBLISH
X-ORIGINAL-URL:https://investinangus.com
X-WR-CALDESC:Events for Invest in Angus
REFRESH-INTERVAL;VALUE=DURATION:PT1H
X-Robots-Tag:noindex
X-PUBLISHED-TTL:PT1H
BEGIN:VTIMEZONE
TZID:UTC
BEGIN:STANDARD
TZOFFSETFROM:+0000
TZOFFSETTO:+0000
TZNAME:UTC
DTSTART:20250101T000000
END:STANDARD
END:VTIMEZONE
BEGIN:VEVENT
DTSTART;TZID=UTC:20260520T093000
DTEND;TZID=UTC:20260520T103000
DTSTAMP:20260419T194359
CREATED:20260119T120727Z
LAST-MODIFIED:20260119T120727Z
UID:10093012-1779269400-1779273000@investinangus.com
SUMMARY:Global Talent Visas for academics & researchers
DESCRIPTION:Scotland’s universities and research institutions attract talented academics and researchers from all over the world. The Global Talent visa offers a highly favourable visa route for academics\, researchers and their families. \nJoin the Immigration team for an in-depth session on the Global Talent visa route.
URL:https://investinangus.com/event/global-talent-visas-for-academics-researchers/
CATEGORIES:HR
END:VEVENT
END:VCALENDAR