BEGIN:VCALENDAR
VERSION:2.0
PRODID:-//Invest in Angus - ECPv6.15.17.1//NONSGML v1.0//EN
CALSCALE:GREGORIAN
METHOD:PUBLISH
X-ORIGINAL-URL:https://investinangus.com
X-WR-CALDESC:Events for Invest in Angus
REFRESH-INTERVAL;VALUE=DURATION:PT1H
X-Robots-Tag:noindex
X-PUBLISHED-TTL:PT1H
BEGIN:VTIMEZONE
TZID:UTC
BEGIN:STANDARD
TZOFFSETFROM:+0000
TZOFFSETTO:+0000
TZNAME:UTC
DTSTART:20250101T000000
END:STANDARD
END:VTIMEZONE
BEGIN:VEVENT
DTSTART;TZID=UTC:20260429T093000
DTEND;TZID=UTC:20260429T103000
DTSTAMP:20260420T203657
CREATED:20260119T120553Z
LAST-MODIFIED:20260119T120553Z
UID:10093010-1777455000-1777458600@investinangus.com
SUMMARY:Immigration Compliance: How professional advisers can support rural businesses
DESCRIPTION:Rural businesses rely on accountants\, insurance brokers and other professional services to deal with all kinds of compliance issues. But immigration compliance often slips through the cracks. With civil penalties now starting at £45\,000 and enforcement action at an all-time high\, it is essential that rural businesses do not get caught out. \nJoin Jacqueline Moore\, Partner in our Immigration team\, and Robin Dunlop\, Partner in our Land & Rural Business team\, to find out how professional service providers can support their rural clients with immigration compliance.
URL:https://investinangus.com/event/immigration-compliance-how-professional-advisers-can-support-rural-businesses/
CATEGORIES:HR
END:VEVENT
BEGIN:VEVENT
DTSTART;TZID=UTC:20260514T093000
DTEND;TZID=UTC:20260514T103000
DTSTAMP:20260420T203657
CREATED:20260219T131021Z
LAST-MODIFIED:20260219T131021Z
UID:10093444-1778751000-1778754600@investinangus.com
SUMMARY:Flexible Working 2026 and Beyond
DESCRIPTION:The world of work has changed substantially in recent years\, due to the changes during and post the Covid pandemic\, the increase in hybrid working and partly because of changing expectations and needs. \nJoin Thorntons Employment team as we look at the current landscape of flexible working and the changes being brought in by the Employment Rights Act 2025.
URL:https://investinangus.com/event/flexible-working-2026-and-beyond/
CATEGORIES:HR
END:VEVENT
BEGIN:VEVENT
DTSTART;TZID=UTC:20260520T093000
DTEND;TZID=UTC:20260520T103000
DTSTAMP:20260420T203657
CREATED:20260119T120727Z
LAST-MODIFIED:20260119T120727Z
UID:10093012-1779269400-1779273000@investinangus.com
SUMMARY:Global Talent Visas for academics & researchers
DESCRIPTION:Scotland’s universities and research institutions attract talented academics and researchers from all over the world. The Global Talent visa offers a highly favourable visa route for academics\, researchers and their families. \nJoin the Immigration team for an in-depth session on the Global Talent visa route.
URL:https://investinangus.com/event/global-talent-visas-for-academics-researchers/
CATEGORIES:HR
END:VEVENT
END:VCALENDAR