BEGIN:VCALENDAR
VERSION:2.0
PRODID:-//Invest in Angus - ECPv6.15.17.1//NONSGML v1.0//EN
CALSCALE:GREGORIAN
METHOD:PUBLISH
X-WR-CALNAME:Invest in Angus
X-ORIGINAL-URL:https://investinangus.com
X-WR-CALDESC:Events for Invest in Angus
REFRESH-INTERVAL;VALUE=DURATION:PT1H
X-Robots-Tag:noindex
X-PUBLISHED-TTL:PT1H
BEGIN:VTIMEZONE
TZID:UTC
BEGIN:STANDARD
TZOFFSETFROM:+0000
TZOFFSETTO:+0000
TZNAME:UTC
DTSTART:20220101T000000
END:STANDARD
END:VTIMEZONE
BEGIN:VEVENT
DTSTART;TZID=UTC:20230511T100000
DTEND;TZID=UTC:20230511T110000
DTSTAMP:20260420T052039
CREATED:20230410T094135Z
LAST-MODIFIED:20230410T094135Z
UID:10087059-1683799200-1683802800@investinangus.com
SUMMARY:Email Marketing Tools To Enhance Your International E-Commerce
DESCRIPTION:Engaging with customers starts by understanding their needs and wants. This webinar offers an approach that empowers businesses to truly connect – and better serve. Gain insight into who your customers are\, take actionable steps towards building a lasting relationship. Now is the time to gain clarity on visible success through meaningful connections. \nAbout the presenter \nBen is an example of how one person can build a business on a laptop\, from a cupboard\, in their spare time: growing this into an international 7 figure business within 3 years. He provides both inspiration and guidance to the next generation of young entrepreneurs who want to see their businesses reach new heights. Recognised in 2019 as one of Scotland’s Emerging Entrepreneurs of the Year\, Ben’s prepared to share the recipe for his success with other ambitious Scottish businesses.
URL:https://investinangus.com/event/email-marketing-tools-to-enhance-your-international-e-commerce/
CATEGORIES:Digital Marketing,International Trade
END:VEVENT
END:VCALENDAR