BEGIN:VCALENDAR
VERSION:2.0
PRODID:-//Invest in Angus - ECPv6.15.17.1//NONSGML v1.0//EN
CALSCALE:GREGORIAN
METHOD:PUBLISH
X-WR-CALNAME:Invest in Angus
X-ORIGINAL-URL:https://investinangus.com
X-WR-CALDESC:Events for Invest in Angus
REFRESH-INTERVAL;VALUE=DURATION:PT1H
X-Robots-Tag:noindex
X-PUBLISHED-TTL:PT1H
BEGIN:VTIMEZONE
TZID:UTC
BEGIN:STANDARD
TZOFFSETFROM:+0000
TZOFFSETTO:+0000
TZNAME:UTC
DTSTART:20210101T000000
END:STANDARD
END:VTIMEZONE
BEGIN:VEVENT
DTSTART;TZID=UTC:20220426T140000
DTEND;TZID=UTC:20220426T160000
DTSTAMP:20260420T170739
CREATED:20220321T104347Z
LAST-MODIFIED:20220321T104347Z
UID:10084328-1650981600-1650988800@investinangus.com
SUMMARY:Intellectual property: The fundamentals for business
DESCRIPTION:You have invested time\, energy and money into your project\, however\, have you protected the innovation? \nFollowing this webinar\, you will understand how to manage your intellectual property (IP) or how to start the process of registering it. \nTopics covered include: \n\nWhat is IP?\nCan you own IP?\nHow can IP be protected?\nWhat is the difference between intellectual and physical assets?
URL:https://investinangus.com/event/intellectual-property-the-fundamentals-for-business-9/
CATEGORIES:Legislation
END:VEVENT
END:VCALENDAR