BEGIN:VCALENDAR
VERSION:2.0
PRODID:-//Invest in Angus - ECPv6.15.17.1//NONSGML v1.0//EN
CALSCALE:GREGORIAN
METHOD:PUBLISH
X-WR-CALNAME:Invest in Angus
X-ORIGINAL-URL:https://investinangus.com
X-WR-CALDESC:Events for Invest in Angus
REFRESH-INTERVAL;VALUE=DURATION:PT1H
X-Robots-Tag:noindex
X-PUBLISHED-TTL:PT1H
BEGIN:VTIMEZONE
TZID:UTC
BEGIN:STANDARD
TZOFFSETFROM:+0000
TZOFFSETTO:+0000
TZNAME:UTC
DTSTART:20210101T000000
END:STANDARD
END:VTIMEZONE
BEGIN:VEVENT
DTSTART;TZID=UTC:20220622T093000
DTEND;TZID=UTC:20220622T103000
DTSTAMP:20260420T133037
CREATED:20220601T142424Z
LAST-MODIFIED:20220601T142424Z
UID:10084798-1655890200-1655893800@investinangus.com
SUMMARY:Get it right with image copyright
DESCRIPTION:Discover how to protect yourself when using images online. \nThis national webinar is designed to look at the perils of using images online\, and how to prevent infringing copyright when you do so. We will also discuss how to handle any claims that you receive from the owners of images or their agents.
URL:https://investinangus.com/event/get-it-right-with-image-copyright/
CATEGORIES:Legislation
END:VEVENT
END:VCALENDAR