BEGIN:VCALENDAR
VERSION:2.0
PRODID:-//Invest in Angus - ECPv6.15.17.1//NONSGML v1.0//EN
CALSCALE:GREGORIAN
METHOD:PUBLISH
X-ORIGINAL-URL:https://investinangus.com
X-WR-CALDESC:Events for Invest in Angus
REFRESH-INTERVAL;VALUE=DURATION:PT1H
X-Robots-Tag:noindex
X-PUBLISHED-TTL:PT1H
BEGIN:VTIMEZONE
TZID:UTC
BEGIN:STANDARD
TZOFFSETFROM:+0000
TZOFFSETTO:+0000
TZNAME:UTC
DTSTART:20220101T000000
END:STANDARD
END:VTIMEZONE
BEGIN:VEVENT
DTSTART;TZID=UTC:20231208T120000
DTEND;TZID=UTC:20231208T140000
DTSTAMP:20260420T141207
CREATED:20231023T142404Z
LAST-MODIFIED:20231023T142404Z
UID:10088127-1702036800-1702044000@investinangus.com
SUMMARY:Build your brand and promotional graphics
DESCRIPTION:This webinar will define what a brand is (and is not) and explain how it is more than just creating a logo. We will explore how a business can use their brand to show its identity\, purpose\, personality\, message\, and values in order to stand out from competitors\, build a loyal customer base and make more sales. \nThis session will: \n\nProvide you with a clear understanding of the difference between brands and branding\nHelp you understand what a brand is\nShow you why branding is important\nLook at your brand strategy\, brand identity and action\nHelp you learn how to develop your brand’s positioning\, character\, and purpose to differentiate your business from its competitors\nDemonstrate how to set up a brand kit and style guide to ensure consistency across websites\, social media\, business cards\, posters etc.\nTeach you how to create simple promotional graphics using a variety of tools including Canva\nHighlight a variety of free tools including Google Drive\, Hubspot and Mailchimp that can save time and simplify marketing tasks
URL:https://investinangus.com/event/build-your-brand-and-promotional-graphics-19/
CATEGORIES:Digital Marketing,Marketing
END:VEVENT
BEGIN:VEVENT
DTSTART;TZID=UTC:20231212T160000
DTEND;TZID=UTC:20231212T180000
DTSTAMP:20260420T141207
CREATED:20231113T131821Z
LAST-MODIFIED:20231113T131821Z
UID:10088194-1702396800-1702404000@investinangus.com
SUMMARY:Kickstart your Marketing
DESCRIPTION:The workshop will cover the basic principles of marketing\, including target audience identification\, competitor analysis\, value proposition\, and the development of marketing strategies. \nThe workshop will also explore the importance of measuring the success of marketing strategies and how adhering to good business practice can positively influence Customer Generated Content \nOverall\, this workshop is ideal for businesses – new and existing – who want to gain a solid understanding of the basics. By the end of the workshop\, you should have the knowledge and skills necessary to develop and execute an effective marketing strategy for your business.
URL:https://investinangus.com/event/kickstart-your-marketing-5/
CATEGORIES:Digital Marketing,Marketing
END:VEVENT
END:VCALENDAR